BEGIN:VCALENDAR
VERSION:2.0
PRODID:-//Island Arts - ECPv6.15.20//NONSGML v1.0//EN
CALSCALE:GREGORIAN
METHOD:PUBLISH
X-WR-CALNAME:Island Arts
X-ORIGINAL-URL:https://www.islandarts.org
X-WR-CALDESC:Events for Island Arts
REFRESH-INTERVAL;VALUE=DURATION:PT1H
X-Robots-Tag:noindex
X-PUBLISHED-TTL:PT1H
BEGIN:VTIMEZONE
TZID:America/New_York
BEGIN:DAYLIGHT
TZOFFSETFROM:-0500
TZOFFSETTO:-0400
TZNAME:EDT
DTSTART:20230312T070000
END:DAYLIGHT
BEGIN:STANDARD
TZOFFSETFROM:-0400
TZOFFSETTO:-0500
TZNAME:EST
DTSTART:20231105T060000
END:STANDARD
BEGIN:DAYLIGHT
TZOFFSETFROM:-0500
TZOFFSETTO:-0400
TZNAME:EDT
DTSTART:20240310T070000
END:DAYLIGHT
BEGIN:STANDARD
TZOFFSETFROM:-0400
TZOFFSETTO:-0500
TZNAME:EST
DTSTART:20241103T060000
END:STANDARD
BEGIN:DAYLIGHT
TZOFFSETFROM:-0500
TZOFFSETTO:-0400
TZNAME:EDT
DTSTART:20250309T070000
END:DAYLIGHT
BEGIN:STANDARD
TZOFFSETFROM:-0400
TZOFFSETTO:-0500
TZNAME:EST
DTSTART:20251102T060000
END:STANDARD
END:VTIMEZONE
BEGIN:VEVENT
DTSTART;TZID=America/New_York:20240621T193000
DTEND;TZID=America/New_York:20240621T203000
DTSTAMP:20260425T115752
CREATED:20230516T195757Z
LAST-MODIFIED:20240511T192638Z
UID:10000195-1718998200-1719001800@www.islandarts.org
SUMMARY:Solstice Gong Sound Immersion
DESCRIPTION:Solstice Gong Sound ImmersionDate/Time: June 21\, 2024\, 7:30-8:30 pm\nLocation: Camp Ingalls Longhouse\, 769 South End Road\, North Hero.\nCost: By Donation \nCelebrate the arrival of the Summer Solstice!  Join Kim Muncil as we acknowledge the time of year when we are blessed with the energy of light\, warmth\, and long days.  To begin\, participants will be guided with some gentle movement and breath work to prepare the body for stillness. Then they will lie on their yoga mat or sit in a chair and let the sounds of the gong wash over them. The gong can trigger a very deep relaxing experience as the body resonates with the frequency of the gong. The session will end with a short meditation to set an intention for this energetic and beautiful time of year.  Limited yoga mats will be available so bring one if you have one. \n(In partnership with North Hero Parks and Recreation and Island Arts) \nRegister NowBACK TO ALL EVENTS
URL:https://www.islandarts.org/event/gong-bath-relaxation-2-2/
LOCATION:1769 South End RD\, North Hero Camp Ingalls\, 1769 South End Road\, North Hero\, VT
CATEGORIES:Classes,Health & Wellness
ATTACH;FMTTYPE=image/jpeg:https://www.islandarts.org/wp-content/uploads/2023/05/Gong-Immersion-Kim-Muncil-1.jpg
END:VEVENT
END:VCALENDAR