BEGIN:VCALENDAR
VERSION:2.0
PRODID:-//Island Arts - ECPv6.15.20//NONSGML v1.0//EN
CALSCALE:GREGORIAN
METHOD:PUBLISH
X-WR-CALNAME:Island Arts
X-ORIGINAL-URL:https://www.islandarts.org
X-WR-CALDESC:Events for Island Arts
REFRESH-INTERVAL;VALUE=DURATION:PT1H
X-Robots-Tag:noindex
X-PUBLISHED-TTL:PT1H
BEGIN:VTIMEZONE
TZID:UTC
BEGIN:STANDARD
TZOFFSETFROM:+0000
TZOFFSETTO:+0000
TZNAME:UTC
DTSTART:20230101T000000
END:STANDARD
END:VTIMEZONE
BEGIN:VEVENT
DTSTART;TZID=UTC:20240714T180000
DTEND;TZID=UTC:20240714T200000
DTSTAMP:20260425T071430
CREATED:20240430T164946Z
LAST-MODIFIED:20240706T175413Z
UID:10000366-1720980000-1720987200@www.islandarts.org
SUMMARY:Bella Voca Band & Dance Party
DESCRIPTION:Bella Voca Band & Dance PartyDate and Time: Sunday\, July 14\, 2024\, 6:00 PM – 8:00 PM\nOutside concert with option to picnic on the green at 5:30\, weather permitting; otherwise\, concert will move inside the barn.\nLocation: Island Arts Center\, 1127 U.S. Rte. 2\, North Hero\nTickets: FREE event due to generous sponsors! \nA vocal powerhouse band of six musicians with three vocalists. Tracy DeCoste\, Brigid Bushey\, Dan Rochester\, Eric McCaughan\, Dale Derusha\, and Mike Trudo deliver great music from all genres. Dance your heart out! Bella Voca plays a great variety of music to please all\, with songs from the Beatles\, Adele\, Fleetwood Mac\, Elton John\, Dua Lipa\, just to name a few. The popular six-piece band performs in upstate NY and Vermont. \nRain or shine. A chair or blanket is suggested. \nBACK TO ALL EVENTS
URL:https://www.islandarts.org/event/bella-voca-band-dance-party-2/
LOCATION:Isle LaMotte Town Hall Community Room\, Isle LaMotte\, VT 05463\, 67 Church St.\, Isle LaMotte\, VT\, 05463\, United States
CATEGORIES:Concerts,Events,Music
END:VEVENT
END:VCALENDAR