BEGIN:VCALENDAR
VERSION:2.0
PRODID:-//Island Arts - ECPv6.15.20//NONSGML v1.0//EN
CALSCALE:GREGORIAN
METHOD:PUBLISH
X-ORIGINAL-URL:https://www.islandarts.org
X-WR-CALDESC:Events for Island Arts
REFRESH-INTERVAL;VALUE=DURATION:PT1H
X-Robots-Tag:noindex
X-PUBLISHED-TTL:PT1H
BEGIN:VTIMEZONE
TZID:America/New_York
BEGIN:DAYLIGHT
TZOFFSETFROM:-0500
TZOFFSETTO:-0400
TZNAME:EDT
DTSTART:20230312T070000
END:DAYLIGHT
BEGIN:STANDARD
TZOFFSETFROM:-0400
TZOFFSETTO:-0500
TZNAME:EST
DTSTART:20231105T060000
END:STANDARD
BEGIN:DAYLIGHT
TZOFFSETFROM:-0500
TZOFFSETTO:-0400
TZNAME:EDT
DTSTART:20240310T070000
END:DAYLIGHT
BEGIN:STANDARD
TZOFFSETFROM:-0400
TZOFFSETTO:-0500
TZNAME:EST
DTSTART:20241103T060000
END:STANDARD
BEGIN:DAYLIGHT
TZOFFSETFROM:-0500
TZOFFSETTO:-0400
TZNAME:EDT
DTSTART:20250309T070000
END:DAYLIGHT
BEGIN:STANDARD
TZOFFSETFROM:-0400
TZOFFSETTO:-0500
TZNAME:EST
DTSTART:20251102T060000
END:STANDARD
END:VTIMEZONE
BEGIN:VEVENT
DTSTART;TZID=America/New_York:20240717T090000
DTEND;TZID=America/New_York:20240717T103000
DTSTAMP:20260425T071515
CREATED:20240502T144854Z
LAST-MODIFIED:20240705T114851Z
UID:10000490-1721206800-1721212200@www.islandarts.org
SUMMARY:Kundalini Yoga
DESCRIPTION:Time: Wednesday mornings 9-10:30\nDate/Location:\nCamp Ingalls:  July 3\, 17\, 24\, 31\, Aug 21\, 28\, Sept 4\nIsland Arts Barn: July 10\, Aug 7\, 14\nCost:  By donation \nJoin Kim Muncil for one or all ten of the Kundalini yoga classes exploring the Yamas and Niyamas. These ten gems of yoga wisdom are beacons to help us integrate the wisdom of yoga off the mat and into our lives in big and little ways. The classes will include a dharma talk\, yoga set\, meditation\, and a gong relaxation.  No experience is necessary.  All are welcome.  Please bring your own yoga mat.  However\, a few will be available for use. \n(In partnership with North Hero Parks and Recreation and Island Arts) \nKim Muncil\nKim is a native of Vermont and returns each summer to North Hero with her husband Bob. She is a 500 hr certified Kundalini Yoga and meditation teacher and a certified Yin Yoga teacher. Her mission is to share the tools of yoga wherever she goes because the practice of yoga (particularly Kundalini Yoga) has had such a positive influence on her life. Prior to retirement Kim taught elementary school for 34 years.
URL:https://www.islandarts.org/event/kundalini-yoga-2/2024-07-17/
LOCATION:1769 South End RD\, North Hero Camp Ingalls\, 1769 South End Road\, North Hero\, VT
CATEGORIES:Classes,Free Classes,Health & Wellness
ATTACH;FMTTYPE=image/jpeg:https://www.islandarts.org/wp-content/uploads/2022/04/yoga5.jpg
END:VEVENT
END:VCALENDAR