BEGIN:VCALENDAR
VERSION:2.0
PRODID:-//Island Arts - ECPv6.15.20//NONSGML v1.0//EN
CALSCALE:GREGORIAN
METHOD:PUBLISH
X-ORIGINAL-URL:https://www.islandarts.org
X-WR-CALDESC:Events for Island Arts
REFRESH-INTERVAL;VALUE=DURATION:PT1H
X-Robots-Tag:noindex
X-PUBLISHED-TTL:PT1H
BEGIN:VTIMEZONE
TZID:UTC
BEGIN:STANDARD
TZOFFSETFROM:+0000
TZOFFSETTO:+0000
TZNAME:UTC
DTSTART:20230101T000000
END:STANDARD
END:VTIMEZONE
BEGIN:VEVENT
DTSTART;TZID=UTC:20240811T180000
DTEND;TZID=UTC:20240811T193000
DTSTAMP:20260425T072421
CREATED:20240512T194116Z
LAST-MODIFIED:20240811T172124Z
UID:10000562-1723399200-1723404600@www.islandarts.org
SUMMARY:The Dixie Six
DESCRIPTION:The Dixie SixDate: Sunday August 11\, 2024\, 6:00 pm; This concert will be held inside the barn due to weather.\nBring your picnic for 5:30pm or just come for the music!\nLocation: Island Arts Center\, 1127 U.S. Rte. 2\, North Hero\nTickets: $15 online and at the door. Chairs are available. \nVermont’s Dixie Six is a band well-loved by Island Arts’ audiences\, and the group is well-known in the greater Burlington music scene. These six Vermont musicians focus on the sound and repertoire of Louis Armstrong’s All Stars of the 1950’s and 1960’s. The All Stars are famous for hits such as “Blueberry Hill\,” “Mack the Knife\,” and “Hello\, Dolly!” which blew “the Beatles off the top of pop charts at the height of Beatlemania.” This lively jazz still thrills\, appealing to all ages. Though retaining a traditional Dixie feel\, band’s updated rhythm section gives a new energy to New Orleans classics and mid-century standards. \n“Thanks to Island Arts for inviting us to play. We hope you enjoy the music as much as we enjoy playing it for you.”\n~ The Dixie Six \nListen to a recent performance: \nTICKETS BACK TO ALL EVENTS
URL:https://www.islandarts.org/event/the-dixie-six-2/
LOCATION:Isle LaMotte Town Hall Community Room\, Isle LaMotte\, VT 05463\, 67 Church St.\, Isle LaMotte\, VT\, 05463\, United States
CATEGORIES:Concerts,Events,Music
ATTACH;FMTTYPE=image/png:https://www.islandarts.org/wp-content/uploads/2024/05/Dixie-Six-24.png
END:VEVENT
END:VCALENDAR