BEGIN:VCALENDAR
VERSION:2.0
PRODID:-//Island Arts - ECPv6.15.20//NONSGML v1.0//EN
CALSCALE:GREGORIAN
METHOD:PUBLISH
X-ORIGINAL-URL:https://www.islandarts.org
X-WR-CALDESC:Events for Island Arts
REFRESH-INTERVAL;VALUE=DURATION:PT1H
X-Robots-Tag:noindex
X-PUBLISHED-TTL:PT1H
BEGIN:VTIMEZONE
TZID:America/New_York
BEGIN:DAYLIGHT
TZOFFSETFROM:-0500
TZOFFSETTO:-0400
TZNAME:EDT
DTSTART:20230312T070000
END:DAYLIGHT
BEGIN:STANDARD
TZOFFSETFROM:-0400
TZOFFSETTO:-0500
TZNAME:EST
DTSTART:20231105T060000
END:STANDARD
BEGIN:DAYLIGHT
TZOFFSETFROM:-0500
TZOFFSETTO:-0400
TZNAME:EDT
DTSTART:20240310T070000
END:DAYLIGHT
BEGIN:STANDARD
TZOFFSETFROM:-0400
TZOFFSETTO:-0500
TZNAME:EST
DTSTART:20241103T060000
END:STANDARD
BEGIN:DAYLIGHT
TZOFFSETFROM:-0500
TZOFFSETTO:-0400
TZNAME:EDT
DTSTART:20250309T070000
END:DAYLIGHT
BEGIN:STANDARD
TZOFFSETFROM:-0400
TZOFFSETTO:-0500
TZNAME:EST
DTSTART:20251102T060000
END:STANDARD
END:VTIMEZONE
BEGIN:VEVENT
DTSTART;TZID=America/New_York:20240817T190000
DTEND;TZID=America/New_York:20240817T210000
DTSTAMP:20260425T072430
CREATED:20240512T194508Z
LAST-MODIFIED:20240723T224059Z
UID:10000563-1723921200-1723928400@www.islandarts.org
SUMMARY:Haiduck & Heckendorn
DESCRIPTION:Haiduck & Heckendorn Sing & Play the Great American SongbookDate and Time: Saturday\, August 17\, 2024; 7 PM to ~9 PM\, with an intermission.\nLocation: Island Arts Center\, 1127 US Rt 2\, North Hero\, VT 05474\nConcert tickets: $25.\nTable Reservation: $14 / $20 \nReserve a table for seating at $14 for a 2-top\, $20 for a 4-top\, and BYOB. Table tickets are available online or at the door\, first come-first served\, and subject to availability. Tables tickets are not available from local ticket outlets. \nEnjoy an informal cabaret-style evening featuring a fine jazz quartet of clarinet\, concert grand piano\, double bass\, and drums! Relax at your own table while the quartet performs all-time favorite music from the Great American Songbook. \nNeal Haiduck on clarinet and David Heckendorn on piano are joined by two of Burlington’s finest musicians: J.D. Haenni\, accomplished bassist from New Orleans\, and Dan Ryan on drums. A special guest is to be announced. (It’s a surprise—you’ll like it!) \nThe quartet will play—and sing—songs by composers they didn’t get around to last summer. This year you will hear music by George Gershwin\, Duke Ellington\, Irving Berlin\, Rodgers & Hart\, Lerner & Loewe\, and Matt Dennis. And music by Cole Porter\, Leonard Bernstein\, Johnny Mercer\, and others––some well-known\, some not-so-well-known. \nHaiduck and Heckendorn have performed and recorded together for many years in the New York City area. Clarinetist Neal Haiduck has played jazz and classical music in New York City\, Montréal\, London\, Europe\, South America\, and Japan. He now makes his home in Burlington\, where he makes the lively jazz scene. \nPianist David Heckendorn was the orchestrator for “Mr. Holland’s Opus.” His compositions have been performed in various American venues\, including St. Patrick’s Cathedral and Birdland in New York City\, and in Europe and East Europe. He lives in Ulster County\, New York. \nGET TICKETSBACK TO ALL EVENTS
URL:https://www.islandarts.org/event/haiduck-heckendorn/
LOCATION:Isle LaMotte Town Hall Community Room\, Isle LaMotte\, VT 05463\, 67 Church St.\, Isle LaMotte\, VT\, 05463\, United States
CATEGORIES:Concerts,Events,Music
ATTACH;FMTTYPE=image/jpeg:https://www.islandarts.org/wp-content/uploads/2023/03/Heckendorn-Haiduck-2-by-piano_2023-1.jpeg
END:VEVENT
END:VCALENDAR