BEGIN:VCALENDAR
VERSION:2.0
PRODID:-//Island Arts - ECPv6.15.20//NONSGML v1.0//EN
CALSCALE:GREGORIAN
METHOD:PUBLISH
X-WR-CALNAME:Island Arts
X-ORIGINAL-URL:https://www.islandarts.org
X-WR-CALDESC:Events for Island Arts
REFRESH-INTERVAL;VALUE=DURATION:PT1H
X-Robots-Tag:noindex
X-PUBLISHED-TTL:PT1H
BEGIN:VTIMEZONE
TZID:UTC
BEGIN:STANDARD
TZOFFSETFROM:+0000
TZOFFSETTO:+0000
TZNAME:UTC
DTSTART:20240101T000000
END:STANDARD
END:VTIMEZONE
BEGIN:VTIMEZONE
TZID:America/New_York
BEGIN:DAYLIGHT
TZOFFSETFROM:-0500
TZOFFSETTO:-0400
TZNAME:EDT
DTSTART:20240310T070000
END:DAYLIGHT
BEGIN:STANDARD
TZOFFSETFROM:-0400
TZOFFSETTO:-0500
TZNAME:EST
DTSTART:20241103T060000
END:STANDARD
BEGIN:DAYLIGHT
TZOFFSETFROM:-0500
TZOFFSETTO:-0400
TZNAME:EDT
DTSTART:20250309T070000
END:DAYLIGHT
BEGIN:STANDARD
TZOFFSETFROM:-0400
TZOFFSETTO:-0500
TZNAME:EST
DTSTART:20251102T060000
END:STANDARD
BEGIN:DAYLIGHT
TZOFFSETFROM:-0500
TZOFFSETTO:-0400
TZNAME:EDT
DTSTART:20260308T070000
END:DAYLIGHT
BEGIN:STANDARD
TZOFFSETFROM:-0400
TZOFFSETTO:-0500
TZNAME:EST
DTSTART:20261101T060000
END:STANDARD
END:VTIMEZONE
BEGIN:VEVENT
DTSTART;TZID=UTC:20250718T093000
DTEND;TZID=UTC:20250718T110000
DTSTAMP:20260424T061853
CREATED:20250507T182332Z
LAST-MODIFIED:20250725T101700Z
UID:10000766-1752831000-1752836400@www.islandarts.org
SUMMARY:International Folk Dancing 2025
DESCRIPTION:International Folk DancingDate and Time: Friday June 20 – September 26\, 2025 9:30 am – 11:00 am\n(Check web site as Aug 8+15 may be excluded)\nInstructor: Lesley Alpert\nLocation:  North Hero House Pier\n3671 US Route 2\, North Hero\, VT\nTickets: Free\, Donations to Island Arts are appreciated \nExperience the JOY of community dancing to lively music.\nGentle exercise for body\, mind and soul; movement and balance\, memory and joy. No experience needed.\nNo partner needed. Wear comfortable FLAT shoes. Bring your water bottle.\nCall 514-476-3418 to register\, however drop-ins are also encouraged. \nBACK TO ALL CLASSES
URL:https://www.islandarts.org/event/folk-dancing-2025-2/2025-07-18/
LOCATION:North Hero House Pier\, 3671 US-2\, North Hero\, VT\, 05474
CATEGORIES:Classes,Free Classes
ATTACH;FMTTYPE=image/jpeg:https://www.islandarts.org/wp-content/uploads/2022/01/The-Joy-of-Folk-Dancing.jpg
END:VEVENT
BEGIN:VEVENT
DTSTART;TZID=America/New_York:20250718T160000
DTEND;TZID=America/New_York:20250718T170000
DTSTAMP:20260424T061853
CREATED:20250525T193959Z
LAST-MODIFIED:20250525T194000Z
UID:10000758-1752854400-1752858000@www.islandarts.org
SUMMARY:Introduction to Alexander Technique
DESCRIPTION:Introduction to Alexander TechniqueDate/time: Friday\, July 18\, 2025; 4 pm to 5 pm \nLocation: Studio above garage at 34 Cardinal Lane\, South Hero \nInstructor: Sue Collinson \nCost: $15 \nThe Alexander Technique\, which is taught internationally\, seeks to help students find ease of movement by releasing habit patterns that interfere with everyday functioning. It is very useful to musicians and anyone seeking improved mastery and presence. \nSue Collinson is a graduate of the Institute for The Alexander Technique and a member of The American Society for The Alexander Technique. \nRegister NowBACK TO ALL CLASSES
URL:https://www.islandarts.org/event/introduction-to-alexander-technique-3-2/
LOCATION:34 Cardinal Lane\, South Hero VT\, 34 Cardinal Lane\, South Hero\, VT
CATEGORIES:Classes,Health & Wellness
ATTACH;FMTTYPE=image/jpeg:https://www.islandarts.org/wp-content/uploads/2022/04/Alexander-technique.jpg
END:VEVENT
BEGIN:VEVENT
DTSTART;TZID=America/New_York:20250718T190000
DTEND;TZID=America/New_York:20250718T210000
DTSTAMP:20260424T061853
CREATED:20250511T140932Z
LAST-MODIFIED:20250708T181431Z
UID:10000751-1752865200-1752872400@www.islandarts.org
SUMMARY:Little Women - The Broadway Musical
DESCRIPTION:Little Women – The Broadway MusicalDates and Times:  Friday\, July 18\, 2025 at 7 PM\nLocation: Island Arts Center\, 1127 US Rt 2\, North Hero\, VT 05474\nTickets:   $20 General admission $15 Students \nPerformances July 18th through July 20th\nJuly 18\, 2025 7:00pm\nJuly 19\, 2025 2:00pm & 7:00pm\nJuly 20\, 2025 2:00pm \nLouisa May Alcott’s beloved story\, “Little Women\,” has never been more relevant. With its themes of sisterhood\, challenging traditional gender roles\, and celebrating the powerful contributions of women throughout American history\, this story continues to resonate across generations. \nBased on Louisa May Alcott’s life\, Little Women follows the adventures of sisters Jo\, Meg\, Beth\, and Amy March. Jo is trying to sell her stories for publication\, but the publishers are not interested – her friend\, Professor Bhaer\, tells her that she has to do better and write more from herself. Begrudgingly taking this advice\, Jo weaves the story of herself and her sisters and their experience growing up in Civil War America. Little Women embodies the complete theatrical experience\, guaranteeing a night filled with laughter\, tears\, and a lifting of the spirit. The powerful score soars with the sounds of personal discovery\, heartache\, and hope – the sounds of a young America finding its voice. \nWith a cast of  students and Vermont professionals Full Circle Theater Collaborative and Fearn Enterprise are proud to bring this musical adaptation of an American classic to the stage. \nMusic by Jason Howland\, Lyrics by Mindi Dickstein\, Book by Allan Keen \nBased  on the novel by Louisa May Alcott \nGET TICKETS @ FULL CIRCLEPhoto by Michael Frett. Image courtesy of Full Circle Theater Collaborative.\nBACK TO ALL EVENTS
URL:https://www.islandarts.org/event/little-women-the-broadway-musical/
LOCATION:Island Arts Center\, 1127 US Rte 2\, North Hero\, 05474\, United States
CATEGORIES:Events,Theatre
ATTACH;FMTTYPE=image/jpeg:https://www.islandarts.org/wp-content/uploads/2025/05/Amelia.jpg
END:VEVENT
END:VCALENDAR