BEGIN:VCALENDAR
VERSION:2.0
PRODID:-//Island Arts - ECPv6.15.20//NONSGML v1.0//EN
CALSCALE:GREGORIAN
METHOD:PUBLISH
X-WR-CALNAME:Island Arts
X-ORIGINAL-URL:https://www.islandarts.org
X-WR-CALDESC:Events for Island Arts
REFRESH-INTERVAL;VALUE=DURATION:PT1H
X-Robots-Tag:noindex
X-PUBLISHED-TTL:PT1H
BEGIN:VTIMEZONE
TZID:America/New_York
BEGIN:DAYLIGHT
TZOFFSETFROM:-0500
TZOFFSETTO:-0400
TZNAME:EDT
DTSTART:20240310T070000
END:DAYLIGHT
BEGIN:STANDARD
TZOFFSETFROM:-0400
TZOFFSETTO:-0500
TZNAME:EST
DTSTART:20241103T060000
END:STANDARD
BEGIN:DAYLIGHT
TZOFFSETFROM:-0500
TZOFFSETTO:-0400
TZNAME:EDT
DTSTART:20250309T070000
END:DAYLIGHT
BEGIN:STANDARD
TZOFFSETFROM:-0400
TZOFFSETTO:-0500
TZNAME:EST
DTSTART:20251102T060000
END:STANDARD
BEGIN:DAYLIGHT
TZOFFSETFROM:-0500
TZOFFSETTO:-0400
TZNAME:EDT
DTSTART:20260308T070000
END:DAYLIGHT
BEGIN:STANDARD
TZOFFSETFROM:-0400
TZOFFSETTO:-0500
TZNAME:EST
DTSTART:20261101T060000
END:STANDARD
END:VTIMEZONE
BEGIN:VTIMEZONE
TZID:UTC
BEGIN:STANDARD
TZOFFSETFROM:+0000
TZOFFSETTO:+0000
TZNAME:UTC
DTSTART:20240101T000000
END:STANDARD
END:VTIMEZONE
BEGIN:VEVENT
DTSTART;TZID=America/New_York:20250809T140000
DTEND;TZID=America/New_York:20250809T150000
DTSTAMP:20260424T045629
CREATED:20250730T161435Z
LAST-MODIFIED:20250808T115318Z
UID:10000895-1754748000-1754751600@www.islandarts.org
SUMMARY:Painting Color - A Demonstration
DESCRIPTION:Painting Color – A Demonstration with\nJarvis Wilcox\nDATE AND TIME: Saturday\, August 9\, 2025; 2:00 – 3:00 pm.\nLOCATION: Island Arts Center\, 1127 US Rte. 2\, North Hero.\nTICKETS: FREE Outside weather permitting. \nThis event is a demonstration\, not a class\,  scheduled to be outside\, you are invited to bring a chair for your comfort. \nA demo of color in painting is a visual presentation\, often by an artist\, showcasing\nhow colors are mixed\, applied\, and used to create various effects in a painting.\nThese demonstrations can cover a wide range of topics\, from basic color theory and mixing techniques to more advanced concepts like color harmony and using color to create mood and atmosphere.\n\nJarvis Wilcox is an artist of his times – his themes characterize his view of our world.\nHis approach converts the commonplace into occasions for contemplation. Sensitive to Nature\, Jarvis captures on canvas the imagery of county scenes many of which are near his East Hampton\, CT home.\n\n\n“So you have finally settled on a particular scene to paint\, but how to bring it off? I suggest beginning with the basic color chords of your subjects and mixing seven or eight colors with  which you can make a complete\, though unfinished statement. At this point you can decide how to compose the symphony and which color chords are going to predominate the symphony to carry your insights.  \n    I will try to give you a structure you can use to arrive at the colors you need and how to mix them.  Obviously I believe color to be the heart and soul of the art of picture making. It is the sine qua non of this art. I will aim to give you a tool to aid in the appreciation of the dance of color” – Jarvis Wilcox\n\nJarvis Wilcox “Clearing”Sign Up
URL:https://www.islandarts.org/event/painting-color-a-demonstration/
LOCATION:Island Arts Center\, 1127 US Rte 2\, North Hero\, 05474\, United States
CATEGORIES:Arts & Crafts,Events
ATTACH;FMTTYPE=image/jpeg:https://www.islandarts.org/wp-content/uploads/2025/07/jarvis-Wilcox-flowers-Enhanced.jpg
END:VEVENT
BEGIN:VEVENT
DTSTART;TZID=UTC:20250809T190000
DTEND;TZID=UTC:20250809T201500
DTSTAMP:20260424T045629
CREATED:20250326T150702Z
LAST-MODIFIED:20250708T182055Z
UID:10000694-1754766000-1754770500@www.islandarts.org
SUMMARY:Jorge Garcia Herranz\, Solo Piano
DESCRIPTION:Jorge Garcia Herranz\, Solo PianoDate: Saturday\, August 9\, 2025; 7 PM\, without an intermission\nLocation: Island Arts Center\, 1127 US Rt 2\, North Hero\, VT 05474\nTickets: $25 online and at the door\, $20 at local outlets. \nThe program presents works by Beethoven including the Sonata “Pathetique” in C Minor\, op. 13;  the Sonata “Moonlight” in C Sharp Minor\, op. 27;  and the Sonata “Waldstein” in C Major\, op. 53. \nSpanish-born pianist Jorge Garcia Herranz began his musical studies in Madrid\, where he learned to love Spanish composers such as Albéniz\, Granados\, and Falla whose music he regularly includes in his concerts. For the last fifteen years\, he has worked on various tango projects and released a CD featuring Astor Piazzolla’s music. \nHerranz’ solo performance repertoire includes Bach\, Beethoven\, Chopin\, Mozart\, and Schubert among others. He also improvises and draws on diverse musical genres to accompany silent movies. In addition to his solo concerts\, his experience as an accompanist at the Conservatoire Darius Milhaud in Paris\, France\, makes him a frequent partner in chamber music performances. \nHe has appeared with Island Arts for many seasons\, to the delight of both local and more distant audiences. We are delighted to welcome Jorge Garcia Herranz back to the Islands once again. \nBUY TICKETSPhoto courtesy of Maison Heinrich Heine.\nBACK TO ALL EVENTS
URL:https://www.islandarts.org/event/jorge-garcia-herranz-pianist-3/
LOCATION:Island Arts Center\, 1127 US Rte 2\, North Hero\, 05474\, United States
CATEGORIES:Concerts,Events,Music
ATTACH;FMTTYPE=image/jpeg:https://www.islandarts.org/wp-content/uploads/2022/01/jorge-garcia-herranz-1-e1677795703329.jpg
END:VEVENT
END:VCALENDAR