BEGIN:VCALENDAR
VERSION:2.0
PRODID:-//Island Arts - ECPv6.15.20//NONSGML v1.0//EN
CALSCALE:GREGORIAN
METHOD:PUBLISH
X-WR-CALNAME:Island Arts
X-ORIGINAL-URL:https://www.islandarts.org
X-WR-CALDESC:Events for Island Arts
REFRESH-INTERVAL;VALUE=DURATION:PT1H
X-Robots-Tag:noindex
X-PUBLISHED-TTL:PT1H
BEGIN:VTIMEZONE
TZID:America/New_York
BEGIN:DAYLIGHT
TZOFFSETFROM:-0500
TZOFFSETTO:-0400
TZNAME:EDT
DTSTART:20240310T070000
END:DAYLIGHT
BEGIN:STANDARD
TZOFFSETFROM:-0400
TZOFFSETTO:-0500
TZNAME:EST
DTSTART:20241103T060000
END:STANDARD
BEGIN:DAYLIGHT
TZOFFSETFROM:-0500
TZOFFSETTO:-0400
TZNAME:EDT
DTSTART:20250309T070000
END:DAYLIGHT
BEGIN:STANDARD
TZOFFSETFROM:-0400
TZOFFSETTO:-0500
TZNAME:EST
DTSTART:20251102T060000
END:STANDARD
BEGIN:DAYLIGHT
TZOFFSETFROM:-0500
TZOFFSETTO:-0400
TZNAME:EDT
DTSTART:20260308T070000
END:DAYLIGHT
BEGIN:STANDARD
TZOFFSETFROM:-0400
TZOFFSETTO:-0500
TZNAME:EST
DTSTART:20261101T060000
END:STANDARD
END:VTIMEZONE
BEGIN:VTIMEZONE
TZID:UTC
BEGIN:STANDARD
TZOFFSETFROM:+0000
TZOFFSETTO:+0000
TZNAME:UTC
DTSTART:20240101T000000
END:STANDARD
END:VTIMEZONE
BEGIN:VTIMEZONE
TZID:Asia/Dubai
BEGIN:STANDARD
TZOFFSETFROM:+0400
TZOFFSETTO:+0400
TZNAME:+04
DTSTART:20240101T000000
END:STANDARD
END:VTIMEZONE
BEGIN:VEVENT
DTSTART;TZID=America/New_York:20250820T090000
DTEND;TZID=America/New_York:20250820T103000
DTSTAMP:20260424T044945
CREATED:20250529T220543Z
LAST-MODIFIED:20250708T182936Z
UID:10000747-1755680400-1755685800@www.islandarts.org
SUMMARY:Kundalini Yoga
DESCRIPTION:Time: Wednesday mornings 9-10:30 \nIsland Arts Center:\nAug 20 \nCamp Ingalls:\nAug 27 \nCost: $15 suggested donation at the door (cash\, venmo\, check) \nJoin Kim Muncil for one or all ten Kundalini yoga classes. She will offer a few different themes this year. Her first two classes of the season will focus on the Heart Chakra. Weeks 3-6 will focus on developing a strong mind and nervous system. The final 4 weeks will focus on breath technology. Each class will include breathwork\, a yoga set\, gong relaxation\, and a meditation or chant. \nNo experience is necessary. A limited number of mats will be available for use. \n(In partnership with North Hero Parks and Recreation and Island Arts) \nKim Muncil\nKim is a native of Vermont and returns each summer to North Hero with her husband Bob. She is a 500 hr certified Kundalini Yoga and meditation teacher and a certified Yin Yoga teacher. Her mission is to share the tools of yoga wherever she goes because the practice of yoga (particularly Kundalini Yoga) has had such a positive influence on her life. Prior to retirement Kim taught elementary school for 34 years.
URL:https://www.islandarts.org/event/kundalini-yoga-3-3/
LOCATION:Island Arts Center\, 1127 US Rte 2\, North Hero\, 05474\, United States
CATEGORIES:Classes,Free Classes,Health & Wellness
ATTACH;FMTTYPE=image/jpeg:https://www.islandarts.org/wp-content/uploads/2025/05/kundalini-at-the-barn-min-scaled.jpg
END:VEVENT
BEGIN:VEVENT
DTSTART;TZID=UTC:20250820T103000
DTEND;TZID=UTC:20250820T120000
DTSTAMP:20260424T044945
CREATED:20250507T172106Z
LAST-MODIFIED:20250508T233726Z
UID:10000713-1755685800-1755691200@www.islandarts.org
SUMMARY:Handcrafted Greeting Card Workshop
DESCRIPTION:Handcrafted Greeting Card WorkshopDate & Time: Wednesday August 20\, 2025 10:30 am – 12:00 pm\nLocation: 275 South Street\, South Hero\, Vermont 05486\nTickets: $12 \nEnjoy Card Workshops taught by Pat Brennan. An Islander since 1969\, Pat has been giving card classes for five years. She will teach you basic card-making. At your first class\, in addition to the class fee\, you will be required to buy a tool kit ($7) that includes a dispenser with double-sided tape\, glue dots\, sponge daubers\, and a little bling. \nPlease bring scissors if you have them. \nAt each class\, you will receive two kits. Each kit will create a beautiful one-of-kind card with envelope\, a card likely to cost $5 or $6 in a store—if you could find one as nice! This is a great opportunity to have fun\, learn card-making\, and surprise friends and family with beautiful cards. \nClass fee includes 2 card kits per class. \nRegister NowBACK TO ALL CLASSES
URL:https://www.islandarts.org/event/handcrafted-greeting-card-workshop-9/
LOCATION:275 South St South Hero VT\, 275 South St\, South Hero\, VT\, United States
CATEGORIES:Arts & Crafts,Classes
ATTACH;FMTTYPE=image/jpeg:https://www.islandarts.org/wp-content/uploads/2022/04/Card-Workshop-Under-the-Sea-SQ.jpg
END:VEVENT
BEGIN:VEVENT
DTSTART;TZID=Asia/Dubai:20250820T160000
DTEND;TZID=Asia/Dubai:20250820T170000
DTSTAMP:20260424T044945
CREATED:20250511T180226Z
LAST-MODIFIED:20250725T101548Z
UID:10000840-1755705600-1755709200@www.islandarts.org
SUMMARY:Tai Chi
DESCRIPTION:Tai ChiDate and Time: Every Wednesday from May 28 – September 3\, 2025\, 4:00pm – 5:00pm\nInstructor: Rob Rousseau\nLocation: Island Arts Center\, 1127 U.S. Rte. 2\, N. Hero\nTickets: Free\, Donations to Island Arts appreciated \nPrior to attending class\, please call Rob Rousseau to register or for more information at 802-373-0947. \nJoin us in Tai Chi for health and relaxation. New students are always welcome.Tai Chi is\, literally\, the connecting of individual energy to the universe energy through a series of movements. Moving simply and letting go of our own blocks allows Chi\, or energy\, to flow. \nQiGong is a method of movement from which Tai Chi and a plethora of other movements have evolved. \nClasses held outside weather permitting; otherwise\, class will move inside the barn. \nBACK TO ALL CLASSES
URL:https://www.islandarts.org/event/tai-chi-2-3/2025-08-20/
LOCATION:Island Arts Center\, 1127 US Rte 2\, North Hero\, 05474\, United States
CATEGORIES:Classes,Free Classes,Health & Wellness
ATTACH;FMTTYPE=image/jpeg:https://www.islandarts.org/wp-content/uploads/2022/01/Tai-Chi-at-Island-Arts.jpg
END:VEVENT
END:VCALENDAR