BEGIN:VCALENDAR
VERSION:2.0
PRODID:-//Island Arts - ECPv6.15.20//NONSGML v1.0//EN
CALSCALE:GREGORIAN
METHOD:PUBLISH
X-WR-CALNAME:Island Arts
X-ORIGINAL-URL:https://www.islandarts.org
X-WR-CALDESC:Events for Island Arts
REFRESH-INTERVAL;VALUE=DURATION:PT1H
X-Robots-Tag:noindex
X-PUBLISHED-TTL:PT1H
BEGIN:VTIMEZONE
TZID:UTC
BEGIN:STANDARD
TZOFFSETFROM:+0000
TZOFFSETTO:+0000
TZNAME:UTC
DTSTART:20250101T000000
END:STANDARD
END:VTIMEZONE
BEGIN:VEVENT
DTSTART;TZID=UTC:20260808T160000
DTEND;TZID=UTC:20260808T173000
DTSTAMP:20260423T230133
CREATED:20260326T155100Z
LAST-MODIFIED:20260326T174457Z
UID:10001388-1786204800-1786210200@www.islandarts.org
SUMMARY:The Dixie Six
DESCRIPTION:The Dixie SixDate and Time: Sunday\, August 8\, 2026;  4PM to 5:30 PM\, with an intermission. Inside concert.\nLocation: Island Arts Center\, 1127 US Rt 2\, North Hero\, VT 05474.\nGrounds open at 3:30 for an optional picnic on the green\, subject to weather. Bring a chair or blanket if desired.\nTickets: $25-$35 \nTables: Reserve a table for seating at $15 for a 2-top\, $25 for a 4-top\, and BYOB. Table\ntickets are available online or at the door\, first come-first served and subject to availability.\nTables tickets are not available from local ticket outlets. \nAn outstanding roster of players\, several new to The Dixie Six within the past few years\, have infused the music with new energy. Tony Pietricola – clarinet\, Lisa Henry – sousaphone \, Chris Scribnau – cornet\, Rich Magnuson – drums\, Charlie MacFayden – piano\, and George Voland – valve trombone will get your feet tapping. \nVermont’s Dixie Six is a band well-loved by Island Arts’ audiences\, and the group is well-known in the greater Burlington music scene. The six Vermont musicians focus on the sound and repertoire of Louis Armstrong’s All Stars of the 1950’s and 1960’s. Though retaining a traditional Dixie feel\, the band’s updated rhythm section gives a new energy to New Orleans classics and mid-century standards. \n“Thanks to Island Arts for inviting us to play. We hope you enjoy the music as much as we enjoy playing it for you.”\n~ The Dixie Six \nListen to a recent performance: \nBUY TICKETSBACK TO ALL EVENTS
URL:https://www.islandarts.org/event/the-dixie-six-4/
LOCATION:Island Arts Center\, 1127 US Rte 2\, North Hero\, 05474\, United States
CATEGORIES:Concerts,Events,Music
ATTACH;FMTTYPE=image/png:https://www.islandarts.org/wp-content/uploads/2026/03/Screenshot-2026-03-26-114730.png
END:VEVENT
END:VCALENDAR