BEGIN:VCALENDAR
VERSION:2.0
PRODID:-//Island Arts - ECPv6.15.20//NONSGML v1.0//EN
CALSCALE:GREGORIAN
METHOD:PUBLISH
X-ORIGINAL-URL:https://www.islandarts.org
X-WR-CALDESC:Events for Island Arts
REFRESH-INTERVAL;VALUE=DURATION:PT1H
X-Robots-Tag:noindex
X-PUBLISHED-TTL:PT1H
BEGIN:VTIMEZONE
TZID:America/New_York
BEGIN:DAYLIGHT
TZOFFSETFROM:-0500
TZOFFSETTO:-0400
TZNAME:EDT
DTSTART:20250309T070000
END:DAYLIGHT
BEGIN:STANDARD
TZOFFSETFROM:-0400
TZOFFSETTO:-0500
TZNAME:EST
DTSTART:20251102T060000
END:STANDARD
BEGIN:DAYLIGHT
TZOFFSETFROM:-0500
TZOFFSETTO:-0400
TZNAME:EDT
DTSTART:20260308T070000
END:DAYLIGHT
BEGIN:STANDARD
TZOFFSETFROM:-0400
TZOFFSETTO:-0500
TZNAME:EST
DTSTART:20261101T060000
END:STANDARD
BEGIN:DAYLIGHT
TZOFFSETFROM:-0500
TZOFFSETTO:-0400
TZNAME:EDT
DTSTART:20270314T070000
END:DAYLIGHT
BEGIN:STANDARD
TZOFFSETFROM:-0400
TZOFFSETTO:-0500
TZNAME:EST
DTSTART:20271107T060000
END:STANDARD
END:VTIMEZONE
BEGIN:VEVENT
DTSTART;TZID=America/New_York:20260813T180000
DTEND;TZID=America/New_York:20260813T193000
DTSTAMP:20260423T230227
CREATED:20260325T161716Z
LAST-MODIFIED:20260409T142025Z
UID:10001380-1786644000-1786649400@www.islandarts.org
SUMMARY:A Shared Talk
DESCRIPTION:A Shared Talk:  A Journey of Spiritual and Personal Growth \nIsland Arts Barn\nAugust 13 \n6-7:30 PM\nFree (Donations to Island Arts gratefully accepted) \nJoin two friends\, Bob Muncil and Tim Carney\, as they share their heartfelt stories of addiction\, recovery\, and their paths toward spiritual and personal transformation. Through honesty\, humility\, and lived experience\, they reflect on the struggles and the practices that helped them move forward from addiction and all that goes with it\, to greater awareness\, compassion\, purpose and joy. \nTogether\, they will speak about the power of connection\, the role of spirituality in recovery\, and the daily choices that support a life of balance and growth. Their message is one of hope\, resilience\, and the possibility of change. Whether you struggle with addiction or not\, this shared talk will inspire you.  All are welcome.
URL:https://www.islandarts.org/event/a-shared-talk/
LOCATION:Island Arts Center\, 1127 US Rte 2\, North Hero\, 05474\, United States
CATEGORIES:Classes,Events,Health & Wellness
ATTACH;FMTTYPE=image/jpeg:https://www.islandarts.org/wp-content/uploads/2026/04/Shared-Talk.jpg
END:VEVENT
END:VCALENDAR