BEGIN:VCALENDAR
VERSION:2.0
PRODID:-//Island Arts - ECPv6.15.20//NONSGML v1.0//EN
CALSCALE:GREGORIAN
METHOD:PUBLISH
X-WR-CALNAME:Island Arts
X-ORIGINAL-URL:https://www.islandarts.org
X-WR-CALDESC:Events for Island Arts
REFRESH-INTERVAL;VALUE=DURATION:PT1H
X-Robots-Tag:noindex
X-PUBLISHED-TTL:PT1H
BEGIN:VTIMEZONE
TZID:UTC
BEGIN:STANDARD
TZOFFSETFROM:+0000
TZOFFSETTO:+0000
TZNAME:UTC
DTSTART:20230101T000000
END:STANDARD
END:VTIMEZONE
BEGIN:VEVENT
DTSTART;TZID=UTC:20240729T130000
DTEND;TZID=UTC:20240802T160000
DTSTAMP:20260424T224356
CREATED:20240526T235022Z
LAST-MODIFIED:20240610T145349Z
UID:10000581-1722258000-1722614400@www.islandarts.org
SUMMARY:Film Camp LCATV: Lights\, Camera\, Action!
DESCRIPTION:Film Camp LCATV: Lights\, Camera\, Action!Date: Monday July 29 – Friday August 2\, 2024\, 1 pm to 4:00 pm\nLocation: Island Arts Center\, 1127 US Rt 2\, North Hero\, VT 05474\nAges: 10 – 17\nCost: Free\, Limited space \nJoin LCATV staff for a fun filled week of filmmaking.  Learn filming and editing techniques under the supervision of an LCATV instructor\, then put those skills to use recreating a scene from the blockbuster film Home Alone for Crowdsourced Cinema VT.  All finished short films will be provided to students and their families on the completion of the camp as a digital file\, as well as play on LCATV Channel 1095. \nFor more information contact Stephanie Soules (instructor) and to sign up contact Island Arts\, Katya Wilcox or call 802-372-8889. \nPhoto courtesy of LCATV\nBACK TO ALL EVENTS
URL:https://www.islandarts.org/event/film-camp-lcatv/
LOCATION:Isle LaMotte Town Hall Community Room\, Isle LaMotte\, VT 05463\, 67 Church St.\, Isle LaMotte\, VT\, 05463\, United States
CATEGORIES:Arts & Crafts,Classes,Events,Free Classes,Youth
ATTACH;FMTTYPE=image/jpeg:https://www.islandarts.org/wp-content/uploads/2024/05/LCATV-Film-Camp-scaled.jpg
END:VEVENT
BEGIN:VEVENT
DTSTART;TZID=UTC:20240807T103000
DTEND;TZID=UTC:20240807T120000
DTSTAMP:20260424T224356
CREATED:20240526T162258Z
LAST-MODIFIED:20240722T003219Z
UID:10000575-1723026600-1723032000@www.islandarts.org
SUMMARY:Folded Book Christmas Angel Making Craft Class
DESCRIPTION:Folded Book Christmas Angel Making Classes – 2 Day WorkshopDate and Time: Wednesdays\, August 7 and 14\, 10:30 to noon \nLocation: Island Arts Center\, 1127 US Rt 2\, North Hero\, VT 05474\nInstructor: Lucie Faulkner \nCost: By Donation \nYou can make a Christmas Angel just by folding pages from a book\, helped and instructed by a creative Vermont resident Lucy Faulkner.  You don’t need to bring anything; everything will be supplied. \nJust bring yourself and friends or family to this 2-day interesting and creative workshop. You’ll get away with a beautiful Christmas angel you can enjoy for years to come and meet other creative-minded people. \nThe instructor can communicate with you in French or English. \nFree class – Register NowBACK TO ALL CLASSES
URL:https://www.islandarts.org/event/angelmakingcraftclass/
LOCATION:Isle LaMotte Town Hall Community Room\, Isle LaMotte\, VT 05463\, 67 Church St.\, Isle LaMotte\, VT\, 05463\, United States
CATEGORIES:Arts & Crafts,Classes
ATTACH;FMTTYPE=image/jpeg:https://www.islandarts.org/wp-content/uploads/2024/05/christmas-angels-photo-credit-lucie-faulkner.jpg
END:VEVENT
BEGIN:VEVENT
DTSTART;TZID=UTC:20240814T103000
DTEND;TZID=UTC:20240814T120000
DTSTAMP:20260424T224356
CREATED:20240721T145447Z
LAST-MODIFIED:20240722T004125Z
UID:10000580-1723631400-1723636800@www.islandarts.org
SUMMARY:Folded Book Christmas Angel Making Craft Class
DESCRIPTION:Folded Book Christmas Angel Making Class – Part 2Date and Time: Wednesday\, August 14\, 10:30 to noon \nLocation: Island Arts Center\, 1127 US Rt 2\, North Hero\, VT 05474\nInstructor: Lucie Faulkner \nCost: By Donation \nThis is Part 2 of a 2-day workshop. Please sign up via the Part 1 class. \nYou can make a Christmas Angel just by folding pages from a book\, helped and instructed by a creative Vermont resident Lucy Faulkner.  You don’t need to bring anything; everything will be supplied. \nJust bring yourself and friends or family to this interesting and creative 2-day workshop. You’ll get away with a beautiful Christmas angel you can enjoy for years to come and meet other creative-minded people. \nThe instructor can communicate with you in French or English. \nBACK TO ALL CLASSES
URL:https://www.islandarts.org/event/folded-book-christmas-angel-making-craft-class/
LOCATION:Isle LaMotte Town Hall Community Room\, Isle LaMotte\, VT 05463\, 67 Church St.\, Isle LaMotte\, VT\, 05463\, United States
CATEGORIES:Arts & Crafts,Classes
ATTACH;FMTTYPE=image/jpeg:https://www.islandarts.org/wp-content/uploads/2024/05/christmas-angels-photo-credit-lucie-faulkner.jpg
END:VEVENT
BEGIN:VEVENT
DTSTART;TZID=UTC:20240821T103000
DTEND;TZID=UTC:20240821T120000
DTSTAMP:20260424T224356
CREATED:20240430T184103Z
LAST-MODIFIED:20240506T155340Z
UID:10000373-1724236200-1724241600@www.islandarts.org
SUMMARY:Handcrafted Greeting Card Workshop
DESCRIPTION:Handcrafted Greeting Card WorkshopDate & Time: Wednesday August 21\, 10:30 am – 12:00 pm\nLocation: 275 South Street\, South Hero\, Vermont 05486\nTickets: $10 \nEnjoy Card Workshops taught by Pat Brennan. An Islander since 1969\, Pat has been giving card classes for five years. She will teach you basic card-making. At your first class\, in addition to the class fee\, you will be required to buy a tool kit ($7) that includes a dispenser with double-sided tape\, glue dots\, sponge daubers\, and a little bling. \nPlease bring scissors if you have them. \nAt each class\, you will receive two kits. Each kit will create a beautiful one-of-kind card with envelope\, a card likely to cost $5 or $6 in a store—if you could find one as nice! This is a great opportunity to have fun\, learn card-making\, and surprise friends and family with beautiful cards. \nClass fee includes 2 card kits per class. \nRegister NowBACK TO ALL CLASSES
URL:https://www.islandarts.org/event/handcrafted-greeting-card-workshop-7/
LOCATION:275 South St South Hero VT\, 275 South St\, South Hero\, VT\, United States
CATEGORIES:Arts & Crafts,Classes
ATTACH;FMTTYPE=image/jpeg:https://www.islandarts.org/wp-content/uploads/2022/04/Card-Workshop-Under-the-Sea-SQ.jpg
END:VEVENT
END:VCALENDAR