BEGIN:VCALENDAR
VERSION:2.0
PRODID:-//Island Arts - ECPv6.15.20//NONSGML v1.0//EN
CALSCALE:GREGORIAN
METHOD:PUBLISH
X-WR-CALNAME:Island Arts
X-ORIGINAL-URL:https://www.islandarts.org
X-WR-CALDESC:Events for Island Arts
REFRESH-INTERVAL;VALUE=DURATION:PT1H
X-Robots-Tag:noindex
X-PUBLISHED-TTL:PT1H
BEGIN:VTIMEZONE
TZID:America/New_York
BEGIN:DAYLIGHT
TZOFFSETFROM:-0500
TZOFFSETTO:-0400
TZNAME:EDT
DTSTART:20250309T070000
END:DAYLIGHT
BEGIN:STANDARD
TZOFFSETFROM:-0400
TZOFFSETTO:-0500
TZNAME:EST
DTSTART:20251102T060000
END:STANDARD
BEGIN:DAYLIGHT
TZOFFSETFROM:-0500
TZOFFSETTO:-0400
TZNAME:EDT
DTSTART:20260308T070000
END:DAYLIGHT
BEGIN:STANDARD
TZOFFSETFROM:-0400
TZOFFSETTO:-0500
TZNAME:EST
DTSTART:20261101T060000
END:STANDARD
BEGIN:DAYLIGHT
TZOFFSETFROM:-0500
TZOFFSETTO:-0400
TZNAME:EDT
DTSTART:20270314T070000
END:DAYLIGHT
BEGIN:STANDARD
TZOFFSETFROM:-0400
TZOFFSETTO:-0500
TZNAME:EST
DTSTART:20271107T060000
END:STANDARD
END:VTIMEZONE
BEGIN:VEVENT
DTSTART;TZID=America/New_York:20260905T090000
DTEND;TZID=America/New_York:20260905T160000
DTSTAMP:20260423T185755
CREATED:20260326T173120Z
LAST-MODIFIED:20260327T145409Z
UID:10001395-1788598800-1788624000@www.islandarts.org
SUMMARY:Island Arts Artisan Market
DESCRIPTION:Island Arts Artisan MarketDate and Time: Saturday September 5\, 2026  9 am – 3 pm\nLocation: Island Arts Center\, 1127 US Rt 2\, North Hero\, VT 05474\nTickets: Free. \nIf you missed the first market or want to have another look please venture to the second market of the season to support talented Champlain Island Artians\, hosted by Jennifer Pratt\, Champlain Island Creator. \nThe Market will take place in the historical red barn at the Island Arts Center in North Hero\, Vermont on Saturday July 12th\, 9am – 4pm. \nCome\, visit\, and shop this all day boutique and enjoy the wares created by a variety of local artisans! \nYou will definitely find a little of everything whether you’re shopping for yourself or someone else! \nLooking forward to seeing you there! \nBACK TO ALL EVENTS
URL:https://www.islandarts.org/event/island-arts-artisan-market-5/
LOCATION:Island Arts Center\, 1127 US Rte 2\, North Hero\, 05474\, United States
CATEGORIES:Arts & Crafts,Events
ATTACH;FMTTYPE=image/jpeg:https://www.islandarts.org/wp-content/uploads/2025/05/Artisan-Market2025_IMG_5741.jpg
END:VEVENT
END:VCALENDAR