BEGIN:VCALENDAR
VERSION:2.0
PRODID:-//Island Arts - ECPv6.15.20//NONSGML v1.0//EN
CALSCALE:GREGORIAN
METHOD:PUBLISH
X-WR-CALNAME:Island Arts
X-ORIGINAL-URL:https://www.islandarts.org
X-WR-CALDESC:Events for Island Arts
REFRESH-INTERVAL;VALUE=DURATION:PT1H
X-Robots-Tag:noindex
X-PUBLISHED-TTL:PT1H
BEGIN:VTIMEZONE
TZID:UTC
BEGIN:STANDARD
TZOFFSETFROM:+0000
TZOFFSETTO:+0000
TZNAME:UTC
DTSTART:20250101T000000
END:STANDARD
END:VTIMEZONE
BEGIN:VEVENT
DTSTART;TZID=UTC:20260701T103000
DTEND;TZID=UTC:20260701T120000
DTSTAMP:20260423T163121
CREATED:20260413T011638Z
LAST-MODIFIED:20260413T011638Z
UID:10001413-1782901800-1782907200@www.islandarts.org
SUMMARY:Handcrafted Greeting Card Workshop
DESCRIPTION:Handcrafted Greeting Card Quilling WorkshopDate and Time: Wednesday July 1\, 2026 10:30am – 12:00pm\nInstructor: Pat Brennan\nLocation: 275 South Street\, South Hero\, Vermont 05486 \nTickets: $12 \nExperience the fun of card-making using quilling designs with a workshop taught by Pat Brennan. An Islander since 1969\, Pat has been giving card classes for over six years. She will teach you basic techniques of quilling\, folding and bending paper to create unique patterns then placing them on a card. At your first class\, in addition to the class fee\, you will be required to buy a tool kit ($7) that includes a dispenser with double-sided tape\, glue dots\, sponge daubers\, and a little bling. \nYou will receive two kits. Each kit will create a beautiful one-of-kind card with envelope\, a card likely to cost $6 or $7 in a store—if you could find one as nice! This is a great opportunity to have fun\, learn card-making\, and surprise friends and family with beautiful cards. \nPlease bring scissors if you have them. \nClass fee includes 2 card kits per class. \nRegister NowBACK TO ALL CLASSES
URL:https://www.islandarts.org/event/handcrafted-greeting-card-workshop-11/
LOCATION:275 South St South Hero VT\, 275 South St\, South Hero\, VT\, United States
CATEGORIES:Arts & Crafts,Classes
ATTACH;FMTTYPE=image/jpeg:https://www.islandarts.org/wp-content/uploads/2026/04/Quilling-class-card.jpg
END:VEVENT
END:VCALENDAR