BEGIN:VCALENDAR
VERSION:2.0
PRODID:-//Island Arts - ECPv6.15.20//NONSGML v1.0//EN
CALSCALE:GREGORIAN
METHOD:PUBLISH
X-WR-CALNAME:Island Arts
X-ORIGINAL-URL:https://www.islandarts.org
X-WR-CALDESC:Events for Island Arts
REFRESH-INTERVAL;VALUE=DURATION:PT1H
X-Robots-Tag:noindex
X-PUBLISHED-TTL:PT1H
BEGIN:VTIMEZONE
TZID:UTC
BEGIN:STANDARD
TZOFFSETFROM:+0000
TZOFFSETTO:+0000
TZNAME:UTC
DTSTART:20250101T000000
END:STANDARD
END:VTIMEZONE
BEGIN:VEVENT
DTSTART;TZID=UTC:20260812T103000
DTEND;TZID=UTC:20260812T120000
DTSTAMP:20260423T185824
CREATED:20260413T010206Z
LAST-MODIFIED:20260413T015238Z
UID:10001412-1786530600-1786536000@www.islandarts.org
SUMMARY:Handcrafted Greeting Card Workshop
DESCRIPTION:Handcrafted Greeting Card WorkshopDate & Time: Wednesday August 12\, 2026 10:30 am – 12:00 pm\nLocation: 275 South Street\, South Hero\, Vermont 05486\nTickets: $12 \nEnjoy Card Workshops taught by Pat Brennan. An Islander since 1969\, Pat has been giving card classes for over six years. She will teach you basic card-making. At your first class\, in addition to the class fee\, you will be required to buy a tool kit ($7) that includes a dispenser with double-sided tape\, glue dots\, sponge daubers\, and a little bling. \nPlease bring scissors if you have them. \nYou will receive two kits. Each kit will create a beautiful one-of-kind card with envelope\, a card likely to cost $5 or $6 in a store—if you could find one as nice! This is a great opportunity to have fun\, learn card-making\, and surprise friends and family with beautiful cards. \nClass fee includes 2 card kits per class. \nRegister NowBACK TO ALL CLASSES
URL:https://www.islandarts.org/event/handcrafted-greeting-card-workshop-10/
LOCATION:275 South St South Hero VT\, 275 South St\, South Hero\, VT\, United States
CATEGORIES:Arts & Crafts,Classes
ATTACH;FMTTYPE=image/jpeg:https://www.islandarts.org/wp-content/uploads/2026/04/Greeting-Card-Birthday-Wishes-Duck.jpg
END:VEVENT
END:VCALENDAR