BEGIN:VCALENDAR
VERSION:2.0
PRODID:-//Island Arts - ECPv6.15.20//NONSGML v1.0//EN
CALSCALE:GREGORIAN
METHOD:PUBLISH
X-ORIGINAL-URL:https://www.islandarts.org
X-WR-CALDESC:Events for Island Arts
REFRESH-INTERVAL;VALUE=DURATION:PT1H
X-Robots-Tag:noindex
X-PUBLISHED-TTL:PT1H
BEGIN:VTIMEZONE
TZID:UTC
BEGIN:STANDARD
TZOFFSETFROM:+0000
TZOFFSETTO:+0000
TZNAME:UTC
DTSTART:20210101T000000
END:STANDARD
END:VTIMEZONE
BEGIN:VEVENT
DTSTART;TZID=UTC:20240729T130000
DTEND;TZID=UTC:20240802T160000
DTSTAMP:20260423T163238
CREATED:20240526T235022Z
LAST-MODIFIED:20240610T145349Z
UID:10000581-1722258000-1722614400@www.islandarts.org
SUMMARY:Film Camp LCATV: Lights\, Camera\, Action!
DESCRIPTION:Film Camp LCATV: Lights\, Camera\, Action!Date: Monday July 29 – Friday August 2\, 2024\, 1 pm to 4:00 pm\nLocation: Island Arts Center\, 1127 US Rt 2\, North Hero\, VT 05474\nAges: 10 – 17\nCost: Free\, Limited space \nJoin LCATV staff for a fun filled week of filmmaking.  Learn filming and editing techniques under the supervision of an LCATV instructor\, then put those skills to use recreating a scene from the blockbuster film Home Alone for Crowdsourced Cinema VT.  All finished short films will be provided to students and their families on the completion of the camp as a digital file\, as well as play on LCATV Channel 1095. \nFor more information contact Stephanie Soules (instructor) and to sign up contact Island Arts\, Katya Wilcox or call 802-372-8889. \nPhoto courtesy of LCATV\nBACK TO ALL EVENTS
URL:https://www.islandarts.org/event/film-camp-lcatv/
LOCATION:Isle LaMotte Town Hall Community Room\, Isle LaMotte\, VT 05463\, 67 Church St.\, Isle LaMotte\, VT\, 05463\, United States
CATEGORIES:Arts & Crafts,Classes,Events,Free Classes,Youth
ATTACH;FMTTYPE=image/jpeg:https://www.islandarts.org/wp-content/uploads/2024/05/LCATV-Film-Camp-scaled.jpg
END:VEVENT
BEGIN:VEVENT
DTSTART;TZID=UTC:20240619T103000
DTEND;TZID=UTC:20240619T120000
DTSTAMP:20260423T163238
CREATED:20240430T182459Z
LAST-MODIFIED:20240502T202045Z
UID:10000371-1718793000-1718798400@www.islandarts.org
SUMMARY:Handcrafted Greeting Card Workshop
DESCRIPTION:Handcrafted Greeting Card WorkshopDate and Time: Wednesday June 19\, 2024  10:30am – 12:00pm\nInstructor: Pat Brennan\nLocation: 275 South Street\, South Hero\, Vermont 05486 \nTickets: $10 \nEnjoy Card Workshops taught by Pat Brennan. An Islander since 1969\, Pat \nhas been giving card classes for five years. She will teach you basic \ncard-making. At your first class\, in addition to the class fee\,\nyou will be required to buy a tool kit ($7) that includes a dispenser with double-sided tape\, glue dots\, sponge daubers\, and a little bling. \nAt each class\, you will receive two kits. Each kit will create a beautiful one-of-kind card with envelope\, a card likely to cost $5 or $6 in a store—if you could find one as nice! This is a great opportunity to have fun\, learn card-making\, and surprise friends and family with beautiful cards. \nPlease bring scissors if you have them. \nClass fee includes 2 card kits per class. \nRegister NowBACK TO ALL CLASSES
URL:https://www.islandarts.org/event/handcrafted-greeting-card-workshop-5/
LOCATION:275 South St South Hero VT\, 275 South St\, South Hero\, VT\, United States
CATEGORIES:Arts & Crafts,Classes
ATTACH;FMTTYPE=image/jpeg:https://www.islandarts.org/wp-content/uploads/2022/02/Handmade-greeting-card-kit.jpg
END:VEVENT
BEGIN:VEVENT
DTSTART;TZID=UTC:20230823T103000
DTEND;TZID=UTC:20230823T120000
DTSTAMP:20260423T163238
CREATED:20220226T004325Z
LAST-MODIFIED:20230330T115147Z
UID:10000010-1692786600-1692792000@www.islandarts.org
SUMMARY:Handcrafted Greeting Card Workshop
DESCRIPTION:Handcrafted Greeting Card WorkshopDate & Time: Wednesday Aug 23\, 2023 10:30 am -12:00 pm\nLocation: 275 South Street\, South Hero\, Vermont 05486\nTickets: $10 \nEnjoy Card Workshops taught by Pat Brennan. An Islander since 1969\, Pat has been giving card classes for five years. She will teach you basic card-making. At your first class\, in addition to the class fee\, you will be required to buy a tool kit ($7) that includes a dispenser with double-sided tape\, glue dots\, sponge daubers\, and a little bling. \nPlease bring scissors if you have them. \nAt each class\, you will receive two kits. Each kit will create a beautiful one-of-kind card with envelope\, a card likely to cost $5 or $6 in a store—if you could find one as nice! This is a great opportunity to have fun\, learn card-making\, and surprise friends and family with beautiful cards. \nClass fee includes 2 card kits per class. \nRegister NowBACK TO ALL CLASSES
URL:https://www.islandarts.org/event/handcrafted-greeting-card-workshop-3/
LOCATION:Isle LaMotte Town Hall Community Room\, Isle LaMotte\, VT 05463\, 67 Church St.\, Isle LaMotte\, VT\, 05463\, United States
CATEGORIES:Arts & Crafts,Classes
ATTACH;FMTTYPE=image/jpeg:https://www.islandarts.org/wp-content/uploads/2022/02/Card-Workshop-Birthday.jpg
END:VEVENT
BEGIN:VEVENT
DTSTART;TZID=UTC:20230726T103000
DTEND;TZID=UTC:20230726T120000
DTSTAMP:20260423T163238
CREATED:20230329T184557Z
LAST-MODIFIED:20230330T115047Z
UID:10000147-1690367400-1690372800@www.islandarts.org
SUMMARY:Handcrafted Greeting Card Workshop
DESCRIPTION:Handcrafted Greeting Card WorkshopDate & Time: Wednesday July 26\, 2023 10:30 am – 12:00 pm\nLocation: Island Arts Center\, 1127 U.S. Rte. 2\, N. Hero\nLocation: 275 South Street\, South Hero\, Vermont 05486\nTickets: $10 \nEnjoy Card Workshops taught by Pat Brennan. An Islander since 1969\, Pat has been giving card classes for five years. She will teach you basic card-making. At your first class\, in addition to the class fee\, you will be required to buy a tool kit ($7) that includes a dispenser with double-sided tape\, glue dots\, sponge daubers\, and a little bling. \nPlease bring scissors if you have them. \nAt each class\, you will receive two kits. Each kit will create a beautiful one-of-kind card with envelope\, a card likely to cost $5 or $6 in a store—if you could find one as nice! This is a great opportunity to have fun\, learn card-making\, and surprise friends and family with beautiful cards. \nClass fee includes 2 card kits per class. \nRegister NowBACK TO ALL CLASSES
URL:https://www.islandarts.org/event/handcrafted-greeting-card-workshop-4/
LOCATION:Isle LaMotte Town Hall Community Room\, Isle LaMotte\, VT 05463\, 67 Church St.\, Isle LaMotte\, VT\, 05463\, United States
CATEGORIES:Arts & Crafts,Classes
ATTACH;FMTTYPE=image/jpeg:https://www.islandarts.org/wp-content/uploads/2022/02/Card-Workshop-class-and-cards.jpg
END:VEVENT
BEGIN:VEVENT
DTSTART;TZID=UTC:20230628T103000
DTEND;TZID=UTC:20230628T120000
DTSTAMP:20260423T163238
CREATED:20230329T182841Z
LAST-MODIFIED:20230330T115254Z
UID:10000144-1687948200-1687953600@www.islandarts.org
SUMMARY:Handcrafted Greeting Card Workshop
DESCRIPTION:Handcrafted Greeting Card WorkshopDate & Time: Wednesday June 28\, 2023 10:30 am- 12:00 pm\nLocation: 275 South Street\, South Hero\, Vermont 05486\nTickets: $10 \nEnjoy Card Workshops taught by Pat Brennan. An Islander since 1969\, Pat has been giving card classes for five years. She will teach you basic card-making. At your first class\, in addition to the class fee\, you will be required to buy a tool kit ($7) that includes a dispenser with double-sided tape\, glue dots\, sponge daubers\, and a little bling. \nPlease bring scissors if you have them. \nAt each class\, you will receive two kits. Each kit will create a beautiful one-of-kind card with envelope\, a card likely to cost $5 or $6 in a store—if you could find one as nice! This is a great opportunity to have fun\, learn card-making\, and surprise friends and family with beautiful cards. \nClass fee includes 2 card kits per class. \nRegister NowBACK TO ALL CLASSES
URL:https://www.islandarts.org/event/handcrafted-greeting-card-workshop/
LOCATION:Isle LaMotte Town Hall Community Room\, Isle LaMotte\, VT 05463\, 67 Church St.\, Isle LaMotte\, VT\, 05463\, United States
CATEGORIES:Arts & Crafts,Classes
ATTACH;FMTTYPE=image/jpeg:https://www.islandarts.org/wp-content/uploads/2022/02/Handmade-greeting-card-kit.jpg
END:VEVENT
BEGIN:VEVENT
DTSTART;TZID=UTC:20220727T100000
DTEND;TZID=UTC:20220727T113000
DTSTAMP:20260423T163238
CREATED:20220226T004158Z
LAST-MODIFIED:20220603T141244Z
UID:10000011-1658916000-1658921400@www.islandarts.org
SUMMARY:Handcrafted Greeting Card Workshop
DESCRIPTION:Handcrafted Greeting Card WorkshopDate & Time: Wednesday July 27\, 2022 10-11:30 am\nLocation: Island Arts Center\, 1127 U.S. Rte. 2\, N. Hero\nTuition: $40 for all 3 classes or $15 for one class. Class fee includes 2 card kits per class. \nEnjoy Card Workshops taught by Pat Brennan. An Islander since 1969\, Pat has been giving card classes for five years. She will teach you basic card-making. \nAt your first class\, in addition to the class fee\, you will be required to buy a tool kit ($6) that includes a dispenser with double-sided tape\, glue dots\, sponge daubers\, and a little bling. \nPlease bring scissors if you have them. \nAt each class\, you will receive two card kits. Each will create a beautiful one-of-kind card with envelope\, a card likely to cost $5 or $6 in a store—if you could find one as nice! This is a great opportunity to have fun\, learn card-making\, and surprise friends and family with beautiful cards. \nEach class is unique and explores different techniques that widen your skills. You can attend one class or enjoy the set of three classes at a discount. \nRegister NowBACK TO ALL CLASSES
URL:https://www.islandarts.org/event/handcrafted-greeting-card-workshop-2/
LOCATION:Isle LaMotte Town Hall Community Room\, Isle LaMotte\, VT 05463\, 67 Church St.\, Isle LaMotte\, VT\, 05463\, United States
CATEGORIES:Arts & Crafts,Classes
ATTACH;FMTTYPE=image/jpeg:https://www.islandarts.org/wp-content/uploads/2022/02/Card-Workshop-class-and-cards.jpg
END:VEVENT
BEGIN:VEVENT
DTSTART;TZID=UTC:20220622T100000
DTEND;TZID=UTC:20220622T113000
DTSTAMP:20260423T163238
CREATED:20220226T003753Z
LAST-MODIFIED:20220603T140846Z
UID:10000047-1655892000-1655897400@www.islandarts.org
SUMMARY:Handcrafted Greeting Card Workshop
DESCRIPTION:Handcrafted Greeting Card WorkshopDate & Time: Wednesday June 22\, 2022 10-11:30 am\nLocation: Island Arts Center\, 1127 U.S. Rte. 2\, N. Hero\nTuition: $40 for all 3 classes or $15 for one class. Class fee includes 2 card kits per class. \nEnjoy Card Workshops taught by Pat Brennan. An Islander since 1969\, Pat has been giving card classes for five years. She will teach you basic card-making. \nAt your first class\, in addition to the class fee\, you will be required to buy a tool kit ($6) that includes a dispenser with double-sided tape\, glue dots\, sponge daubers\, and a little bling. \nPlease bring scissors if you have them. \nAt each class\, you will receive two card kits. Each will create a beautiful one-of-kind card with envelope\, a card likely to cost $5 or $6 in a store—if you could find one as nice! This is a great opportunity to have fun\, learn card-making\, and surprise friends and family with beautiful cards. \nEach class is unique and explores different techniques that widen your skills. You can attend one class or enjoy the set of three classes at a discount. \nRegister NowBACK TO ALL CLASSES
URL:https://www.islandarts.org/event/handcrafted-greeting-card-workshop-1hop/
LOCATION:Isle LaMotte Town Hall Community Room\, Isle LaMotte\, VT 05463\, 67 Church St.\, Isle LaMotte\, VT\, 05463\, United States
CATEGORIES:Arts & Crafts,Classes
END:VEVENT
END:VCALENDAR