BEGIN:VCALENDAR
VERSION:2.0
PRODID:-//Island Arts - ECPv6.15.20//NONSGML v1.0//EN
CALSCALE:GREGORIAN
METHOD:PUBLISH
X-ORIGINAL-URL:https://www.islandarts.org
X-WR-CALDESC:Events for Island Arts
REFRESH-INTERVAL;VALUE=DURATION:PT1H
X-Robots-Tag:noindex
X-PUBLISHED-TTL:PT1H
BEGIN:VTIMEZONE
TZID:America/New_York
BEGIN:DAYLIGHT
TZOFFSETFROM:-0500
TZOFFSETTO:-0400
TZNAME:EDT
DTSTART:20220313T070000
END:DAYLIGHT
BEGIN:STANDARD
TZOFFSETFROM:-0400
TZOFFSETTO:-0500
TZNAME:EST
DTSTART:20221106T060000
END:STANDARD
BEGIN:DAYLIGHT
TZOFFSETFROM:-0500
TZOFFSETTO:-0400
TZNAME:EDT
DTSTART:20230312T070000
END:DAYLIGHT
BEGIN:STANDARD
TZOFFSETFROM:-0400
TZOFFSETTO:-0500
TZNAME:EST
DTSTART:20231105T060000
END:STANDARD
BEGIN:DAYLIGHT
TZOFFSETFROM:-0500
TZOFFSETTO:-0400
TZNAME:EDT
DTSTART:20240310T070000
END:DAYLIGHT
BEGIN:STANDARD
TZOFFSETFROM:-0400
TZOFFSETTO:-0500
TZNAME:EST
DTSTART:20241103T060000
END:STANDARD
END:VTIMEZONE
BEGIN:VEVENT
DTSTART;TZID=America/New_York:20231007T100000
DTEND;TZID=America/New_York:20231007T160000
DTSTAMP:20260425T143002
CREATED:20230827T142327Z
LAST-MODIFIED:20230919T184205Z
UID:10000141-1696672800-1696694400@www.islandarts.org
SUMMARY:End of Season Book Sale 2023
DESCRIPTION:End of Season Book Sale\nDate & Time: Saturday & Sunday\, October 7-8\, 2023; 10 AM to 4 PM\nMeet the Author: Sunday only\, October 8; Lenny Levine\nLocation: Island Arts Center (barn)\, 1127 U.S. Rte. 2\, North Hero\, VT 05474\nTickets: Free admission. Books by donation. \nThis two-day book sale is a stop on 2023 “Weekend in the Islands” adventure map. More than 4\,000 books cater to every taste. All books are organized by subject for your easy discovery. There are paperbacks\, hard-covers\, and some beautiful books to display. The subjects are varied and include Fiction\, Mysteries\, History\, Travel\, Cooking\, Psychology\, True Stories\, Biographies\, and more. Browse at your leisure in the airy space that is the Island Arts Center barn. \nIsland Arts book sale. Books for every interest.\nAll proceeds benefit Island Arts Youth Programs
URL:https://www.islandarts.org/event/end-of-season-book-sale-2-2/
LOCATION:Isle LaMotte Town Hall Community Room\, Isle LaMotte\, VT 05463\, 67 Church St.\, Isle LaMotte\, VT\, 05463\, United States
CATEGORIES:Benefit,Events
ATTACH;FMTTYPE=image/jpeg:https://www.islandarts.org/wp-content/uploads/2022/02/Silent-Auction-and-Book-Sale_Photo-by-Island-Arts.jpg
END:VEVENT
BEGIN:VEVENT
DTSTART;TZID=America/New_York:20231007T110000
DTEND;TZID=America/New_York:20231007T150000
DTSTAMP:20260425T143002
CREATED:20230324T180114Z
LAST-MODIFIED:20231002T120310Z
UID:10000357-1696676400-1696690800@www.islandarts.org
SUMMARY:End of Season Book Sale 2023
DESCRIPTION:End of Season Book Sale & Silent Auction\nDate & Time: Saturday & Sunday\, October 7-8\, 2023; 11 AM to 3 PM\nMeet the Author: Sunday\, October 8; Lenny Levine\nLocation: Island Arts Center (barn)\, 1127 U.S. Rte. 2\, North Hero\, VT 05474\nTickets: Free admission. Books by donation. \nThis two-day book sale is a stop on 2023 “Weekend in the Islands” adventure map. More than 4\,000 books cater to every taste. All books are organized by subject for your easy discovery. There are paperbacks\, hard-covers\, and some beautiful books to display. The subjects are varied and include Fiction\, Mysteries\, History\, Travel\, Cooking\, Psychology\, True Stories\, Biographies\, and more. Browse at your leisure in the airy space that is the Island Arts Center barn. \nIsland Arts book sale. Books for every interest.\nAll proceeds benefit Island Arts Youth Programs
URL:https://www.islandarts.org/event/end-of-season-book-sale-2/2023-10-07/
LOCATION:Isle LaMotte Town Hall Community Room\, Isle LaMotte\, VT 05463\, 67 Church St.\, Isle LaMotte\, VT\, 05463\, United States
CATEGORIES:Benefit,Events
ATTACH;FMTTYPE=image/jpeg:https://www.islandarts.org/wp-content/uploads/2022/02/Silent-Auction-and-Book-Sale_Photo-by-Island-Arts.jpg
END:VEVENT
BEGIN:VEVENT
DTSTART;TZID=America/New_York:20231008T100000
DTEND;TZID=America/New_York:20231008T160000
DTSTAMP:20260425T143002
CREATED:20230324T180130Z
LAST-MODIFIED:20230919T183942Z
UID:10000140-1696759200-1696780800@www.islandarts.org
SUMMARY:End of Season Book Sale 2023
DESCRIPTION:End of Season Book Sale\nDate & Time: Saturday & Sunday\, October 7-8\, 2023; 10 AM to 4 PM\nMeet the Author: Sunday\, October 8; Lenny Levine writer\, studio singer\, and composer of many successful jingles\nLocation: Island Arts Center (barn)\, 1127 U.S. Rte. 2\, North Hero\, VT 05474\nTickets: Free admission. Books by donation. \nThis two-day book sale is a stop on 2023 “Weekend in the Islands” adventure map. More than 4\,000 books cater to every taste. All books are organized by subject for your easy discovery. There are paperbacks\, hard-covers\, and some beautiful books to display. The subjects are varied and include Fiction\, Mysteries\, History\, Travel\, Cooking\, Psychology\, True Stories\, Biographies\, and more. Browse at your leisure in the airy space that is the Island Arts Center barn. \nAbout Lenny Levine: \nLenny Levine was born and raised in Brooklyn\, NY\, and his soul has never left. Before turning to fiction writing\, he enjoyed a twenty-year career as a studio singer and composer of many successful jingles such as McDonald’s\, Lipton Tea\, and Jeep. He has written songs for Diana Ross\, the Pointer Sisters\, and Barry Manilow and sung backup for Billy Joel\, Peggy Lee\, Carly Simon\, and others. \nHis short stories have been widely published in literary magazines and journals\, and he received a Pushcart Prize nomination for short fiction. Diehard Fan is his third novel. \nReviews \n“The ingredients all work to deliver a compelling\, entertaining novel. The author builds the suspense masterfully\, combining the diverse plot elements – baseball\, a young boy’s coming-of-age story\, a murder mystery\, 1950’s nostalgia and a suspenseful subplot – into a compelling story. Give Diehard Fan a whirl; you’ll enjoy it.”—Baseball Books for Baseball People \n“A well written and well constructed thriller with the end of the 1951 National League baseball season as much more than just background. Although baseball and Brooklyn enthusiasts will eat up the nostalgia\, mystery buffs of all kinds\, baseball fans or not\, will thoroughly enjoy and be totally wrapped up in the intrigue.\nForgive the word play\, but throughout the novel\, the author constantly throws us “curves\, sliders and even an occasional “screwball” with masterful “changes of pace!” Highly recommended reading!”—Goodreads \nBrief Synopsis from Diehard Fan \nEddie Fein is a twelve-year-old boy living in Brooklyn. It’s the last week of the 1951 baseball season\, and his beloved Dodgers are enduring the epic collapse to the hated Giants that will be punctuated by Bobby Thomson’s “shot heard ’round the world.”\nEddie’s love for the Dodgers springs from his love for his father Barry Fein\, a passionate Dodger fan\, but an alcoholic who’s prone to bouts of depression and anger.\nWhen two Giant fans are murdered\, Nick DiFazio\, lead detective on the case and Barry’s best friend\, is afraid of what his suspicions are telling him.\nEddie somehow learns of Nick’s feelings. He secretly embarks on a desperate mission to prove his father’s innocence\, a quest that only seems to worsen things.\nIn the meantime\, and throughout\, we witness the Dodgers’ final week\, sometimes through radio and TV\, sometimes from the playing field itself.\nAnd as Bobby Thomson crushes Ralph Branca’s fastball into baseball history\, Eddie will face the terrifying truth. \nIsland Arts book sale. Books for every interest.\nAll proceeds benefit Island Arts Youth Programs
URL:https://www.islandarts.org/event/end-of-season-book-sale-3/
LOCATION:Isle LaMotte Town Hall Community Room\, Isle LaMotte\, VT 05463\, 67 Church St.\, Isle LaMotte\, VT\, 05463\, United States
CATEGORIES:Benefit,Events
ATTACH;FMTTYPE=image/jpeg:https://www.islandarts.org/wp-content/uploads/2022/02/Silent-Auction-and-Book-Sale_Photo-by-Island-Arts.jpg
END:VEVENT
END:VCALENDAR