BEGIN:VCALENDAR
VERSION:2.0
PRODID:-//Island Arts - ECPv6.15.20//NONSGML v1.0//EN
CALSCALE:GREGORIAN
METHOD:PUBLISH
X-ORIGINAL-URL:https://www.islandarts.org
X-WR-CALDESC:Events for Island Arts
REFRESH-INTERVAL;VALUE=DURATION:PT1H
X-Robots-Tag:noindex
X-PUBLISHED-TTL:PT1H
BEGIN:VTIMEZONE
TZID:UTC
BEGIN:STANDARD
TZOFFSETFROM:+0000
TZOFFSETTO:+0000
TZNAME:UTC
DTSTART:20220101T000000
END:STANDARD
END:VTIMEZONE
BEGIN:VTIMEZONE
TZID:Asia/Dubai
BEGIN:STANDARD
TZOFFSETFROM:+0400
TZOFFSETTO:+0400
TZNAME:+04
DTSTART:20220101T000000
END:STANDARD
END:VTIMEZONE
BEGIN:VEVENT
DTSTART;TZID=UTC:20230904T180000
DTEND;TZID=UTC:20230904T193000
DTSTAMP:20260425T230808
CREATED:20230727T043606Z
LAST-MODIFIED:20230810T000535Z
UID:10000300-1693850400-1693855800@www.islandarts.org
SUMMARY:Folk Dancing
DESCRIPTION:Folk DancingDate and Time: Every Monday Starting August 14th through September 25th. 6PM-7:30PM\nInstructor: Lesley Alpert\nLocation: Grand Isle School\, 224 US-2\, Grand Isle\, VT 05458\nTickets: Free\, Donations to Island Arts are appreciated \nExperience the JOY of community dancing to lively music.\nJoin us for Easy Folk Dancing for All Ages. Enjoy music and dance from many countries including Armenia\, Bulgaria\, France\, Greece\, Israel\, Serbia\, Turkey. No partner required. No experience required\, and new students are always welcome. Bring your water bottle. \nTo verify class schedule or for more information\, contact Lesley at lesley.alpert@gmail.com \nBACK TO ALL CLASSES
URL:https://www.islandarts.org/event/folk-dancing-2/2023-09-04/
LOCATION:Grand Isle School\, 224 Us Route 2\, Grand Isle\, VT\, 05458\, United States
CATEGORIES:Classes,Free Classes
ATTACH;FMTTYPE=image/jpeg:https://www.islandarts.org/wp-content/uploads/2022/01/The-Joy-of-Folk-Dancing.jpg
END:VEVENT
BEGIN:VEVENT
DTSTART;TZID=Asia/Dubai:20230906T160000
DTEND;TZID=Asia/Dubai:20230906T170000
DTSTAMP:20260425T230808
CREATED:20230428T140219Z
LAST-MODIFIED:20230527T155218Z
UID:10000284-1694016000-1694019600@www.islandarts.org
SUMMARY:Tai Chi
DESCRIPTION:Tai ChiDate and Time: Every Wednesday from May 24 – September 6  (or longer)\, 4:00pm – 5:00pm\nInstructor: Rob Rousseau\nLocation: Island Arts Center\, 1127 U.S. Rte. 2\, N. Hero\nTickets: Free\, Donations to Island Arts appreciated\nPlease call for more information and prior to joining 2023 classes by calling Rob Rousseau at 802-373-0947 \nJoin us in Tai Chi for health and relaxation. New students are always welcome.Tai Chi is\, literally\, the connecting of individual energy to the universe energy through a series of movements. Moving simply and letting go of our own blocks allows Chi\, or energy\, to flow. \nQiGong is a method of movement from which Tai Chi and a plethora of other movements have evolved. \nClasses held outside weather permitting; otherwise\, class will move inside the barn. \nBACK TO ALL CLASSES
URL:https://www.islandarts.org/event/tai-chi-3/2023-09-06/
LOCATION:Isle LaMotte Town Hall Community Room\, Isle LaMotte\, VT 05463\, 67 Church St.\, Isle LaMotte\, VT\, 05463\, United States
CATEGORIES:Classes,Free Classes,Health & Wellness
ATTACH;FMTTYPE=image/jpeg:https://www.islandarts.org/wp-content/uploads/2022/01/Tai-Chi-at-Island-Arts.jpg
END:VEVENT
BEGIN:VEVENT
DTSTART;TZID=UTC:20230911T180000
DTEND;TZID=UTC:20230911T193000
DTSTAMP:20260425T230808
CREATED:20230727T043606Z
LAST-MODIFIED:20230810T000535Z
UID:10000301-1694455200-1694460600@www.islandarts.org
SUMMARY:Folk Dancing
DESCRIPTION:Folk DancingDate and Time: Every Monday Starting August 14th through September 25th. 6PM-7:30PM\nInstructor: Lesley Alpert\nLocation: Grand Isle School\, 224 US-2\, Grand Isle\, VT 05458\nTickets: Free\, Donations to Island Arts are appreciated \nExperience the JOY of community dancing to lively music.\nJoin us for Easy Folk Dancing for All Ages. Enjoy music and dance from many countries including Armenia\, Bulgaria\, France\, Greece\, Israel\, Serbia\, Turkey. No partner required. No experience required\, and new students are always welcome. Bring your water bottle. \nTo verify class schedule or for more information\, contact Lesley at lesley.alpert@gmail.com \nBACK TO ALL CLASSES
URL:https://www.islandarts.org/event/folk-dancing-2/2023-09-11/
LOCATION:Grand Isle School\, 224 Us Route 2\, Grand Isle\, VT\, 05458\, United States
CATEGORIES:Classes,Free Classes
ATTACH;FMTTYPE=image/jpeg:https://www.islandarts.org/wp-content/uploads/2022/01/The-Joy-of-Folk-Dancing.jpg
END:VEVENT
BEGIN:VEVENT
DTSTART;TZID=UTC:20230918T180000
DTEND;TZID=UTC:20230918T193000
DTSTAMP:20260425T230808
CREATED:20230727T043606Z
LAST-MODIFIED:20230810T000535Z
UID:10000302-1695060000-1695065400@www.islandarts.org
SUMMARY:Folk Dancing
DESCRIPTION:Folk DancingDate and Time: Every Monday Starting August 14th through September 25th. 6PM-7:30PM\nInstructor: Lesley Alpert\nLocation: Grand Isle School\, 224 US-2\, Grand Isle\, VT 05458\nTickets: Free\, Donations to Island Arts are appreciated \nExperience the JOY of community dancing to lively music.\nJoin us for Easy Folk Dancing for All Ages. Enjoy music and dance from many countries including Armenia\, Bulgaria\, France\, Greece\, Israel\, Serbia\, Turkey. No partner required. No experience required\, and new students are always welcome. Bring your water bottle. \nTo verify class schedule or for more information\, contact Lesley at lesley.alpert@gmail.com \nBACK TO ALL CLASSES
URL:https://www.islandarts.org/event/folk-dancing-2/2023-09-18/
LOCATION:Grand Isle School\, 224 Us Route 2\, Grand Isle\, VT\, 05458\, United States
CATEGORIES:Classes,Free Classes
ATTACH;FMTTYPE=image/jpeg:https://www.islandarts.org/wp-content/uploads/2022/01/The-Joy-of-Folk-Dancing.jpg
END:VEVENT
BEGIN:VEVENT
DTSTART;TZID=UTC:20230925T180000
DTEND;TZID=UTC:20230925T193000
DTSTAMP:20260425T230808
CREATED:20230727T043606Z
LAST-MODIFIED:20230810T000535Z
UID:10000303-1695664800-1695670200@www.islandarts.org
SUMMARY:Folk Dancing
DESCRIPTION:Folk DancingDate and Time: Every Monday Starting August 14th through September 25th. 6PM-7:30PM\nInstructor: Lesley Alpert\nLocation: Grand Isle School\, 224 US-2\, Grand Isle\, VT 05458\nTickets: Free\, Donations to Island Arts are appreciated \nExperience the JOY of community dancing to lively music.\nJoin us for Easy Folk Dancing for All Ages. Enjoy music and dance from many countries including Armenia\, Bulgaria\, France\, Greece\, Israel\, Serbia\, Turkey. No partner required. No experience required\, and new students are always welcome. Bring your water bottle. \nTo verify class schedule or for more information\, contact Lesley at lesley.alpert@gmail.com \nBACK TO ALL CLASSES
URL:https://www.islandarts.org/event/folk-dancing-2/2023-09-25/
LOCATION:Grand Isle School\, 224 Us Route 2\, Grand Isle\, VT\, 05458\, United States
CATEGORIES:Classes,Free Classes
ATTACH;FMTTYPE=image/jpeg:https://www.islandarts.org/wp-content/uploads/2022/01/The-Joy-of-Folk-Dancing.jpg
END:VEVENT
END:VCALENDAR