BEGIN:VCALENDAR
VERSION:2.0
PRODID:-//Island Arts - ECPv6.15.20//NONSGML v1.0//EN
CALSCALE:GREGORIAN
METHOD:PUBLISH
X-WR-CALNAME:Island Arts
X-ORIGINAL-URL:https://www.islandarts.org
X-WR-CALDESC:Events for Island Arts
REFRESH-INTERVAL;VALUE=DURATION:PT1H
X-Robots-Tag:noindex
X-PUBLISHED-TTL:PT1H
BEGIN:VTIMEZONE
TZID:UTC
BEGIN:STANDARD
TZOFFSETFROM:+0000
TZOFFSETTO:+0000
TZNAME:UTC
DTSTART:20250101T000000
END:STANDARD
END:VTIMEZONE
BEGIN:VTIMEZONE
TZID:America/New_York
BEGIN:DAYLIGHT
TZOFFSETFROM:-0500
TZOFFSETTO:-0400
TZNAME:EDT
DTSTART:20250309T070000
END:DAYLIGHT
BEGIN:STANDARD
TZOFFSETFROM:-0400
TZOFFSETTO:-0500
TZNAME:EST
DTSTART:20251102T060000
END:STANDARD
BEGIN:DAYLIGHT
TZOFFSETFROM:-0500
TZOFFSETTO:-0400
TZNAME:EDT
DTSTART:20260308T070000
END:DAYLIGHT
BEGIN:STANDARD
TZOFFSETFROM:-0400
TZOFFSETTO:-0500
TZNAME:EST
DTSTART:20261101T060000
END:STANDARD
BEGIN:DAYLIGHT
TZOFFSETFROM:-0500
TZOFFSETTO:-0400
TZNAME:EDT
DTSTART:20270314T070000
END:DAYLIGHT
BEGIN:STANDARD
TZOFFSETFROM:-0400
TZOFFSETTO:-0500
TZNAME:EST
DTSTART:20271107T060000
END:STANDARD
END:VTIMEZONE
BEGIN:VEVENT
DTSTART;TZID=UTC:20260618T090000
DTEND;TZID=UTC:20260618T110000
DTSTAMP:20260423T172135
CREATED:20260327T155346Z
LAST-MODIFIED:20260406T154757Z
UID:10001396-1781773200-1781780400@www.islandarts.org
SUMMARY:Maeve Kim\, Bird Walk - Goodsell Ridge
DESCRIPTION:Maeve Kim: Bird Walk – Goodsell RidgeDate & Time:  Thursday\, June 18\, 2026: 9 am – 11 am\nLocation: Goodsell Ridge Preserve\nInstructor: Maeve Kim \nTickets: $10\nExplore the Goodsell Ridge Preserve and the birds that inhabit the area this spring. Join Maeve as she guides you through connecting with the Preserve and its birds.\n\nParticipants age 8* and above is suggested.\n* Anyone between 8 and 12 must be accompanied by a parent for the June bird walks.\nPhoto courtesy of audubon.org \nMaeve Kim\, Instructor \nRegister NowPhoto courtesy of audubon.org\nBACK TO ALL CLASSES
URL:https://www.islandarts.org/event/maeve-kim-bird-walk-goodsell-ridge/
LOCATION:Goodsell Ridge Preserve\, 69 Pine St\, Isle LaMotte\, 05463\, United States
CATEGORIES:Birding,Classes,Nature
ATTACH;FMTTYPE=image/jpeg:https://www.islandarts.org/wp-content/uploads/2022/04/birding-bonanza-SQ.jpg
END:VEVENT
BEGIN:VEVENT
DTSTART;TZID=UTC:20260621T093000
DTEND;TZID=UTC:20260621T104500
DTSTAMP:20260423T172135
CREATED:20260325T144259Z
LAST-MODIFIED:20260408T165449Z
UID:10001272-1782034200-1782038700@www.islandarts.org
SUMMARY:Yoga Solstice Celebration
DESCRIPTION:Yoga Solstice Celebration\nNorth Hero House Pier \n(Community Hall if it is rainy or cold)\nSunday June 21\n9:30 am – 10:45 am\nBy donation for Island Arts \nCelebrate the light of the season and the beginning of summer at our Summer Solstice Celebration! Join Kim and Bob Muncil and special guest\, Laleh Nader\, at the North Hero House pier where we will be surrounded by the breathtaking view of Lake Champlain.  \nThe event will include gentle yoga movements and breath to awaken the body\, uplift the spirit\, and align with the radiant energy of the sun. Vocalist\, Laleh Nader\, will carry us deeper into presence with performances\, soulful chanting\, and sing-a-longs that will invite connection and joy for this special time. \nNo experience is necessary. Participants should dress in comfy clothes and bring a yoga mat. (Some mats will be available for use and there will also be some chairs available).  \nThis event is by donation at the door; cash\, check\, or venmo.   \nAll proceeds will support Island Arts programming. \nAll are welcome. 🌞 \nBACK TO ALL EVENTS
URL:https://www.islandarts.org/event/yoga-solstice-celebration/
LOCATION:North Hero House Pier\, 3671 US-2\, North Hero\, VT\, 05474
CATEGORIES:Classes,Events,Health & Wellness,Nature
ATTACH;FMTTYPE=image/png:https://www.islandarts.org/wp-content/uploads/2026/03/Screenshot-2026-03-31-110547-e1774969805359.png
END:VEVENT
BEGIN:VEVENT
DTSTART;TZID=America/New_York:20260622T090000
DTEND;TZID=America/New_York:20260622T100000
DTSTAMP:20260423T172135
CREATED:20260325T155537Z
LAST-MODIFIED:20260331T154820Z
UID:10001325-1782118800-1782122400@www.islandarts.org
SUMMARY:Yin Yoga for All
DESCRIPTION:Yin Yoga for All (Beginner\, Aging\, Active\, and Athletic) with Bob Muncil\nIsland Arts Barn\nJune 22- Aug 31 (No class July 6 and Aug 3)\nMonday mornings 9-10\n$10 donation (cash\, check\, venmo at the door) \nYin Yoga is a contemplative practice that targets the connective tissues of the body such as tendons\, ligaments\, and the deep fascia network. This practice consists of going into a pose\, finding stillness\, and then connecting to the breath while holding the pose for 3-4 minutes.  Most poses are seated poses similar to stretching poses. This is a great practice for people with an active mind as well as an active body.  If you are new to yoga this is a wonderful place to start. \nBob is a certified Yin Yoga and meditation instructor. No experience necessary.  No registration required. Just drop in. A limited number of mats will be available for use.
URL:https://www.islandarts.org/event/yin-yoga-for-all-4/2026-06-22/
LOCATION:Island Arts Center\, 1127 US Rte 2\, North Hero\, 05474\, United States
CATEGORIES:Classes,Free Classes,Health & Wellness
ATTACH;FMTTYPE=image/jpeg:https://www.islandarts.org/wp-content/uploads/2025/05/2-pic-of-only-Bob.jpg
END:VEVENT
BEGIN:VEVENT
DTSTART;TZID=America/New_York:20260624T090000
DTEND;TZID=America/New_York:20260624T103000
DTSTAMP:20260423T172135
CREATED:20260325T153152Z
LAST-MODIFIED:20260331T153550Z
UID:10001280-1782291600-1782297000@www.islandarts.org
SUMMARY:Kundalini Yoga with Kim Muncil
DESCRIPTION:Kundalini Yoga with Kim Muncil\nIsland Arts Barn\nJune 24\, 2026 – Sept 2\, 2026 (No class July 8 and Aug 5)\nWednesday mornings 9:00-10:30\n$15 donation (cash\, check\, venmo at the door)\n\nKundalini Yoga is an ancient  practice that includes movement\, breathwork\, meditation\, and chanting. Each class has a theme and so each class is very different.  Classes are designed yoga sets (kriyas) that work on specific physical\, emotional\, and mental aspects of the body. It is a beautiful practice that will raise your energy and touch your heart.  Kim’s classes include live music and end with a gong relaxation.  Kim is a 500 hr Kundalini and meditation instructor as well as a certified breath coach. No experience is necessary. No registration required. Just drop in.  A limited number of yoga mats are available to use.
URL:https://www.islandarts.org/event/kundalini-yoga-with-kim-muncil/2026-06-24/
LOCATION:Island Arts Center\, 1127 US Rte 2\, North Hero\, 05474\, United States
CATEGORIES:Classes,Free Classes,Health & Wellness
ATTACH;FMTTYPE=image/jpeg:https://www.islandarts.org/wp-content/uploads/2026/03/IMG_0099.jpg
END:VEVENT
BEGIN:VEVENT
DTSTART;TZID=America/New_York:20260629T090000
DTEND;TZID=America/New_York:20260629T100000
DTSTAMP:20260423T172135
CREATED:20260325T155537Z
LAST-MODIFIED:20260331T154820Z
UID:10001373-1782723600-1782727200@www.islandarts.org
SUMMARY:Yin Yoga for All
DESCRIPTION:Yin Yoga for All (Beginner\, Aging\, Active\, and Athletic) with Bob Muncil\nIsland Arts Barn\nJune 22- Aug 31 (No class July 6 and Aug 3)\nMonday mornings 9-10\n$10 donation (cash\, check\, venmo at the door) \nYin Yoga is a contemplative practice that targets the connective tissues of the body such as tendons\, ligaments\, and the deep fascia network. This practice consists of going into a pose\, finding stillness\, and then connecting to the breath while holding the pose for 3-4 minutes.  Most poses are seated poses similar to stretching poses. This is a great practice for people with an active mind as well as an active body.  If you are new to yoga this is a wonderful place to start. \nBob is a certified Yin Yoga and meditation instructor. No experience necessary.  No registration required. Just drop in. A limited number of mats will be available for use.
URL:https://www.islandarts.org/event/yin-yoga-for-all-4/2026-06-29/
LOCATION:Island Arts Center\, 1127 US Rte 2\, North Hero\, 05474\, United States
CATEGORIES:Classes,Free Classes,Health & Wellness
ATTACH;FMTTYPE=image/jpeg:https://www.islandarts.org/wp-content/uploads/2025/05/2-pic-of-only-Bob.jpg
END:VEVENT
END:VCALENDAR