BEGIN:VCALENDAR
VERSION:2.0
PRODID:-//Island Arts - ECPv6.15.20//NONSGML v1.0//EN
CALSCALE:GREGORIAN
METHOD:PUBLISH
X-WR-CALNAME:Island Arts
X-ORIGINAL-URL:https://www.islandarts.org
X-WR-CALDESC:Events for Island Arts
REFRESH-INTERVAL;VALUE=DURATION:PT1H
X-Robots-Tag:noindex
X-PUBLISHED-TTL:PT1H
BEGIN:VTIMEZONE
TZID:UTC
BEGIN:STANDARD
TZOFFSETFROM:+0000
TZOFFSETTO:+0000
TZNAME:UTC
DTSTART:20250101T000000
END:STANDARD
END:VTIMEZONE
BEGIN:VEVENT
DTSTART;TZID=UTC:20260618T090000
DTEND;TZID=UTC:20260618T110000
DTSTAMP:20260423T183322
CREATED:20260327T155346Z
LAST-MODIFIED:20260406T154757Z
UID:10001396-1781773200-1781780400@www.islandarts.org
SUMMARY:Maeve Kim\, Bird Walk - Goodsell Ridge
DESCRIPTION:Maeve Kim: Bird Walk – Goodsell RidgeDate & Time:  Thursday\, June 18\, 2026: 9 am – 11 am\nLocation: Goodsell Ridge Preserve\nInstructor: Maeve Kim \nTickets: $10\nExplore the Goodsell Ridge Preserve and the birds that inhabit the area this spring. Join Maeve as she guides you through connecting with the Preserve and its birds.\n\nParticipants age 8* and above is suggested.\n* Anyone between 8 and 12 must be accompanied by a parent for the June bird walks.\nPhoto courtesy of audubon.org \nMaeve Kim\, Instructor \nRegister NowPhoto courtesy of audubon.org\nBACK TO ALL CLASSES
URL:https://www.islandarts.org/event/maeve-kim-bird-walk-goodsell-ridge/
LOCATION:Goodsell Ridge Preserve\, 69 Pine St\, Isle LaMotte\, 05463\, United States
CATEGORIES:Birding,Classes,Nature
ATTACH;FMTTYPE=image/jpeg:https://www.islandarts.org/wp-content/uploads/2022/04/birding-bonanza-SQ.jpg
END:VEVENT
END:VCALENDAR