BEGIN:VCALENDAR
VERSION:2.0
PRODID:-//Island Arts - ECPv6.15.20//NONSGML v1.0//EN
CALSCALE:GREGORIAN
METHOD:PUBLISH
X-WR-CALNAME:Island Arts
X-ORIGINAL-URL:https://www.islandarts.org
X-WR-CALDESC:Events for Island Arts
REFRESH-INTERVAL;VALUE=DURATION:PT1H
X-Robots-Tag:noindex
X-PUBLISHED-TTL:PT1H
BEGIN:VTIMEZONE
TZID:America/New_York
BEGIN:DAYLIGHT
TZOFFSETFROM:-0500
TZOFFSETTO:-0400
TZNAME:EDT
DTSTART:20250309T070000
END:DAYLIGHT
BEGIN:STANDARD
TZOFFSETFROM:-0400
TZOFFSETTO:-0500
TZNAME:EST
DTSTART:20251102T060000
END:STANDARD
BEGIN:DAYLIGHT
TZOFFSETFROM:-0500
TZOFFSETTO:-0400
TZNAME:EDT
DTSTART:20260308T070000
END:DAYLIGHT
BEGIN:STANDARD
TZOFFSETFROM:-0400
TZOFFSETTO:-0500
TZNAME:EST
DTSTART:20261101T060000
END:STANDARD
BEGIN:DAYLIGHT
TZOFFSETFROM:-0500
TZOFFSETTO:-0400
TZNAME:EDT
DTSTART:20270314T070000
END:DAYLIGHT
BEGIN:STANDARD
TZOFFSETFROM:-0400
TZOFFSETTO:-0500
TZNAME:EST
DTSTART:20271107T060000
END:STANDARD
END:VTIMEZONE
BEGIN:VTIMEZONE
TZID:UTC
BEGIN:STANDARD
TZOFFSETFROM:+0000
TZOFFSETTO:+0000
TZNAME:UTC
DTSTART:20250101T000000
END:STANDARD
END:VTIMEZONE
BEGIN:VEVENT
DTSTART;TZID=America/New_York:20260722T090000
DTEND;TZID=America/New_York:20260722T103000
DTSTAMP:20260423T202558
CREATED:20260325T153152Z
LAST-MODIFIED:20260331T153550Z
UID:10001401-1784710800-1784716200@www.islandarts.org
SUMMARY:Kundalini Yoga with Kim Muncil
DESCRIPTION:Kundalini Yoga with Kim Muncil\nIsland Arts Barn\nJune 24\, 2026 – Sept 2\, 2026 (No class July 8 and Aug 5)\nWednesday mornings 9:00-10:30\n$15 donation (cash\, check\, venmo at the door)\n\nKundalini Yoga is an ancient  practice that includes movement\, breathwork\, meditation\, and chanting. Each class has a theme and so each class is very different.  Classes are designed yoga sets (kriyas) that work on specific physical\, emotional\, and mental aspects of the body. It is a beautiful practice that will raise your energy and touch your heart.  Kim’s classes include live music and end with a gong relaxation.  Kim is a 500 hr Kundalini and meditation instructor as well as a certified breath coach. No experience is necessary. No registration required. Just drop in.  A limited number of yoga mats are available to use.
URL:https://www.islandarts.org/event/kundalini-yoga-with-kim-muncil/2026-07-22/
LOCATION:Island Arts Center\, 1127 US Rte 2\, North Hero\, 05474\, United States
CATEGORIES:Classes,Free Classes,Health & Wellness
ATTACH;FMTTYPE=image/jpeg:https://www.islandarts.org/wp-content/uploads/2026/03/IMG_0099.jpg
END:VEVENT
BEGIN:VEVENT
DTSTART;TZID=UTC:20260722T103000
DTEND;TZID=UTC:20260722T120000
DTSTAMP:20260423T202558
CREATED:20260413T014838Z
LAST-MODIFIED:20260413T014838Z
UID:10001414-1784716200-1784721600@www.islandarts.org
SUMMARY:Handcrafted Greeting Card Workshop
DESCRIPTION:Handcrafted Shadow Box WorkshopDate & Time: Wednesday July 22\, 2026 10:30 am – 12:00 pm\nLocation: 275 South Street\, South Hero\, Vermont 05486\nTickets: $30 \nExperience the joy of creating your personal Shadow Box with a morning workshop taught by Pat Brennan. An Islander since 1969\, Pat has been giving card and craft classes for over six years. She will teach you the layered technique of creating designs in a Shadow Box frame. At your first class\, in addition to the class fee\, you will be required to buy a tool kit ($7) that includes a dispenser with double-sided tape\, glue dots\, sponge daubers\, and a little bling. \nPlease bring scissors if you have them. \nYou will receive one shadow box frame and the numerous cut-out layers to build your art piece. The kit will create a beautiful one-of-kind work of art\, ready to hang\, a work likely to cost $50 plus in a gallery—if you could find one as nice! This is a great opportunity to have fun\, learn a new craft\, and surprise friends and family with beautiful hanging artwork. \nClass fee includes 1 frame and image content per class. \nRegister NowBACK TO ALL CLASSES
URL:https://www.islandarts.org/event/handcrafted-greeting-card-workshop-12/
LOCATION:275 South St South Hero VT\, 275 South St\, South Hero\, VT\, United States
CATEGORIES:Arts & Crafts,Classes
ATTACH;FMTTYPE=image/jpeg:https://www.islandarts.org/wp-content/uploads/2026/04/Shadow-Box-Cardinal.jpg
END:VEVENT
END:VCALENDAR