BEGIN:VCALENDAR
VERSION:2.0
PRODID:-//Island Arts - ECPv6.15.20//NONSGML v1.0//EN
CALSCALE:GREGORIAN
METHOD:PUBLISH
X-WR-CALNAME:Island Arts
X-ORIGINAL-URL:https://www.islandarts.org
X-WR-CALDESC:Events for Island Arts
REFRESH-INTERVAL;VALUE=DURATION:PT1H
X-Robots-Tag:noindex
X-PUBLISHED-TTL:PT1H
BEGIN:VTIMEZONE
TZID:UTC
BEGIN:STANDARD
TZOFFSETFROM:+0000
TZOFFSETTO:+0000
TZNAME:UTC
DTSTART:20230101T000000
END:STANDARD
END:VTIMEZONE
BEGIN:VTIMEZONE
TZID:America/New_York
BEGIN:DAYLIGHT
TZOFFSETFROM:-0500
TZOFFSETTO:-0400
TZNAME:EDT
DTSTART:20230312T070000
END:DAYLIGHT
BEGIN:STANDARD
TZOFFSETFROM:-0400
TZOFFSETTO:-0500
TZNAME:EST
DTSTART:20231105T060000
END:STANDARD
BEGIN:DAYLIGHT
TZOFFSETFROM:-0500
TZOFFSETTO:-0400
TZNAME:EDT
DTSTART:20240310T070000
END:DAYLIGHT
BEGIN:STANDARD
TZOFFSETFROM:-0400
TZOFFSETTO:-0500
TZNAME:EST
DTSTART:20241103T060000
END:STANDARD
BEGIN:DAYLIGHT
TZOFFSETFROM:-0500
TZOFFSETTO:-0400
TZNAME:EDT
DTSTART:20250309T070000
END:DAYLIGHT
BEGIN:STANDARD
TZOFFSETFROM:-0400
TZOFFSETTO:-0500
TZNAME:EST
DTSTART:20251102T060000
END:STANDARD
END:VTIMEZONE
BEGIN:VEVENT
DTSTART;TZID=UTC:20240803T190000
DTEND;TZID=UTC:20240803T203000
DTSTAMP:20260424T205948
CREATED:20240430T175913Z
LAST-MODIFIED:20240723T211412Z
UID:10000370-1722711600-1722717000@www.islandarts.org
SUMMARY:A Cappella Lollapalooza
DESCRIPTION:A Cappella LollapaloozaDate & Time: Saturday\, August 3\, 2024; 7PM.\nInside concert.\nLocation: Island Arts Center\, 1127 U.S. Rte. 2\, North Hero\nTickets: $25 \nChordination \nThree ensembles of different styles will perform unaccompanied at this event. You will enjoy the Green Mountain Chorus\, the Chordination barbershop quartet\, and –new this season– the VLQ (Very Large Quartet)\, Offshoots. \nThe Green Mountain Chorus of men from Vermont and Quebec has sounded the chords of Barbershop harmony together for 77 years. A unique form of a cappella singing\, Barbershop employs close four-part harmony. This chorus\, directed by the Cerutti brothers\, livens it up with a little audience participation. \nChordination is a quartet of talented and well-known singers. Neil Schell sings Lead\, Neil & Charlie Cerutti sing Baritone & Tenor respectively\, and Karl Naden is the Bass. They deliver tunes from pop\, folk\, and Broadway traditions arranged in the Barbershop Style. The group recently qualified to compete in the Barbershop Harmony Society’s Northeast District finals competition this coming Fall. \nGET TICKETSBACK TO ALL EVENTS
URL:https://www.islandarts.org/event/a-cappella-lollapalooza-3/
LOCATION:Isle LaMotte Town Hall Community Room\, Isle LaMotte\, VT 05463\, 67 Church St.\, Isle LaMotte\, VT\, 05463\, United States
CATEGORIES:Concerts,Events,Music
ATTACH;FMTTYPE=image/png:https://www.islandarts.org/wp-content/uploads/2024/04/green-mountain-chorus.png
END:VEVENT
BEGIN:VEVENT
DTSTART;TZID=UTC:20240811T180000
DTEND;TZID=UTC:20240811T193000
DTSTAMP:20260424T205949
CREATED:20240512T194116Z
LAST-MODIFIED:20240811T172124Z
UID:10000562-1723399200-1723404600@www.islandarts.org
SUMMARY:The Dixie Six
DESCRIPTION:The Dixie SixDate: Sunday August 11\, 2024\, 6:00 pm; This concert will be held inside the barn due to weather.\nBring your picnic for 5:30pm or just come for the music!\nLocation: Island Arts Center\, 1127 U.S. Rte. 2\, North Hero\nTickets: $15 online and at the door. Chairs are available. \nVermont’s Dixie Six is a band well-loved by Island Arts’ audiences\, and the group is well-known in the greater Burlington music scene. These six Vermont musicians focus on the sound and repertoire of Louis Armstrong’s All Stars of the 1950’s and 1960’s. The All Stars are famous for hits such as “Blueberry Hill\,” “Mack the Knife\,” and “Hello\, Dolly!” which blew “the Beatles off the top of pop charts at the height of Beatlemania.” This lively jazz still thrills\, appealing to all ages. Though retaining a traditional Dixie feel\, band’s updated rhythm section gives a new energy to New Orleans classics and mid-century standards. \n“Thanks to Island Arts for inviting us to play. We hope you enjoy the music as much as we enjoy playing it for you.”\n~ The Dixie Six \nListen to a recent performance: \nTICKETS BACK TO ALL EVENTS
URL:https://www.islandarts.org/event/the-dixie-six-2/
LOCATION:Isle LaMotte Town Hall Community Room\, Isle LaMotte\, VT 05463\, 67 Church St.\, Isle LaMotte\, VT\, 05463\, United States
CATEGORIES:Concerts,Events,Music
ATTACH;FMTTYPE=image/png:https://www.islandarts.org/wp-content/uploads/2024/05/Dixie-Six-24.png
END:VEVENT
BEGIN:VEVENT
DTSTART;TZID=America/New_York:20240817T190000
DTEND;TZID=America/New_York:20240817T210000
DTSTAMP:20260424T205949
CREATED:20240512T194508Z
LAST-MODIFIED:20240723T224059Z
UID:10000563-1723921200-1723928400@www.islandarts.org
SUMMARY:Haiduck & Heckendorn
DESCRIPTION:Haiduck & Heckendorn Sing & Play the Great American SongbookDate and Time: Saturday\, August 17\, 2024; 7 PM to ~9 PM\, with an intermission.\nLocation: Island Arts Center\, 1127 US Rt 2\, North Hero\, VT 05474\nConcert tickets: $25.\nTable Reservation: $14 / $20 \nReserve a table for seating at $14 for a 2-top\, $20 for a 4-top\, and BYOB. Table tickets are available online or at the door\, first come-first served\, and subject to availability. Tables tickets are not available from local ticket outlets. \nEnjoy an informal cabaret-style evening featuring a fine jazz quartet of clarinet\, concert grand piano\, double bass\, and drums! Relax at your own table while the quartet performs all-time favorite music from the Great American Songbook. \nNeal Haiduck on clarinet and David Heckendorn on piano are joined by two of Burlington’s finest musicians: J.D. Haenni\, accomplished bassist from New Orleans\, and Dan Ryan on drums. A special guest is to be announced. (It’s a surprise—you’ll like it!) \nThe quartet will play—and sing—songs by composers they didn’t get around to last summer. This year you will hear music by George Gershwin\, Duke Ellington\, Irving Berlin\, Rodgers & Hart\, Lerner & Loewe\, and Matt Dennis. And music by Cole Porter\, Leonard Bernstein\, Johnny Mercer\, and others––some well-known\, some not-so-well-known. \nHaiduck and Heckendorn have performed and recorded together for many years in the New York City area. Clarinetist Neal Haiduck has played jazz and classical music in New York City\, Montréal\, London\, Europe\, South America\, and Japan. He now makes his home in Burlington\, where he makes the lively jazz scene. \nPianist David Heckendorn was the orchestrator for “Mr. Holland’s Opus.” His compositions have been performed in various American venues\, including St. Patrick’s Cathedral and Birdland in New York City\, and in Europe and East Europe. He lives in Ulster County\, New York. \nGET TICKETSBACK TO ALL EVENTS
URL:https://www.islandarts.org/event/haiduck-heckendorn/
LOCATION:Isle LaMotte Town Hall Community Room\, Isle LaMotte\, VT 05463\, 67 Church St.\, Isle LaMotte\, VT\, 05463\, United States
CATEGORIES:Concerts,Events,Music
ATTACH;FMTTYPE=image/jpeg:https://www.islandarts.org/wp-content/uploads/2023/03/Heckendorn-Haiduck-2-by-piano_2023-1.jpeg
END:VEVENT
BEGIN:VEVENT
DTSTART;TZID=UTC:20240818T160000
DTEND;TZID=UTC:20240818T173000
DTSTAMP:20260424T205949
CREATED:20240512T194946Z
LAST-MODIFIED:20240512T194946Z
UID:10000564-1723996800-1724002200@www.islandarts.org
SUMMARY:Vermont Jazz Ensemble
DESCRIPTION:Vermont Jazz EnsembleDate: Sunday August 18\, 2024\, 4:00 pm to 5:30 pm. Picnic on the green at 3:30\, weather permitting; otherwise\, concert will move inside the barn.\nLocation: Island Arts Center\, 1127 US Rt 2\, North Hero\, VT 05474\nTickets: $25 \nVermont’s premier big-band swing/dance group. Swingin’ for over 40 years! Their appearance is always a popular event in the hot venues across Vermont such as Nectar’s in Burlington\, The Stone Barn in Brattleboro\, and the Zenbarn in Waterbury. Now appearing right here for you in the Islands. \nPhoto courtesy of The Vermont Jazz Ensemble\nGET TICKETSBACK TO ALL EVENTS
URL:https://www.islandarts.org/event/vermont-jazz-ensemble-3/
LOCATION:Isle LaMotte Town Hall Community Room\, Isle LaMotte\, VT 05463\, 67 Church St.\, Isle LaMotte\, VT\, 05463\, United States
CATEGORIES:Concerts,Events,Music
ATTACH;FMTTYPE=image/jpeg:https://www.islandarts.org/wp-content/uploads/2022/02/Vt-Jazz-Ensemble_Photo-courtesy-of-The-Vermont-Jazz-Ensemble_add-their-facebook-link.jpg
END:VEVENT
BEGIN:VEVENT
DTSTART;TZID=America/New_York:20240823T190000
DTEND;TZID=America/New_York:20240823T201500
DTSTAMP:20260424T205949
CREATED:20240512T195247Z
LAST-MODIFIED:20240822T140400Z
UID:10000565-1724439600-1724444100@www.islandarts.org
SUMMARY:Sohyun Ahn\, Piano Solo & 4 Hands
DESCRIPTION:Sohyun Ahn\, Piano Solo & 4-HandsDate and Time: Friday\, August 23\, 2024; 7 pm to 8:15 pm. No intermission.\nLocation: Island Arts Center red barn\, 1127 US Rt 2\, North Hero\, VT 05474\nTickets: $25.00 online or at the door\nConcert Program: Click here for the program \nNew York City concert pianist Sohyun Ahn returns to Island Arts for the third year with another beautiful program for our community. Her well-attended concerts of the last two summers elicited raves\, including “amazing delicacy” and “world class”. \nThis program showcases Ahn playing solo piano the Ballade No. 4 and Three Nocturnes Op. 15 by Chopin\, and Sonata in E flat Major by Haydn. \nLocal Vermont pianist Eun Hee Park joins Ahn to play the piano 4-hands work Romantiques\, Op. 55 by Cécile Chaminade. Watching the interaction of four hands sharing the keyboard is always a special treat. French composer Chaminade was awarded the Légion d’Honneur\, a national award of merit\, a first ever given to a female compose \nSohyun Ahn has been described as “an absolute master” by the New York Concert Review\, and as an “amazing pianist” by the Classical New Jersey Society. Our Vermont audience raved: “Absolutely superb”. “I was enthralled”. “Their fingers danced on the keyboard”\, “Such a different experience from the big city hall where you are miles from the performer”. \nAhn is not to be missed. From the liner notes for Ahn’s Bach Goldberg Variations: “Her playing exhibits a crystalline clarity\, insightful nuance\, and dynamic breadth.” From Piano Music Magazine\, Korea: “Such a gifted virtuoso\, wonderful performing the emotional storm … with the perfectly balanced elegance.” \nGet TicketsBACK TO ALL EVENTS
URL:https://www.islandarts.org/event/sohyun-ahn-piano-solo-4-hands-2/
LOCATION:Isle LaMotte Town Hall Community Room\, Isle LaMotte\, VT 05463\, 67 Church St.\, Isle LaMotte\, VT\, 05463\, United States
CATEGORIES:Concerts,Events,Music
ATTACH;FMTTYPE=image/jpeg:https://www.islandarts.org/wp-content/uploads/2023/03/Sohyun-Ahn-from-vido-on-her-website-2-2.jpg
END:VEVENT
BEGIN:VEVENT
DTSTART;TZID=UTC:20240825T160000
DTEND;TZID=UTC:20240825T173000
DTSTAMP:20260424T205949
CREATED:20230324T190512Z
LAST-MODIFIED:20240819T161919Z
UID:10000128-1724601600-1724607000@www.islandarts.org
SUMMARY:Island Arts 40th Anniversary Celebration & Marsh Lights Bluegrass Concert
DESCRIPTION:Marsh Lights Bluegrass\nIsland Arts 40th Anniversary Celebration with Food Truck Date and Time: Sunday\, August 25\, 2024; 4:00 pm to 5:30 pm.\nOutside concert with option to picnic on the green at 3:30 pm\, weather permitting. If weather requires\, concert will move inside the barn.\nLightning Lardy’s Catering food truck will be on premises for BBQ purchases! \nLocation: Island Arts Center\, 1127 U.S. Rte. 2\, North Hero \nTickets: FREE event thanks to generous sponsors! \nVermont musician Colby Crehan\, former vocalist and songwriter for the Bluegrass\nGospel Project and Possum Haw\, reunites with Possum Haw bandmates for the new\n5-piece acoustic project Marsh Lights. \nBYOB. Rain or shine. A chair or blanket is suggested. \nVermont Vocalist of the Year\nVermont Song of the Year\nFormer members of PossumHaw and The Bluegrass Gospel Project\n“The combination of talent\, passion\, and songwriting in the band is breathtaking.”\n– Mary-Nell Bockman\, Whallonsburg Grange \nBACK TO ALL EVENTS
URL:https://www.islandarts.org/event/marsh-lights-bluegrass/
LOCATION:Isle LaMotte Town Hall Community Room\, Isle LaMotte\, VT 05463\, 67 Church St.\, Isle LaMotte\, VT\, 05463\, United States
CATEGORIES:Concerts,Events,Music
ATTACH;FMTTYPE=image/png:https://www.islandarts.org/wp-content/uploads/2024/05/marsh-lights-bluegrass.png
END:VEVENT
END:VCALENDAR