BEGIN:VCALENDAR
VERSION:2.0
PRODID:-//Island Arts - ECPv6.15.20//NONSGML v1.0//EN
CALSCALE:GREGORIAN
METHOD:PUBLISH
X-WR-CALNAME:Island Arts
X-ORIGINAL-URL:https://www.islandarts.org
X-WR-CALDESC:Events for Island Arts
REFRESH-INTERVAL;VALUE=DURATION:PT1H
X-Robots-Tag:noindex
X-PUBLISHED-TTL:PT1H
BEGIN:VTIMEZONE
TZID:UTC
BEGIN:STANDARD
TZOFFSETFROM:+0000
TZOFFSETTO:+0000
TZNAME:UTC
DTSTART:20220101T000000
END:STANDARD
END:VTIMEZONE
BEGIN:VEVENT
DTSTART;TZID=UTC:20230709T183000
DTEND;TZID=UTC:20230709T200000
DTSTAMP:20260425T235022
CREATED:20230324T175131Z
LAST-MODIFIED:20230501T194329Z
UID:10000097-1688927400-1688932800@www.islandarts.org
SUMMARY:A Cappella Lollapalooza
DESCRIPTION:A Cappella LollapaloozaDate: Sunday July 9\, 2023; 6:30 PM. Outside concert with option to picnic on the green at 5:30\, weather permitting; otherwise\, concert will move inside the barn.\nLocation: Island Arts Center\, 1127 US Rt 2\, North Hero\, VT 05474\nTickets: $25 \nChordination \nThree ensembles of different styles will perform at this event. The Root 7 ensemble appears with the Green Mountain Chorus and the Chordination barbershop quartet. \nRoot 7 is a contemporary mixed a cappella group that features voices and vocal percussion. Their energetic renditions include songs by Pink\, James Bay\, Rusted Root\, Lauren Daigle\, Jason Mraz\, and more. \nThe Green Mountain Chorus of men from Vermont and Quebec have sounded the chords of Barbershop harmony together for over 70 years. A unique form of a cappella singing\, Barbershop employs close four-part harmony. This chorus livens it up with a little comedy and audience participation—to the delight of audiences of all ages. \nThe Chordination quartet of unaccompanied singers delivers tunes from pop\, folk\, and Broadway traditions\, arranged in the Barbershop Style. \nGET TICKETSBACK TO ALL EVENTS
URL:https://www.islandarts.org/event/a-cappella-lollapalooza-2/
LOCATION:Isle LaMotte Town Hall Community Room\, Isle LaMotte\, VT 05463\, 67 Church St.\, Isle LaMotte\, VT\, 05463\, United States
CATEGORIES:Concerts,Events,Music
ATTACH;FMTTYPE=image/jpeg:https://www.islandarts.org/wp-content/uploads/2023/03/Root-7-group-image_2022.jpg
END:VEVENT
END:VCALENDAR