BEGIN:VCALENDAR
VERSION:2.0
PRODID:-//Island Arts - ECPv6.15.20//NONSGML v1.0//EN
CALSCALE:GREGORIAN
METHOD:PUBLISH
X-WR-CALNAME:Island Arts
X-ORIGINAL-URL:https://www.islandarts.org
X-WR-CALDESC:Events for Island Arts
REFRESH-INTERVAL;VALUE=DURATION:PT1H
X-Robots-Tag:noindex
X-PUBLISHED-TTL:PT1H
BEGIN:VTIMEZONE
TZID:UTC
BEGIN:STANDARD
TZOFFSETFROM:+0000
TZOFFSETTO:+0000
TZNAME:UTC
DTSTART:20220101T000000
END:STANDARD
END:VTIMEZONE
BEGIN:VEVENT
DTSTART;TZID=UTC:20230715T183000
DTEND;TZID=UTC:20230715T203000
DTSTAMP:20260425T235027
CREATED:20230519T112600Z
LAST-MODIFIED:20230519T112602Z
UID:10000103-1689445800-1689453000@www.islandarts.org
SUMMARY:Bella Voca Band & Dance Party
DESCRIPTION:Bella Voca Band & Dance PartyDate and Time: Saturday\, July 15\, 2023; 6:30 PM. Outside concert with option to picnic on the green at 5:30\, weather permitting; otherwise\, concert will move inside the barn.\nLocation: Island Arts Center\, 1127 U.S. Rte. 2\, North Hero\nTickets: FREE event. Registration is suggested. \nA vocal powerhouse band of six musicians with three vocalists. Tracy DeCoste\, Brigid Bushey\, Dan Rochester\, Eric McCaughan\, Dale Derusha\, and Mike Trudo deliver great music from all genres. Dance your heart out! Bella Voca plays a great variety of music to please all\, with songs from the Beatles\, Adele\, Fleetwood Mac\, Elton John\, Dua Lipa\, just to name a few. The popular six-piece band performs in upstate NY and Vermont. \nThe awards to the winners of Island Arts’ second Sylvia Barry Art Contest for Youth will be handed out during the intermission.\nRain or shine. A chair or blanket is suggested. \nRegister HereBACK TO ALL EVENTS
URL:https://www.islandarts.org/event/bella-voca-band-dance-party-2-2/
LOCATION:Isle LaMotte Town Hall Community Room\, Isle LaMotte\, VT 05463\, 67 Church St.\, Isle LaMotte\, VT\, 05463\, United States
CATEGORIES:Concerts,Events,Music
END:VEVENT
END:VCALENDAR