BEGIN:VCALENDAR
VERSION:2.0
PRODID:-//Island Arts - ECPv6.15.20//NONSGML v1.0//EN
CALSCALE:GREGORIAN
METHOD:PUBLISH
X-ORIGINAL-URL:https://www.islandarts.org
X-WR-CALDESC:Events for Island Arts
REFRESH-INTERVAL;VALUE=DURATION:PT1H
X-Robots-Tag:noindex
X-PUBLISHED-TTL:PT1H
BEGIN:VTIMEZONE
TZID:America/New_York
BEGIN:DAYLIGHT
TZOFFSETFROM:-0500
TZOFFSETTO:-0400
TZNAME:EDT
DTSTART:20220313T070000
END:DAYLIGHT
BEGIN:STANDARD
TZOFFSETFROM:-0400
TZOFFSETTO:-0500
TZNAME:EST
DTSTART:20221106T060000
END:STANDARD
BEGIN:DAYLIGHT
TZOFFSETFROM:-0500
TZOFFSETTO:-0400
TZNAME:EDT
DTSTART:20230312T070000
END:DAYLIGHT
BEGIN:STANDARD
TZOFFSETFROM:-0400
TZOFFSETTO:-0500
TZNAME:EST
DTSTART:20231105T060000
END:STANDARD
BEGIN:DAYLIGHT
TZOFFSETFROM:-0500
TZOFFSETTO:-0400
TZNAME:EDT
DTSTART:20240310T070000
END:DAYLIGHT
BEGIN:STANDARD
TZOFFSETFROM:-0400
TZOFFSETTO:-0500
TZNAME:EST
DTSTART:20241103T060000
END:STANDARD
END:VTIMEZONE
BEGIN:VEVENT
DTSTART;TZID=America/New_York:20230723T183000
DTEND;TZID=America/New_York:20230723T200000
DTSTAMP:20260425T222826
CREATED:20230325T123349Z
LAST-MODIFIED:20230721T151535Z
UID:10000107-1690137000-1690142400@www.islandarts.org
SUMMARY:Metalwerx Tuba Euphonium Quartet
DESCRIPTION:Metalwerx Tuba Euphonium QuartetDate and Time: Sunday\, July 23\, 2023; 6:30 PM. Inside concert with option to picnic outside on the green at 5:30\, weather permitting.\nLocation: Island Arts Center\, 1127 US Rt 2\, North Hero\, VT 05474\nTickets: $25\nTable Reservation: $14 / $20 \nEnjoy the performance at your own private cabaret-style table.\nReserve a table for an additional $14 to the ticket price for a 2-top or $20 for a 4-top. BYOB. Order tables online or at the door\, first come-first served. Tables are not available from local ticket outlets. \nPrepare to be amazed! MetalWerx is a unique local quartet consisting of two euphoniums—played by Dale Long of South Burlington and Jenna Schultz of Winooski\, and two tubas—played by Tim Foley of Burlington and Yutaka Kono of Shelburne. \nThe repertoire is an eclectic mix of fantasies\, suites\, marches\, jazz\, and pop music standards\, and a few favorite classical transcriptions sure to please the ear of every music lover’s taste. Noted composers include Holst\, Sousa\, Puccini\, Rossini\, and Piazzolla. MetalWerx has presented concerts at the University of Vermont\, participated in the 2015 “Bach In The Subways” event in Burlington\, and provided music for wedding and funeral services. \nMetalWerx spreads the gospel of the lush and colorful sounds of the tuba and euphonium by performing works written or arranged for this specific instrumentation. The group has commissioned new pieces for this quartet by Vermont composer/hornist Lydia Lowery Busler and Burlington trombonist/pianist/composer/arranger Andrew Muroz. \nThe quartet was founded in 2008 to provide incidental music for the Milton Community Band Christmas concert. They had so much fun putting that together\, they decided to continue and see where it led. \nCome hear the remarkable range of sounds and the wide array of musical styles presented by MetalWerx. It is a sound like no other! \nView their Face Book page here \nGET TICKETSBACK TO ALL EVENTS
URL:https://www.islandarts.org/event/metalwerx-tuba-euphonium-quartet/
LOCATION:Isle LaMotte Town Hall Community Room\, Isle LaMotte\, VT 05463\, 67 Church St.\, Isle LaMotte\, VT\, 05463\, United States
CATEGORIES:Concerts,Events,Music
ATTACH;FMTTYPE=image/jpeg:https://www.islandarts.org/wp-content/uploads/2023/03/Metalwerx-publicity-photo_2023_1200.jpeg
END:VEVENT
END:VCALENDAR