BEGIN:VCALENDAR
VERSION:2.0
PRODID:-//Island Arts - ECPv6.15.20//NONSGML v1.0//EN
CALSCALE:GREGORIAN
METHOD:PUBLISH
X-ORIGINAL-URL:https://www.islandarts.org
X-WR-CALDESC:Events for Island Arts
REFRESH-INTERVAL;VALUE=DURATION:PT1H
X-Robots-Tag:noindex
X-PUBLISHED-TTL:PT1H
BEGIN:VTIMEZONE
TZID:America/New_York
BEGIN:DAYLIGHT
TZOFFSETFROM:-0500
TZOFFSETTO:-0400
TZNAME:EDT
DTSTART:20220313T070000
END:DAYLIGHT
BEGIN:STANDARD
TZOFFSETFROM:-0400
TZOFFSETTO:-0500
TZNAME:EST
DTSTART:20221106T060000
END:STANDARD
BEGIN:DAYLIGHT
TZOFFSETFROM:-0500
TZOFFSETTO:-0400
TZNAME:EDT
DTSTART:20230312T070000
END:DAYLIGHT
BEGIN:STANDARD
TZOFFSETFROM:-0400
TZOFFSETTO:-0500
TZNAME:EST
DTSTART:20231105T060000
END:STANDARD
BEGIN:DAYLIGHT
TZOFFSETFROM:-0500
TZOFFSETTO:-0400
TZNAME:EDT
DTSTART:20240310T070000
END:DAYLIGHT
BEGIN:STANDARD
TZOFFSETFROM:-0400
TZOFFSETTO:-0500
TZNAME:EST
DTSTART:20241103T060000
END:STANDARD
END:VTIMEZONE
BEGIN:VEVENT
DTSTART;TZID=America/New_York:20230729T190000
DTEND;TZID=America/New_York:20230729T203000
DTSTAMP:20260425T222950
CREATED:20230325T123308Z
LAST-MODIFIED:20230728T193713Z
UID:10000108-1690657200-1690662600@www.islandarts.org
SUMMARY:Eclectica String Quartet
DESCRIPTION:Eclectica String QuartetDate and Time: Saturday\, July 29\, 2023; 7 PM\, without intermission.\nLocation: Island Arts Center\, 1127 US Rt 2\, North Hero\, VT 05474\nTickets: $25\nTables:  $14 2-top or $20 4-top \nReserve a table for seating at $14 for a 2-top\, $20 for a 4-top\, and BYOB. Table tickets are available online or at the door\, first come-first served\, and subject to availability. Tables tickets are not available from local ticket outlets. \nThis fine Vermont chamber ensemble is dedicated to exploring the boundaries of the string quartet repertoire. The concert will feature music of the Danish String Quartet. This is soulful lyrical music inspired by folk elements\, arranged beautifully for classical string quartet. These pieces flow smoothly from one to the other\, in a concert of approximately one hour of music\, without intermission. \nThe members of Eclectica String Quartet are Sofia Hirsch\, Laura Markowitz\,  Ana Ruesink\, and John Dunlop. You can hear them playing with the Vermont Symphony Orchestra and moonlighting with other groups such as JukeBox\, Turn Music and Cricket Blue. In the summertime\, they take to the streets with their music\, and perform at house (and barn) concerts. \nSaturday Evening Program: Eclectica \nGET TICKETSBACK TO ALL EVENTS
URL:https://www.islandarts.org/event/eclectica-string-quartet/
LOCATION:Isle LaMotte Town Hall Community Room\, Isle LaMotte\, VT 05463\, 67 Church St.\, Isle LaMotte\, VT\, 05463\, United States
CATEGORIES:Concerts,Events,Music
ATTACH;FMTTYPE=image/png:https://www.islandarts.org/wp-content/uploads/2023/03/electica-3.png
END:VEVENT
END:VCALENDAR