BEGIN:VCALENDAR
VERSION:2.0
PRODID:-//Island Arts - ECPv6.15.20//NONSGML v1.0//EN
CALSCALE:GREGORIAN
METHOD:PUBLISH
X-WR-CALNAME:Island Arts
X-ORIGINAL-URL:https://www.islandarts.org
X-WR-CALDESC:Events for Island Arts
REFRESH-INTERVAL;VALUE=DURATION:PT1H
X-Robots-Tag:noindex
X-PUBLISHED-TTL:PT1H
BEGIN:VTIMEZONE
TZID:America/New_York
BEGIN:DAYLIGHT
TZOFFSETFROM:-0500
TZOFFSETTO:-0400
TZNAME:EDT
DTSTART:20220313T070000
END:DAYLIGHT
BEGIN:STANDARD
TZOFFSETFROM:-0400
TZOFFSETTO:-0500
TZNAME:EST
DTSTART:20221106T060000
END:STANDARD
BEGIN:DAYLIGHT
TZOFFSETFROM:-0500
TZOFFSETTO:-0400
TZNAME:EDT
DTSTART:20230312T070000
END:DAYLIGHT
BEGIN:STANDARD
TZOFFSETFROM:-0400
TZOFFSETTO:-0500
TZNAME:EST
DTSTART:20231105T060000
END:STANDARD
BEGIN:DAYLIGHT
TZOFFSETFROM:-0500
TZOFFSETTO:-0400
TZNAME:EDT
DTSTART:20240310T070000
END:DAYLIGHT
BEGIN:STANDARD
TZOFFSETFROM:-0400
TZOFFSETTO:-0500
TZNAME:EST
DTSTART:20241103T060000
END:STANDARD
END:VTIMEZONE
BEGIN:VEVENT
DTSTART;TZID=America/New_York:20230811T190000
DTEND;TZID=America/New_York:20230811T203000
DTSTAMP:20260425T205419
CREATED:20230325T123114Z
LAST-MODIFIED:20230811T173715Z
UID:10000118-1691780400-1691785800@www.islandarts.org
SUMMARY:Cerutti-Reid Duo
DESCRIPTION:Cerutti-Reid Duo: A chamber concert\nof piano & violaDate and Time: Friday\, August 11\, 2023; 7 PM\, without an intermission.\nLocation: Island Arts Center\, 1127 US Rt 2\, North Hero\, VT 05474\nTickets: $25\nTables:  $14 2-top or $20 4-top \nReserve a table for seating at $14 for a 2-top\, $20 for a 4-top\, and BYOB. Table tickets are available online or at the door\, first come-first served\, and subject to availability. Tables tickets are not available from local ticket outlets. \nThe Cerutti-Reid Duo appears in its first performance at the Island Arts Center. On this summer evening chamber concert\, you will hear Brahms’ F major Sonata\, Canadian-American composer David Jaeger’s Tristan and Isolde Sonata\, and the “Long Parting”  by Vermont composer Carol Wood. \nAs the Cerutti-Reid Duo over the last eighteen years\, pianist Alison Bruce Cerutti and violist Elizabeth Reid have performed in Vermont at the Barre Opera House\, Brandon Music\, Norwich University\, and Vermont Public Radio. They have also appeared in Canada numerous times. Alison and Elizabeth are founding members of the celebrated Vermont chamber groups\, the Northern Third Piano Quartet\, and Arioso. \nFor more information about the duo\, please visit https://elizabethreidviolist.com/cerutti-reid-duo. \nTHIS EVENING’S PROGRAM: Cerutti & Reid \nGET TICKETSBACK TO ALL EVENTS
URL:https://www.islandarts.org/event/cerutti-reid-duo/
LOCATION:Isle LaMotte Town Hall Community Room\, Isle LaMotte\, VT 05463\, 67 Church St.\, Isle LaMotte\, VT\, 05463\, United States
CATEGORIES:Concerts,Events,Music
ATTACH;FMTTYPE=image/jpeg:https://www.islandarts.org/wp-content/uploads/2023/03/Cerutti-Reid-Duo_courtesy-Times-Argus-2016-1.jpg
END:VEVENT
END:VCALENDAR