BEGIN:VCALENDAR
VERSION:2.0
PRODID:-//Island Arts - ECPv6.15.20//NONSGML v1.0//EN
CALSCALE:GREGORIAN
METHOD:PUBLISH
X-ORIGINAL-URL:https://www.islandarts.org
X-WR-CALDESC:Events for Island Arts
REFRESH-INTERVAL;VALUE=DURATION:PT1H
X-Robots-Tag:noindex
X-PUBLISHED-TTL:PT1H
BEGIN:VTIMEZONE
TZID:UTC
BEGIN:STANDARD
TZOFFSETFROM:+0000
TZOFFSETTO:+0000
TZNAME:UTC
DTSTART:20220101T000000
END:STANDARD
END:VTIMEZONE
BEGIN:VEVENT
DTSTART;TZID=UTC:20230813T190000
DTEND;TZID=UTC:20230813T201500
DTSTAMP:20260425T235107
CREATED:20230325T123032Z
LAST-MODIFIED:20230811T120559Z
UID:10000121-1691953200-1691957700@www.islandarts.org
SUMMARY:Our Island Voices
DESCRIPTION:Our Island Voices -Free Community Event!Date: Sunday\, August 13\, 2023; 7PM- 8:15PM with intermission; inside performance.\nLocation: Island Arts Center\, 1127 US Rt 2\, North Hero\, VT 05474\nTickets: Free event. Registration is suggested. \n\nOUR ISLAND VOICES:\nA Free Evening of Show Tunes and Sinatra Hits songs in honor of Doug Tudhope\n\n\n\n\n\n\n\n\n\n All are welcome to join us at this free concert offered in celebration of the life of Doug and BillieTudhope\, long-time friends and supporters of Island Arts.  Two local ensembles will perform: the duo of Tudhope’s grandchildren\, Sarah and Peter Bowley\, and the “Champlain Voices”\, the South Hero-based vocal quartet of Gina Fearn\, Linda Libby\, Carl Frenning\, and Chuck Hill.\n\nSarah and Peter will be singing the songs their grandparents loved. This includes showtunes\, Sinatra hits\, and more! Their grandparents’ appreciation for music lives on through them and inspires them to share these timeless classics with you today.\n\nDoug Tudhope was a well-known educator and business owner throughout Vermont. In 2014\, Doug became chair of Island Arts capital fundraising for the newly gifted Island Arts Center and was very effective in his position\, encouraging the county people to support and invest in their community county Arts center gem.  He was awarded the title of honorary director and was proud to be part of Island Arts.  We miss his presence and guidance\n\n\n\nJoin us this Sunday\, August 13 at 7:00PM\ninside the Red Barn at the Island Arts Center 1127 US-2 for our Singing Island Voices Evening of show tunes and Sinatra Hit Songs\, a celebration in memory and honor of Doug Tudhope.  A Free Event thanks to the support of the Shearer/Tudhope families. \n\n\n\n\n\n\n\nFree AdmissionBACK TO ALL EVENTS
URL:https://www.islandarts.org/event/our-island-voices/
LOCATION:Isle LaMotte Town Hall Community Room\, Isle LaMotte\, VT 05463\, 67 Church St.\, Isle LaMotte\, VT\, 05463\, United States
CATEGORIES:Concerts,Events,Music
ATTACH;FMTTYPE=image/jpeg:https://www.islandarts.org/wp-content/uploads/2023/03/Island-Voices-2.jpg
END:VEVENT
END:VCALENDAR