BEGIN:VCALENDAR
VERSION:2.0
PRODID:-//Island Arts - ECPv6.15.20//NONSGML v1.0//EN
CALSCALE:GREGORIAN
METHOD:PUBLISH
X-WR-CALNAME:Island Arts
X-ORIGINAL-URL:https://www.islandarts.org
X-WR-CALDESC:Events for Island Arts
REFRESH-INTERVAL;VALUE=DURATION:PT1H
X-Robots-Tag:noindex
X-PUBLISHED-TTL:PT1H
BEGIN:VTIMEZONE
TZID:UTC
BEGIN:STANDARD
TZOFFSETFROM:+0000
TZOFFSETTO:+0000
TZNAME:UTC
DTSTART:20220101T000000
END:STANDARD
END:VTIMEZONE
BEGIN:VEVENT
DTSTART;TZID=UTC:20230818T190000
DTEND;TZID=UTC:20230818T201500
DTSTAMP:20260425T205705
CREATED:20230325T122930Z
LAST-MODIFIED:20230508T214242Z
UID:10000122-1692385200-1692389700@www.islandarts.org
SUMMARY:Jorge Garcia Herranz\, Pianist
DESCRIPTION:Jorge Garcia Herranz\, PianistDate: Friday\, August 18\, 2023; 7 PM\, without an intermission.\nLocation: Island Arts Center\, 1127 US Rt 2\, North Hero\, VT 05474\nTickets: $25 \nThe program will feature a work by Granados and other works to be announced. \nSpanish-born pianist Jorge Garcia Herranz began his musical studies in Madrid\, where he learned to love Spanish composers such as Albéniz\, Granados\, and Falla whose music he regularly includes in his concerts. For the last fifteen years\, he has worked on various tango projects and recently released a CD featuring Astor Piazzolla’s music. \nHerranz’ solo performance repertoire includes Bach\, Beethoven\, Chopin\, Mozart\, and Schubert among others. He also improvises and draws on diverse musical genres to accompany silent movies. In addition to his solo concerts\, his experience as an accompanist at the Conservatoire Darius Milhaud in Paris\, France\, makes him a frequent partner in chamber music performances. \nHe has appeared with Island Arts for many seasons\, to the delight of both local and more distant audiences. We are delighted to welcome Jorge Garcia Herranz back to the Islands once again. \nBUY TICKETPhoto courtesy of Maison Heinrich Heine.\nBACK TO ALL EVENTS
URL:https://www.islandarts.org/event/jorge-garcia-herranz-pianist-2/
LOCATION:Isle LaMotte Town Hall Community Room\, Isle LaMotte\, VT 05463\, 67 Church St.\, Isle LaMotte\, VT\, 05463\, United States
CATEGORIES:Concerts,Events,Music
ATTACH;FMTTYPE=image/jpeg:https://www.islandarts.org/wp-content/uploads/2022/01/jorge-garcia-herranz-1-e1677795703329.jpg
END:VEVENT
END:VCALENDAR