BEGIN:VCALENDAR
VERSION:2.0
PRODID:-//Island Arts - ECPv6.15.20//NONSGML v1.0//EN
CALSCALE:GREGORIAN
METHOD:PUBLISH
X-WR-CALNAME:Island Arts
X-ORIGINAL-URL:https://www.islandarts.org
X-WR-CALDESC:Events for Island Arts
REFRESH-INTERVAL;VALUE=DURATION:PT1H
X-Robots-Tag:noindex
X-PUBLISHED-TTL:PT1H
BEGIN:VTIMEZONE
TZID:UTC
BEGIN:STANDARD
TZOFFSETFROM:+0000
TZOFFSETTO:+0000
TZNAME:UTC
DTSTART:20220101T000000
END:STANDARD
END:VTIMEZONE
BEGIN:VEVENT
DTSTART;TZID=UTC:20230820T183000
DTEND;TZID=UTC:20230820T200000
DTSTAMP:20260425T205348
CREATED:20230324T175616Z
LAST-MODIFIED:20230429T221549Z
UID:10000123-1692556200-1692561600@www.islandarts.org
SUMMARY:Vermont Jazz Ensemble
DESCRIPTION:Vermont Jazz EnsembleDate: Sunday August 20\, 2023; 6:30 PM. Picnic on the green at 5:30\, weather permitting; otherwise\, concert will move inside the barn.\nLocation: Island Arts Center\, 1127 US Rt 2\, North Hero\, VT 05474\nTickets: $25 \nVermont’s premier big-band swing/dance group. Swingin’ for over 40 years! Their appearance is always a popular event in the hot venues across Vermont such as Nectar’s in Burlington\, The Stone Barn in Brattleboro\, and the Zenbarn in Waterbury. Now appearing right here for you in the Islands. \nPhoto courtesy of The Vermont Jazz Ensemble\nGET TICKETSBACK TO ALL EVENTS
URL:https://www.islandarts.org/event/vermont-jazz-ensemble-2/
LOCATION:Isle LaMotte Town Hall Community Room\, Isle LaMotte\, VT 05463\, 67 Church St.\, Isle LaMotte\, VT\, 05463\, United States
CATEGORIES:Concerts,Events,Music
ATTACH;FMTTYPE=image/jpeg:https://www.islandarts.org/wp-content/uploads/2022/02/Vt-Jazz-Ensemble_Photo-courtesy-of-The-Vermont-Jazz-Ensemble_add-their-facebook-link.jpg
END:VEVENT
END:VCALENDAR