BEGIN:VCALENDAR
VERSION:2.0
PRODID:-//Island Arts - ECPv6.15.20//NONSGML v1.0//EN
CALSCALE:GREGORIAN
METHOD:PUBLISH
X-ORIGINAL-URL:https://www.islandarts.org
X-WR-CALDESC:Events for Island Arts
REFRESH-INTERVAL;VALUE=DURATION:PT1H
X-Robots-Tag:noindex
X-PUBLISHED-TTL:PT1H
BEGIN:VTIMEZONE
TZID:America/New_York
BEGIN:DAYLIGHT
TZOFFSETFROM:-0500
TZOFFSETTO:-0400
TZNAME:EDT
DTSTART:20240310T070000
END:DAYLIGHT
BEGIN:STANDARD
TZOFFSETFROM:-0400
TZOFFSETTO:-0500
TZNAME:EST
DTSTART:20241103T060000
END:STANDARD
BEGIN:DAYLIGHT
TZOFFSETFROM:-0500
TZOFFSETTO:-0400
TZNAME:EDT
DTSTART:20250309T070000
END:DAYLIGHT
BEGIN:STANDARD
TZOFFSETFROM:-0400
TZOFFSETTO:-0500
TZNAME:EST
DTSTART:20251102T060000
END:STANDARD
BEGIN:DAYLIGHT
TZOFFSETFROM:-0500
TZOFFSETTO:-0400
TZNAME:EDT
DTSTART:20260308T070000
END:DAYLIGHT
BEGIN:STANDARD
TZOFFSETFROM:-0400
TZOFFSETTO:-0500
TZNAME:EST
DTSTART:20261101T060000
END:STANDARD
END:VTIMEZONE
BEGIN:VEVENT
DTSTART;TZID=America/New_York:20250822T190000
DTEND;TZID=America/New_York:20250822T201500
DTSTAMP:20260424T045425
CREATED:20250326T162211Z
LAST-MODIFIED:20250822T160854Z
UID:10000699-1755889200-1755893700@www.islandarts.org
SUMMARY:Sohyun Ahn\, Solo Piano
DESCRIPTION:Sohyun Ahn\, Solo PianoDate and Time: Friday\, August 22\, 2025; 7 PM.  No intermission.\nLocation: Island Arts Center\, 1127 US Rt 2\, North Hero\, VT 05474\nTickets: $25 online and at the door\, $20 at local outlets. \nNew York City concert pianist Sohyun Ahn returns to Island Arts for the fourth year with a beautiful program for our community. An Island Arts’ favorite\, Sohyun’s well-attended concerts of the last three summers elicited raves.  “Amazing delicacy” and “world class.” \nThis program showcases Ahn in a solo piano concert featuring the first set of Chopin Nocturnes. She comments that this Chopin is “the perfect music for a dreamy summer evening\, in a beautiful place like the Island Arts barn\, with a fine concert grand piano.” \nSohyun Ahn is described as “an absolute master” by the New York Concert Review\, and  an “amazing pianist” by the Classical New Jersey Society. Our Vermont audience rave: “Absolutely superb.” “I was enthralled.” “Such a different experience from the big city hall where you are miles from the performer.” \nFrom the liner notes for Ahn’s Bach Goldberg Variations: “Her playing exhibits a crystalline clarity\, insightful nuance\, and dynamic breadth.” From Piano Music Magazine\, Korea: “Such a gifted virtuoso\, wonderful performing the emotional storm … with the perfectly balanced elegance.” \nConcert program: \nhttp://www.islandarts.org/wp-content/uploads/2025/08/Program_Ahn_concert_Aug-22-2025_v2.0.pdf \nThis concert is sponsored in part by Toni Fasi and the Churchill-Wanagaitis Family. \nThe Yamaha C7 concert grand piano is provided courtesy of the Vermont Youth Orchestra Association. Island Arts is very grateful for their support. \nGet TicketsBACK TO ALL EVENTS
URL:https://www.islandarts.org/event/sohyun-ahn-piano-solo/
LOCATION:Island Arts Center\, 1127 US Rte 2\, North Hero\, 05474\, United States
CATEGORIES:Concerts,Events,Music
ATTACH;FMTTYPE=image/jpeg:https://www.islandarts.org/wp-content/uploads/2023/03/Sohyun-Ahn-from-vido-on-her-website-2-2.jpg
END:VEVENT
END:VCALENDAR