BEGIN:VCALENDAR
VERSION:2.0
PRODID:-//Island Arts - ECPv6.15.20//NONSGML v1.0//EN
CALSCALE:GREGORIAN
METHOD:PUBLISH
X-WR-CALNAME:Island Arts
X-ORIGINAL-URL:https://www.islandarts.org
X-WR-CALDESC:Events for Island Arts
REFRESH-INTERVAL;VALUE=DURATION:PT1H
X-Robots-Tag:noindex
X-PUBLISHED-TTL:PT1H
BEGIN:VTIMEZONE
TZID:UTC
BEGIN:STANDARD
TZOFFSETFROM:+0000
TZOFFSETTO:+0000
TZNAME:UTC
DTSTART:20250101T000000
END:STANDARD
END:VTIMEZONE
BEGIN:VEVENT
DTSTART;TZID=UTC:20260628T160000
DTEND;TZID=UTC:20260628T173000
DTSTAMP:20260423T192755
CREATED:20260325T172005Z
LAST-MODIFIED:20260407T113750Z
UID:10001382-1782662400-1782667800@www.islandarts.org
SUMMARY:Calamellus Trio: An Ensemble of Winds
DESCRIPTION:Calamellus Trio: An Ensemble of WindsDate and Time: Sunday\, June 28\, 2026\, 4 pm to 5:30 pm\, with no intermission\nLocation: Island Arts Center\, 1127 US Rt 2\, North Hero\, VT 05474\nTickets: $25-$30 \nThis ensemble of local musicians features music of the Baroque\, tango\, and opera\,\nplayed on the oboe\, clarinet\, and bassoon. Experience the Calamellus Trio in an\nintimate chamber concert that brings rich\, layered sound to our island community.\nThis is the first appearance of Calamellus at the Island Arts Summer Arts Festival. \nReserve your seat\, invite a friend\, and spend an evening discovering how three\nantique woodwinds can fill the room with color\, conversation\, and connection.\nAntique instruments often offer a more intimate or nuanced sound versus the louder\ntone of modern instruments. A baroque bassoon\, for example\, may feature a darker\,\nricher sound than today’s version. \nThe program includes a Baroque Suite of dances by Handel\, Lully\, Boyce\, and\nRameau; Three Tangos by A. Barbirolli; a trio by M. Franck; Century Dances by Cecilia\nMcDowall; and several other pieces. \nThe three musicians are principals in the Champlain Philharmonic Orchestra:\nRuby Brezinsky — Oboe\nLisa Hoyt — Bassoon\nMargaret Barsumian — Clarinet \nMeet and greet the Trio members and enjoy light refreshments after the\nperformance. Their concert last Fall in South Hero was enjoyed by a full house. This\nis your opportunity to enjoy this unusual ensemble. \nBUY TICKETSBACK TO ALL EVENTS
URL:https://www.islandarts.org/event/calamellus-trio-an-ensemble-of-winds/
LOCATION:Island Arts Center\, 1127 US Rte 2\, North Hero\, 05474\, United States
CATEGORIES:Concerts,Events,Music
ATTACH;FMTTYPE=image/png:https://www.islandarts.org/wp-content/uploads/2026/03/Screenshot-2026-03-25-130516-e1774459900409.png
END:VEVENT
END:VCALENDAR