BEGIN:VCALENDAR
VERSION:2.0
PRODID:-//Island Arts - ECPv6.15.20//NONSGML v1.0//EN
CALSCALE:GREGORIAN
METHOD:PUBLISH
X-ORIGINAL-URL:https://www.islandarts.org
X-WR-CALDESC:Events for Island Arts
REFRESH-INTERVAL;VALUE=DURATION:PT1H
X-Robots-Tag:noindex
X-PUBLISHED-TTL:PT1H
BEGIN:VTIMEZONE
TZID:UTC
BEGIN:STANDARD
TZOFFSETFROM:+0000
TZOFFSETTO:+0000
TZNAME:UTC
DTSTART:20250101T000000
END:STANDARD
END:VTIMEZONE
BEGIN:VEVENT
DTSTART;TZID=UTC:20260711T130000
DTEND;TZID=UTC:20260711T143000
DTSTAMP:20260423T202918
CREATED:20260325T175701Z
LAST-MODIFIED:20260409T200311Z
UID:10001383-1783774800-1783780200@www.islandarts.org
SUMMARY:Island Arts Jam Session
DESCRIPTION:Island Arts Jam SessionAn amateur musicians’ event for everyone\nDate and Time: Saturday\, July 11\, 2026\, 1 pm to 2:30 pm\nLocation: Island Arts Center\, 1127 US Rt 2\, North Hero\, VT 05474\nTickets: Free for all. Registration appreciated but not required. Click below. \nAttendees bring their instruments to the barn for an informal jam session. All instruments are OK\, from bassoon and cello to ukelele and washboard. All ages OK. Children must have a parent or other adult accompanying. \nJam session will be led by music teacher Tony Pietricola\, who is an active performing member of The Dixie Six\, a popular local jazz ensemble\, and a former music teacher in the Grand Isle School. Music will include Blues and a mix of music for all. \nRegister BACK TO ALL EVENTS
URL:https://www.islandarts.org/event/island-arts-jam-session/
LOCATION:Island Arts Center\, 1127 US Rte 2\, North Hero\, 05474\, United States
CATEGORIES:Concerts,Events,Music
ATTACH;FMTTYPE=image/png:https://www.islandarts.org/wp-content/uploads/2026/03/Island-Arts-Jam-group-in-barn.png
END:VEVENT
END:VCALENDAR