BEGIN:VCALENDAR
VERSION:2.0
PRODID:-//Island Arts - ECPv6.15.20//NONSGML v1.0//EN
CALSCALE:GREGORIAN
METHOD:PUBLISH
X-WR-CALNAME:Island Arts
X-ORIGINAL-URL:https://www.islandarts.org
X-WR-CALDESC:Events for Island Arts
REFRESH-INTERVAL;VALUE=DURATION:PT1H
X-Robots-Tag:noindex
X-PUBLISHED-TTL:PT1H
BEGIN:VTIMEZONE
TZID:America/New_York
BEGIN:DAYLIGHT
TZOFFSETFROM:-0500
TZOFFSETTO:-0400
TZNAME:EDT
DTSTART:20250309T070000
END:DAYLIGHT
BEGIN:STANDARD
TZOFFSETFROM:-0400
TZOFFSETTO:-0500
TZNAME:EST
DTSTART:20251102T060000
END:STANDARD
BEGIN:DAYLIGHT
TZOFFSETFROM:-0500
TZOFFSETTO:-0400
TZNAME:EDT
DTSTART:20260308T070000
END:DAYLIGHT
BEGIN:STANDARD
TZOFFSETFROM:-0400
TZOFFSETTO:-0500
TZNAME:EST
DTSTART:20261101T060000
END:STANDARD
BEGIN:DAYLIGHT
TZOFFSETFROM:-0500
TZOFFSETTO:-0400
TZNAME:EDT
DTSTART:20270314T070000
END:DAYLIGHT
BEGIN:STANDARD
TZOFFSETFROM:-0400
TZOFFSETTO:-0500
TZNAME:EST
DTSTART:20271107T060000
END:STANDARD
END:VTIMEZONE
BEGIN:VEVENT
DTSTART;TZID=America/New_York:20260712T190000
DTEND;TZID=America/New_York:20260712T203000
DTSTAMP:20260423T202844
CREATED:20260325T183842Z
LAST-MODIFIED:20260325T183842Z
UID:10001384-1783882800-1783888200@www.islandarts.org
SUMMARY:Ken Clark Organ Trio - Soul\, Jazz\, R&B
DESCRIPTION:Ken Clark Organ Trio – Soul\, Jazz\, R&B\, FunkDate and Time: Sunday\, July 12\, 2026\, 7 pm to 8:30 pm.\nLocation: Island Arts Center\, 1127 US Rt 2\, North Hero\, VT 05474\nTickets: $25-$30\nTables: Reserve a table online or at the door at $15 for a 2-top\, $25 for a 4-top\, and\nBYOB. Table tickets are only available online or at the door––first come-first served\,\nsubject to availability. Tables tickets are not available from local ticket outlets. \nTables: Reserve a table online or at the door at $15 for a 2-top\, $25 for a 4-top\, and BYOB. Table tickets are only available online or at the door––first come-first served\, subject to availability. Tables tickets are not available from local ticket outlets. \nThe Ken Clark Organ Trio has been performing around New England\, the eastern U.S.\, and internationally for 15 years. This is their first appearance at the Island Arts Summer Festival. “Organist Ken Clark\, guitarist Mike Mele\, and drummer Steve Chaggaris lean on the beat\, (high stepping funk\, shuffle boogaloo back beat ballad)\, build dynamic climaxes sprinkle in jazz solos and deliver the goods. Clark controls the B3 like a master: hip bass lines\, sizzling chordal washes\, feel-good riffs\, funky blues lines and syncopated accents figure in the mix. The groove\, the sonic power of the organ and a soulful message are a forceful combination for reaching the people\, all the way from the church to the dance floor. Can’t beat the feeling.” ~ Owen Cordle\, Jazz Times \n“You might be skeptical about listening to a CD without a bass player\, but from the opening bars of the first track\, school is in session! Organist Ken Clark has a punchy\, thick bass tone that rivals Rocco’s\, and he grooves like a funky S.O.B. His right hand is pretty happening\, too. A must hear for fans of jazzy\, funky groove music.” ~ Bass Player Magazine \nGet TicketsBACK TO ALL EVENTS
URL:https://www.islandarts.org/event/ken-clark-organ-trio-soul-jazz-rb/
LOCATION:Island Arts Center\, 1127 US Rte 2\, North Hero\, 05474\, United States
CATEGORIES:Concerts,Events,Music
ATTACH;FMTTYPE=image/jpeg:https://www.islandarts.org/wp-content/uploads/2025/03/Ken-Clark_2025_kot_1.jpg
END:VEVENT
END:VCALENDAR