BEGIN:VCALENDAR
VERSION:2.0
PRODID:-//Island Arts - ECPv6.15.20//NONSGML v1.0//EN
CALSCALE:GREGORIAN
METHOD:PUBLISH
X-WR-CALNAME:Island Arts
X-ORIGINAL-URL:https://www.islandarts.org
X-WR-CALDESC:Events for Island Arts
REFRESH-INTERVAL;VALUE=DURATION:PT1H
X-Robots-Tag:noindex
X-PUBLISHED-TTL:PT1H
BEGIN:VTIMEZONE
TZID:America/New_York
BEGIN:DAYLIGHT
TZOFFSETFROM:-0500
TZOFFSETTO:-0400
TZNAME:EDT
DTSTART:20220313T070000
END:DAYLIGHT
BEGIN:STANDARD
TZOFFSETFROM:-0400
TZOFFSETTO:-0500
TZNAME:EST
DTSTART:20221106T060000
END:STANDARD
BEGIN:DAYLIGHT
TZOFFSETFROM:-0500
TZOFFSETTO:-0400
TZNAME:EDT
DTSTART:20230312T070000
END:DAYLIGHT
BEGIN:STANDARD
TZOFFSETFROM:-0400
TZOFFSETTO:-0500
TZNAME:EST
DTSTART:20231105T060000
END:STANDARD
BEGIN:DAYLIGHT
TZOFFSETFROM:-0500
TZOFFSETTO:-0400
TZNAME:EDT
DTSTART:20240310T070000
END:DAYLIGHT
BEGIN:STANDARD
TZOFFSETFROM:-0400
TZOFFSETTO:-0500
TZNAME:EST
DTSTART:20241103T060000
END:STANDARD
END:VTIMEZONE
BEGIN:VEVENT
DTSTART;TZID=America/New_York:20230715T100000
DTEND;TZID=America/New_York:20230715T110000
DTSTAMP:20260423T161335
CREATED:20230518T200926Z
LAST-MODIFIED:20230527T160745Z
UID:10000269-1689415200-1689418800@www.islandarts.org
SUMMARY:Fun Hip Hop/Jazz class for ages 6 and up!
DESCRIPTION:Fun Hip Hop/Jazz class for ages 6\nand up!Date and Time: Saturday\, July 15; 10am-11am\nLocation: Isle LaMotte Veterans Rec Park – School St\nRain Location: Elementary School; 534 School Street\, Isle La Motte \nTickets: FREE \nPlease come join Miss Liza\, Owner of Dance In The Isle\, who will be offering a fun family dance class for all. Class will start with a fun warm up and stretch followed by learning some popular moves often seen in the dance world. Miss Liza will then teach an upbeat combo to some popular and age-appropriate music! This will be a great event for the individual or whole family:) Adults must accompany their child. \nDare to Love\, Dare to Dream. Dare to Dance. \nThis free event is brought to you through a collaboration of Island Arts and the Isle LaMotte Rec Department. Donations appreciated to benefit Island Arts. \nBACK TO ALL CLASSES
URL:https://www.islandarts.org/event/fun-hip-hop-jazz-class-for-ages-6-and-up/
LOCATION:Isle LaMotte Veterans Rec Park \, School ST.\, School ST\, Isle LaMotte\, VT\, 05463
CATEGORIES:Classes,Dance,Free Classes,Music
ATTACH;FMTTYPE=image/jpeg:https://www.islandarts.org/wp-content/uploads/2023/05/Liza-Mercy-Jazz-Hip-Hop.jpg
END:VEVENT
END:VCALENDAR