BEGIN:VCALENDAR
VERSION:2.0
PRODID:-//Island Arts - ECPv6.15.20//NONSGML v1.0//EN
CALSCALE:GREGORIAN
METHOD:PUBLISH
X-WR-CALNAME:Island Arts
X-ORIGINAL-URL:https://www.islandarts.org
X-WR-CALDESC:Events for Island Arts
REFRESH-INTERVAL;VALUE=DURATION:PT1H
X-Robots-Tag:noindex
X-PUBLISHED-TTL:PT1H
BEGIN:VTIMEZONE
TZID:America/New_York
BEGIN:DAYLIGHT
TZOFFSETFROM:-0500
TZOFFSETTO:-0400
TZNAME:EDT
DTSTART:20240310T070000
END:DAYLIGHT
BEGIN:STANDARD
TZOFFSETFROM:-0400
TZOFFSETTO:-0500
TZNAME:EST
DTSTART:20241103T060000
END:STANDARD
BEGIN:DAYLIGHT
TZOFFSETFROM:-0500
TZOFFSETTO:-0400
TZNAME:EDT
DTSTART:20250309T070000
END:DAYLIGHT
BEGIN:STANDARD
TZOFFSETFROM:-0400
TZOFFSETTO:-0500
TZNAME:EST
DTSTART:20251102T060000
END:STANDARD
BEGIN:DAYLIGHT
TZOFFSETFROM:-0500
TZOFFSETTO:-0400
TZNAME:EDT
DTSTART:20260308T070000
END:DAYLIGHT
BEGIN:STANDARD
TZOFFSETFROM:-0400
TZOFFSETTO:-0500
TZNAME:EST
DTSTART:20261101T060000
END:STANDARD
END:VTIMEZONE
BEGIN:VEVENT
DTSTART;TZID=America/New_York:20250615T160000
DTEND;TZID=America/New_York:20250615T173000
DTSTAMP:20260423T190311
CREATED:20250325T171631Z
LAST-MODIFIED:20250615T154200Z
UID:10000686-1750003200-1750008600@www.islandarts.org
SUMMARY:"Making Magic with Ken Burns" - Schwab Piano Lecture
DESCRIPTION:“Making Magic with Ken Burns” – A Jacqueline Schwab Piano-LectureDate and Time: Sunday\, June 15\, 2025\, 4 PM. Inside concert\nGrounds open at 3:30 for optional picnic on the green before the concert\, weather permitting. Bring a chair or blanket if desired. \nLocation: Island Arts Center\, 1127 US Rt 2\, North Hero\, VT 05474\nTickets: FREE concert for all to enjoy. Registration requested and appreciated but not required. \nPianist Jacqueline Schwab performs her solo program “Making Magic with Ken Burns.” Heard for many years on numerous Ken Burns’ documentaries\, in this concert\, she will feature pieces from her Burns soundtrack performances—vintage American folk tunes and standards\, spirituals\, traditional Celtic tunes and more. She will also share some of her own work celebrating cultural diversity\, inspired by her work with Burns.  \nSchwab will speak about the tunes and Burns’ unusual way of working with music—how he inspires emotive performances and uses music to amplify his messages and shed historical light on today’s world. This will be Jacqueline’s first Island Arts appearance. She spins musical stories out of the many strands in the American quilt\, with community music-making at their heart.  \nHer signature playing has been featured in over a dozen Ken Burns’ documentaries\, including his Grammy-winning Civil War\, Baseball\, Lewis and Clark\, Mark Twain\, The War\, and his recently-released Benjamin Franklin\, as well as in other PBS documentaries\, such as The Irish in America—The Long Journey Home. She has performed at the White House and on national PBS\, accompanied Scottish singer Jean Redpath on A Prairie Home Companion\, and appeared on the CBS Late Show with David Letterman. She is well known to the traditional dance world for her groundbreaking playing with the Bare Necessities ensemble. Her recently-released solo album––I Lift My Lamp\, Illuminations from Immigrant America––celebrates vintage music from American immigrants. She is a graduate of the New England Conservatory’s Third Stream Department (now Contemporary Music) with a degree in piano improvisation. She lives in the Boston area. \nConcert Program:  http://www.islandarts.org/wp-content/uploads/2025/06/Program_Schwab_15-June-2025_v1.1-1.pdf \nRegisterBACK TO ALL EVENTS
URL:https://www.islandarts.org/event/making-magic-with-ken-burns-schwab-piano-lecture/
LOCATION:Isle LaMotte Town Hall Community Room\, Isle LaMotte\, VT 05463\, 67 Church St.\, Isle LaMotte\, VT\, 05463\, United States
CATEGORIES:Concerts,Events,Free Event,Music
ATTACH;FMTTYPE=image/jpeg:https://www.islandarts.org/wp-content/uploads/2025/03/Jacqueline-Schwab-PREFERRED_at-the-piano_alternate-image.jpg
END:VEVENT
END:VCALENDAR