BEGIN:VCALENDAR
VERSION:2.0
PRODID:-//Island Arts - ECPv6.15.20//NONSGML v1.0//EN
CALSCALE:GREGORIAN
METHOD:PUBLISH
X-ORIGINAL-URL:https://www.islandarts.org
X-WR-CALDESC:Events for Island Arts
REFRESH-INTERVAL;VALUE=DURATION:PT1H
X-Robots-Tag:noindex
X-PUBLISHED-TTL:PT1H
BEGIN:VTIMEZONE
TZID:Asia/Dubai
BEGIN:STANDARD
TZOFFSETFROM:+0400
TZOFFSETTO:+0400
TZNAME:+04
DTSTART:20240101T000000
END:STANDARD
END:VTIMEZONE
BEGIN:VTIMEZONE
TZID:America/New_York
BEGIN:DAYLIGHT
TZOFFSETFROM:-0500
TZOFFSETTO:-0400
TZNAME:EDT
DTSTART:20240310T070000
END:DAYLIGHT
BEGIN:STANDARD
TZOFFSETFROM:-0400
TZOFFSETTO:-0500
TZNAME:EST
DTSTART:20241103T060000
END:STANDARD
BEGIN:DAYLIGHT
TZOFFSETFROM:-0500
TZOFFSETTO:-0400
TZNAME:EDT
DTSTART:20250309T070000
END:DAYLIGHT
BEGIN:STANDARD
TZOFFSETFROM:-0400
TZOFFSETTO:-0500
TZNAME:EST
DTSTART:20251102T060000
END:STANDARD
BEGIN:DAYLIGHT
TZOFFSETFROM:-0500
TZOFFSETTO:-0400
TZNAME:EDT
DTSTART:20260308T070000
END:DAYLIGHT
BEGIN:STANDARD
TZOFFSETFROM:-0400
TZOFFSETTO:-0500
TZNAME:EST
DTSTART:20261101T060000
END:STANDARD
END:VTIMEZONE
BEGIN:VEVENT
DTSTART;TZID=Asia/Dubai:20250604T160000
DTEND;TZID=Asia/Dubai:20250604T170000
DTSTAMP:20260425T085945
CREATED:20250511T180226Z
LAST-MODIFIED:20250725T101548Z
UID:10000829-1749052800-1749056400@www.islandarts.org
SUMMARY:Tai Chi
DESCRIPTION:Tai ChiDate and Time: Every Wednesday from May 28 – September 3\, 2025\, 4:00pm – 5:00pm\nInstructor: Rob Rousseau\nLocation: Island Arts Center\, 1127 U.S. Rte. 2\, N. Hero\nTickets: Free\, Donations to Island Arts appreciated \nPrior to attending class\, please call Rob Rousseau to register or for more information at 802-373-0947. \nJoin us in Tai Chi for health and relaxation. New students are always welcome.Tai Chi is\, literally\, the connecting of individual energy to the universe energy through a series of movements. Moving simply and letting go of our own blocks allows Chi\, or energy\, to flow. \nQiGong is a method of movement from which Tai Chi and a plethora of other movements have evolved. \nClasses held outside weather permitting; otherwise\, class will move inside the barn. \nBACK TO ALL CLASSES
URL:https://www.islandarts.org/event/tai-chi-2-3/2025-06-04/
LOCATION:Island Arts Center\, 1127 US Rte 2\, North Hero\, 05474\, United States
CATEGORIES:Classes,Free Classes,Health & Wellness
ATTACH;FMTTYPE=image/jpeg:https://www.islandarts.org/wp-content/uploads/2022/01/Tai-Chi-at-Island-Arts.jpg
END:VEVENT
BEGIN:VEVENT
DTSTART;TZID=Asia/Dubai:20250611T160000
DTEND;TZID=Asia/Dubai:20250611T170000
DTSTAMP:20260425T085945
CREATED:20250511T180226Z
LAST-MODIFIED:20250725T101548Z
UID:10000830-1749657600-1749661200@www.islandarts.org
SUMMARY:Tai Chi
DESCRIPTION:Tai ChiDate and Time: Every Wednesday from May 28 – September 3\, 2025\, 4:00pm – 5:00pm\nInstructor: Rob Rousseau\nLocation: Island Arts Center\, 1127 U.S. Rte. 2\, N. Hero\nTickets: Free\, Donations to Island Arts appreciated \nPrior to attending class\, please call Rob Rousseau to register or for more information at 802-373-0947. \nJoin us in Tai Chi for health and relaxation. New students are always welcome.Tai Chi is\, literally\, the connecting of individual energy to the universe energy through a series of movements. Moving simply and letting go of our own blocks allows Chi\, or energy\, to flow. \nQiGong is a method of movement from which Tai Chi and a plethora of other movements have evolved. \nClasses held outside weather permitting; otherwise\, class will move inside the barn. \nBACK TO ALL CLASSES
URL:https://www.islandarts.org/event/tai-chi-2-3/2025-06-11/
LOCATION:Island Arts Center\, 1127 US Rte 2\, North Hero\, 05474\, United States
CATEGORIES:Classes,Free Classes,Health & Wellness
ATTACH;FMTTYPE=image/jpeg:https://www.islandarts.org/wp-content/uploads/2022/01/Tai-Chi-at-Island-Arts.jpg
END:VEVENT
BEGIN:VEVENT
DTSTART;TZID=Asia/Dubai:20250618T160000
DTEND;TZID=Asia/Dubai:20250618T170000
DTSTAMP:20260425T085945
CREATED:20250511T180226Z
LAST-MODIFIED:20250725T101548Z
UID:10000831-1750262400-1750266000@www.islandarts.org
SUMMARY:Tai Chi
DESCRIPTION:Tai ChiDate and Time: Every Wednesday from May 28 – September 3\, 2025\, 4:00pm – 5:00pm\nInstructor: Rob Rousseau\nLocation: Island Arts Center\, 1127 U.S. Rte. 2\, N. Hero\nTickets: Free\, Donations to Island Arts appreciated \nPrior to attending class\, please call Rob Rousseau to register or for more information at 802-373-0947. \nJoin us in Tai Chi for health and relaxation. New students are always welcome.Tai Chi is\, literally\, the connecting of individual energy to the universe energy through a series of movements. Moving simply and letting go of our own blocks allows Chi\, or energy\, to flow. \nQiGong is a method of movement from which Tai Chi and a plethora of other movements have evolved. \nClasses held outside weather permitting; otherwise\, class will move inside the barn. \nBACK TO ALL CLASSES
URL:https://www.islandarts.org/event/tai-chi-2-3/2025-06-18/
LOCATION:Island Arts Center\, 1127 US Rte 2\, North Hero\, 05474\, United States
CATEGORIES:Classes,Free Classes,Health & Wellness
ATTACH;FMTTYPE=image/jpeg:https://www.islandarts.org/wp-content/uploads/2022/01/Tai-Chi-at-Island-Arts.jpg
END:VEVENT
BEGIN:VEVENT
DTSTART;TZID=America/New_York:20250623T090000
DTEND;TZID=America/New_York:20250623T100000
DTSTAMP:20260425T085945
CREATED:20250507T211759Z
LAST-MODIFIED:20250531T192022Z
UID:10000721-1750669200-1750672800@www.islandarts.org
SUMMARY:Yin Yoga for All
DESCRIPTION:Day/Time: Monday 9:00 – 10:00 AM\nDate/Location: June 23\, 30\, July 14\, 21\, 28\, Aug 4\, 25 no class July 7\nCamp Ingalls 1769 South End Rd\, North Hero\, VT\nCost:  $10 suggested donation at the door (cash\, check\, venmo) \n(In partnership with North Hero Parks and Recreation and Island Arts) \nFor Beginner\, Aging\, Active\, and Athletic  \nYin Yoga is a contemplative practice that targets the connective tissues of the body such as tendons\, ligaments\, and the deep fascia network. This practice consists of going into a pose\, finding stillness\, and then connecting to the breath while holding the pose for 3-4 minutes. Most poses are seated poses similar to stretching poses. This is a great practice for people with an active mind as well as an active body. If you are new to yoga this is a wonderful place to start. \nA limited number of mats will be available for use. \nBob Muncil \nBob loves fishing and playing pickleball in North Hero in the summertime.  He is a certified Yin Yoga and meditation teacher and has experienced the benefits they offer to his aging and athletic body; and for quieting his busy mind. Bob is also an Interventionist and Recovery Coach and has been sober for 31 years. He has made it his mission in retirement to share the benefits of yoga\, meditation\, and sobriety wherever he goes. Prior to retirement Bob worked for 35 years in the business world.
URL:https://www.islandarts.org/event/yin-yoga-for-all-2/2025-06-23/
LOCATION:1769 South End RD\, North Hero Camp Ingalls\, 1769 South End Road\, North Hero\, VT
CATEGORIES:Classes,Free Classes,Health & Wellness
ATTACH;FMTTYPE=image/jpeg:https://www.islandarts.org/wp-content/uploads/2025/05/2-pic-of-only-Bob.jpg
END:VEVENT
BEGIN:VEVENT
DTSTART;TZID=America/New_York:20250625T090000
DTEND;TZID=America/New_York:20250625T103000
DTSTAMP:20260425T085945
CREATED:20240506T160255Z
LAST-MODIFIED:20250529T215224Z
UID:10000732-1750842000-1750847400@www.islandarts.org
SUMMARY:Kundalini Yoga
DESCRIPTION:Time: Wednesday mornings 9-10:30\n \nCamp Ingalls:\nJune 25\, July 2\, 16\, 23\, 30\, Aug 6\, 27   no class July 9 \nIsland Arts Center:\nAug 13\, 20 \nCost: $15 suggested donation at the door (cash\, venmo\, check) \nJoin Kim Muncil for one or all ten Kundalini yoga classes. She will offer a few different themes this year. Her first two classes of the season will focus on the Heart Chakra. Weeks 3-6 will focus on developing a strong mind and nervous system. The final 4 weeks will focus on breath technology. Each class will include breathwork\, a yoga set\, gong relaxation\, and a meditation or chant. \nNo experience is necessary. A limited number of mats will be available for use. \n(In partnership with North Hero Parks and Recreation and Island Arts) \nKim Muncil\nKim is a native of Vermont and returns each summer to North Hero with her husband Bob. She is a 500 hr certified Kundalini Yoga and meditation teacher and a certified Yin Yoga teacher. Her mission is to share the tools of yoga wherever she goes because the practice of yoga (particularly Kundalini Yoga) has had such a positive influence on her life. Prior to retirement Kim taught elementary school for 34 years.
URL:https://www.islandarts.org/event/kundalini-yoga-2-4/2025-06-25/
LOCATION:1769 South End RD\, North Hero Camp Ingalls\, 1769 South End Road\, North Hero\, VT
CATEGORIES:Classes,Free Classes,Health & Wellness
ATTACH;FMTTYPE=image/jpeg:https://www.islandarts.org/wp-content/uploads/2024/05/kundalini-at-the-Longhouse-scaled.jpeg
END:VEVENT
BEGIN:VEVENT
DTSTART;TZID=Asia/Dubai:20250625T160000
DTEND;TZID=Asia/Dubai:20250625T170000
DTSTAMP:20260425T085945
CREATED:20250511T180226Z
LAST-MODIFIED:20250725T101548Z
UID:10000832-1750867200-1750870800@www.islandarts.org
SUMMARY:Tai Chi
DESCRIPTION:Tai ChiDate and Time: Every Wednesday from May 28 – September 3\, 2025\, 4:00pm – 5:00pm\nInstructor: Rob Rousseau\nLocation: Island Arts Center\, 1127 U.S. Rte. 2\, N. Hero\nTickets: Free\, Donations to Island Arts appreciated \nPrior to attending class\, please call Rob Rousseau to register or for more information at 802-373-0947. \nJoin us in Tai Chi for health and relaxation. New students are always welcome.Tai Chi is\, literally\, the connecting of individual energy to the universe energy through a series of movements. Moving simply and letting go of our own blocks allows Chi\, or energy\, to flow. \nQiGong is a method of movement from which Tai Chi and a plethora of other movements have evolved. \nClasses held outside weather permitting; otherwise\, class will move inside the barn. \nBACK TO ALL CLASSES
URL:https://www.islandarts.org/event/tai-chi-2-3/2025-06-25/
LOCATION:Island Arts Center\, 1127 US Rte 2\, North Hero\, 05474\, United States
CATEGORIES:Classes,Free Classes,Health & Wellness
ATTACH;FMTTYPE=image/jpeg:https://www.islandarts.org/wp-content/uploads/2022/01/Tai-Chi-at-Island-Arts.jpg
END:VEVENT
BEGIN:VEVENT
DTSTART;TZID=America/New_York:20250630T090000
DTEND;TZID=America/New_York:20250630T100000
DTSTAMP:20260425T085945
CREATED:20250507T211759Z
LAST-MODIFIED:20250531T192022Z
UID:10000722-1751274000-1751277600@www.islandarts.org
SUMMARY:Yin Yoga for All
DESCRIPTION:Day/Time: Monday 9:00 – 10:00 AM\nDate/Location: June 23\, 30\, July 14\, 21\, 28\, Aug 4\, 25 no class July 7\nCamp Ingalls 1769 South End Rd\, North Hero\, VT\nCost:  $10 suggested donation at the door (cash\, check\, venmo) \n(In partnership with North Hero Parks and Recreation and Island Arts) \nFor Beginner\, Aging\, Active\, and Athletic  \nYin Yoga is a contemplative practice that targets the connective tissues of the body such as tendons\, ligaments\, and the deep fascia network. This practice consists of going into a pose\, finding stillness\, and then connecting to the breath while holding the pose for 3-4 minutes. Most poses are seated poses similar to stretching poses. This is a great practice for people with an active mind as well as an active body. If you are new to yoga this is a wonderful place to start. \nA limited number of mats will be available for use. \nBob Muncil \nBob loves fishing and playing pickleball in North Hero in the summertime.  He is a certified Yin Yoga and meditation teacher and has experienced the benefits they offer to his aging and athletic body; and for quieting his busy mind. Bob is also an Interventionist and Recovery Coach and has been sober for 31 years. He has made it his mission in retirement to share the benefits of yoga\, meditation\, and sobriety wherever he goes. Prior to retirement Bob worked for 35 years in the business world.
URL:https://www.islandarts.org/event/yin-yoga-for-all-2/2025-06-30/
LOCATION:1769 South End RD\, North Hero Camp Ingalls\, 1769 South End Road\, North Hero\, VT
CATEGORIES:Classes,Free Classes,Health & Wellness
ATTACH;FMTTYPE=image/jpeg:https://www.islandarts.org/wp-content/uploads/2025/05/2-pic-of-only-Bob.jpg
END:VEVENT
END:VCALENDAR