BEGIN:VCALENDAR
VERSION:2.0
PRODID:-//Island Arts - ECPv6.15.20//NONSGML v1.0//EN
CALSCALE:GREGORIAN
METHOD:PUBLISH
X-WR-CALNAME:Island Arts
X-ORIGINAL-URL:https://www.islandarts.org
X-WR-CALDESC:Events for Island Arts
REFRESH-INTERVAL;VALUE=DURATION:PT1H
X-Robots-Tag:noindex
X-PUBLISHED-TTL:PT1H
BEGIN:VTIMEZONE
TZID:America/New_York
BEGIN:DAYLIGHT
TZOFFSETFROM:-0500
TZOFFSETTO:-0400
TZNAME:EDT
DTSTART:20240310T070000
END:DAYLIGHT
BEGIN:STANDARD
TZOFFSETFROM:-0400
TZOFFSETTO:-0500
TZNAME:EST
DTSTART:20241103T060000
END:STANDARD
BEGIN:DAYLIGHT
TZOFFSETFROM:-0500
TZOFFSETTO:-0400
TZNAME:EDT
DTSTART:20250309T070000
END:DAYLIGHT
BEGIN:STANDARD
TZOFFSETFROM:-0400
TZOFFSETTO:-0500
TZNAME:EST
DTSTART:20251102T060000
END:STANDARD
BEGIN:DAYLIGHT
TZOFFSETFROM:-0500
TZOFFSETTO:-0400
TZNAME:EDT
DTSTART:20260308T070000
END:DAYLIGHT
BEGIN:STANDARD
TZOFFSETFROM:-0400
TZOFFSETTO:-0500
TZNAME:EST
DTSTART:20261101T060000
END:STANDARD
END:VTIMEZONE
BEGIN:VEVENT
DTSTART;TZID=America/New_York:20250825T090000
DTEND;TZID=America/New_York:20250825T100000
DTSTAMP:20260425T084255
CREATED:20250507T211759Z
LAST-MODIFIED:20250531T192022Z
UID:10000761-1756112400-1756116000@www.islandarts.org
SUMMARY:Yin Yoga for All
DESCRIPTION:Day/Time: Monday 9:00 – 10:00 AM\nDate/Location: June 23\, 30\, July 14\, 21\, 28\, Aug 4\, 25 no class July 7\nCamp Ingalls 1769 South End Rd\, North Hero\, VT\nCost:  $10 suggested donation at the door (cash\, check\, venmo) \n(In partnership with North Hero Parks and Recreation and Island Arts) \nFor Beginner\, Aging\, Active\, and Athletic  \nYin Yoga is a contemplative practice that targets the connective tissues of the body such as tendons\, ligaments\, and the deep fascia network. This practice consists of going into a pose\, finding stillness\, and then connecting to the breath while holding the pose for 3-4 minutes. Most poses are seated poses similar to stretching poses. This is a great practice for people with an active mind as well as an active body. If you are new to yoga this is a wonderful place to start. \nA limited number of mats will be available for use. \nBob Muncil \nBob loves fishing and playing pickleball in North Hero in the summertime.  He is a certified Yin Yoga and meditation teacher and has experienced the benefits they offer to his aging and athletic body; and for quieting his busy mind. Bob is also an Interventionist and Recovery Coach and has been sober for 31 years. He has made it his mission in retirement to share the benefits of yoga\, meditation\, and sobriety wherever he goes. Prior to retirement Bob worked for 35 years in the business world.
URL:https://www.islandarts.org/event/yin-yoga-for-all-2/2025-08-25/
LOCATION:1769 South End RD\, North Hero Camp Ingalls\, 1769 South End Road\, North Hero\, VT
CATEGORIES:Classes,Free Classes,Health & Wellness
ATTACH;FMTTYPE=image/jpeg:https://www.islandarts.org/wp-content/uploads/2025/05/2-pic-of-only-Bob.jpg
END:VEVENT
END:VCALENDAR