BEGIN:VCALENDAR
VERSION:2.0
PRODID:-//Island Arts - ECPv6.15.20//NONSGML v1.0//EN
CALSCALE:GREGORIAN
METHOD:PUBLISH
X-ORIGINAL-URL:https://www.islandarts.org
X-WR-CALDESC:Events for Island Arts
REFRESH-INTERVAL;VALUE=DURATION:PT1H
X-Robots-Tag:noindex
X-PUBLISHED-TTL:PT1H
BEGIN:VTIMEZONE
TZID:Asia/Dubai
BEGIN:STANDARD
TZOFFSETFROM:+0400
TZOFFSETTO:+0400
TZNAME:+04
DTSTART:20210101T000000
END:STANDARD
END:VTIMEZONE
BEGIN:VTIMEZONE
TZID:America/New_York
BEGIN:DAYLIGHT
TZOFFSETFROM:-0500
TZOFFSETTO:-0400
TZNAME:EDT
DTSTART:20210314T070000
END:DAYLIGHT
BEGIN:STANDARD
TZOFFSETFROM:-0400
TZOFFSETTO:-0500
TZNAME:EST
DTSTART:20211107T060000
END:STANDARD
BEGIN:DAYLIGHT
TZOFFSETFROM:-0500
TZOFFSETTO:-0400
TZNAME:EDT
DTSTART:20220313T070000
END:DAYLIGHT
BEGIN:STANDARD
TZOFFSETFROM:-0400
TZOFFSETTO:-0500
TZNAME:EST
DTSTART:20221106T060000
END:STANDARD
BEGIN:DAYLIGHT
TZOFFSETFROM:-0500
TZOFFSETTO:-0400
TZNAME:EDT
DTSTART:20230312T070000
END:DAYLIGHT
BEGIN:STANDARD
TZOFFSETFROM:-0400
TZOFFSETTO:-0500
TZNAME:EST
DTSTART:20231105T060000
END:STANDARD
END:VTIMEZONE
BEGIN:VEVENT
DTSTART;TZID=Asia/Dubai:20220706T160000
DTEND;TZID=Asia/Dubai:20220706T170000
DTSTAMP:20260425T102049
CREATED:20220131T191436Z
LAST-MODIFIED:20220602T230140Z
UID:10000067-1657123200-1657126800@www.islandarts.org
SUMMARY:Tai Chi
DESCRIPTION:Tai ChiTai Chi\nDate and Time: Every Wednesday from May 11 – September 7 (or longer)\, 4:00pm – 5:00pm\nInstructor: Rob Rousseau\nLocation: Island Arts Center\, 1127 U.S. Rte. 2\, N. Hero\nTickets: Donations to Island Arts appreciated \nJoin us in Tai Chi for health and relaxation. New students are always welcome.Tai Chi is\, literally\, the connecting of individual energy to the universe energy through a series of movements. Moving simply and letting go of our own blocks allows Chi\, or energy\, to flow. \nQiGong is a method of movement from which Tai Chi and a plethora of other movements have evolved. \nFor more information\, please call Rob at 802-373-0947. \nClasses held outside unless the weather is inclement. \nBACK TO ALL CLASSES
URL:https://www.islandarts.org/event/tai-chi/2022-07-06/
LOCATION:Isle LaMotte Town Hall Community Room\, Isle LaMotte\, VT 05463\, 67 Church St.\, Isle LaMotte\, VT\, 05463\, United States
CATEGORIES:Free Classes,Health & Wellness
ATTACH;FMTTYPE=image/jpeg:https://www.islandarts.org/wp-content/uploads/2022/01/Tai-Chi-at-Island-Arts.jpg
END:VEVENT
BEGIN:VEVENT
DTSTART;TZID=Asia/Dubai:20220706T090000
DTEND;TZID=Asia/Dubai:20220706T101500
DTSTAMP:20260425T102049
CREATED:20220201T010919Z
LAST-MODIFIED:20220808T225112Z
UID:10000081-1657098000-1657102500@www.islandarts.org
SUMMARY:Kundalini Yoga
DESCRIPTION:Kundalini Yoga \nAugust 24th class has been CANCELLED Date and time: Wednesdays\, 9am – 10:15am\, June 15 – September 15 \nInstructor: Kim Muncil\nCost: FREE; donations appreciated to benefit Island Arts \nNOTE: Classes for July 13th\, August 10th\, and August 17th will be at the North Hero Community Hall\, US RTE 2\, North Hero VT \nThis style of yoga includes poses\, movement\, breath work\, and meditation. Each class is very unique and a full experience. The practice works to move energy in the body and bring about self-awareness. No yoga experience necessary. \nThe classes will be taught by Kim Muncil\, a certified Kundalini Yoga instructor from Delmar\, NY who has taught yoga for several years. She is a retired elementary teacher and spends her summers on Lake Champlain. \nOffered in collaboration with the North Hero Parks and Recreation.
URL:https://www.islandarts.org/event/kundalini-yoga/2022-07-06/
LOCATION:1769 South End RD\, North Hero Camp Ingalls\, 1769 South End Road\, North Hero\, VT
CATEGORIES:Free Classes,Health & Wellness
END:VEVENT
BEGIN:VEVENT
DTSTART;TZID=Asia/Dubai:20220629T160000
DTEND;TZID=Asia/Dubai:20220629T170000
DTSTAMP:20260425T102049
CREATED:20220131T191436Z
LAST-MODIFIED:20220602T230140Z
UID:10000066-1656518400-1656522000@www.islandarts.org
SUMMARY:Tai Chi
DESCRIPTION:Tai ChiTai Chi\nDate and Time: Every Wednesday from May 11 – September 7 (or longer)\, 4:00pm – 5:00pm\nInstructor: Rob Rousseau\nLocation: Island Arts Center\, 1127 U.S. Rte. 2\, N. Hero\nTickets: Donations to Island Arts appreciated \nJoin us in Tai Chi for health and relaxation. New students are always welcome.Tai Chi is\, literally\, the connecting of individual energy to the universe energy through a series of movements. Moving simply and letting go of our own blocks allows Chi\, or energy\, to flow. \nQiGong is a method of movement from which Tai Chi and a plethora of other movements have evolved. \nFor more information\, please call Rob at 802-373-0947. \nClasses held outside unless the weather is inclement. \nBACK TO ALL CLASSES
URL:https://www.islandarts.org/event/tai-chi/2022-06-29/
LOCATION:Isle LaMotte Town Hall Community Room\, Isle LaMotte\, VT 05463\, 67 Church St.\, Isle LaMotte\, VT\, 05463\, United States
CATEGORIES:Free Classes,Health & Wellness
ATTACH;FMTTYPE=image/jpeg:https://www.islandarts.org/wp-content/uploads/2022/01/Tai-Chi-at-Island-Arts.jpg
END:VEVENT
BEGIN:VEVENT
DTSTART;TZID=Asia/Dubai:20220629T090000
DTEND;TZID=Asia/Dubai:20220629T101500
DTSTAMP:20260425T102049
CREATED:20220201T010919Z
LAST-MODIFIED:20220808T225112Z
UID:10000080-1656493200-1656497700@www.islandarts.org
SUMMARY:Kundalini Yoga
DESCRIPTION:Kundalini Yoga \nAugust 24th class has been CANCELLED Date and time: Wednesdays\, 9am – 10:15am\, June 15 – September 15 \nInstructor: Kim Muncil\nCost: FREE; donations appreciated to benefit Island Arts \nNOTE: Classes for July 13th\, August 10th\, and August 17th will be at the North Hero Community Hall\, US RTE 2\, North Hero VT \nThis style of yoga includes poses\, movement\, breath work\, and meditation. Each class is very unique and a full experience. The practice works to move energy in the body and bring about self-awareness. No yoga experience necessary. \nThe classes will be taught by Kim Muncil\, a certified Kundalini Yoga instructor from Delmar\, NY who has taught yoga for several years. She is a retired elementary teacher and spends her summers on Lake Champlain. \nOffered in collaboration with the North Hero Parks and Recreation.
URL:https://www.islandarts.org/event/kundalini-yoga/2022-06-29/
LOCATION:1769 South End RD\, North Hero Camp Ingalls\, 1769 South End Road\, North Hero\, VT
CATEGORIES:Free Classes,Health & Wellness
END:VEVENT
BEGIN:VEVENT
DTSTART;TZID=America/New_York:20220627T090000
DTEND;TZID=America/New_York:20220627T220000
DTSTAMP:20260425T102049
CREATED:20220418T200853Z
LAST-MODIFIED:20220602T233208Z
UID:10000031-1656320400-1656367200@www.islandarts.org
SUMMARY:Meditation
DESCRIPTION:MeditationDate/Time: Mondays\, 9-10 am\, June 6\, 13\, 20\, 27 (4-week series)\nLocation: Camp Ingalls\, 769 South End Road\, North Hero\nCost: FREE; donations appreciated to benefit Island Arts \nThis four-part meditation series will give attendees practical tools and insights which they can utilize in their own practice. The series is for people new to meditation as well as those with an existing practice. \nInstructor Bob Muncil is a Certified Meditation Instructor (School of Positive Transformation\, Boulder\, CO). He has meditated daily for many years and has taught various meditation classes and techniques to students of all ages and meditation experience. If you have never meditated but want to give it a try\, this is the class for you. \nOffered in collaboration with the North Hero Parks and Recreation. \nBACK TO ALL CLASSES
URL:https://www.islandarts.org/event/meditation/2022-06-27/
LOCATION:1769 South End RD\, North Hero Camp Ingalls\, 1769 South End Road\, North Hero\, VT
CATEGORIES:Free Classes,Health & Wellness
ATTACH;FMTTYPE=image/jpeg:https://www.islandarts.org/wp-content/uploads/2022/04/gong-bath-stones.jpg
END:VEVENT
BEGIN:VEVENT
DTSTART;TZID=Asia/Dubai:20220622T160000
DTEND;TZID=Asia/Dubai:20220622T170000
DTSTAMP:20260425T102049
CREATED:20220131T191436Z
LAST-MODIFIED:20220602T230140Z
UID:10000065-1655913600-1655917200@www.islandarts.org
SUMMARY:Tai Chi
DESCRIPTION:Tai ChiTai Chi\nDate and Time: Every Wednesday from May 11 – September 7 (or longer)\, 4:00pm – 5:00pm\nInstructor: Rob Rousseau\nLocation: Island Arts Center\, 1127 U.S. Rte. 2\, N. Hero\nTickets: Donations to Island Arts appreciated \nJoin us in Tai Chi for health and relaxation. New students are always welcome.Tai Chi is\, literally\, the connecting of individual energy to the universe energy through a series of movements. Moving simply and letting go of our own blocks allows Chi\, or energy\, to flow. \nQiGong is a method of movement from which Tai Chi and a plethora of other movements have evolved. \nFor more information\, please call Rob at 802-373-0947. \nClasses held outside unless the weather is inclement. \nBACK TO ALL CLASSES
URL:https://www.islandarts.org/event/tai-chi/2022-06-22/
LOCATION:Isle LaMotte Town Hall Community Room\, Isle LaMotte\, VT 05463\, 67 Church St.\, Isle LaMotte\, VT\, 05463\, United States
CATEGORIES:Free Classes,Health & Wellness
ATTACH;FMTTYPE=image/jpeg:https://www.islandarts.org/wp-content/uploads/2022/01/Tai-Chi-at-Island-Arts.jpg
END:VEVENT
BEGIN:VEVENT
DTSTART;TZID=Asia/Dubai:20220622T090000
DTEND;TZID=Asia/Dubai:20220622T101500
DTSTAMP:20260425T102049
CREATED:20220201T010919Z
LAST-MODIFIED:20220808T225112Z
UID:10000079-1655888400-1655892900@www.islandarts.org
SUMMARY:Kundalini Yoga
DESCRIPTION:Kundalini Yoga \nAugust 24th class has been CANCELLED Date and time: Wednesdays\, 9am – 10:15am\, June 15 – September 15 \nInstructor: Kim Muncil\nCost: FREE; donations appreciated to benefit Island Arts \nNOTE: Classes for July 13th\, August 10th\, and August 17th will be at the North Hero Community Hall\, US RTE 2\, North Hero VT \nThis style of yoga includes poses\, movement\, breath work\, and meditation. Each class is very unique and a full experience. The practice works to move energy in the body and bring about self-awareness. No yoga experience necessary. \nThe classes will be taught by Kim Muncil\, a certified Kundalini Yoga instructor from Delmar\, NY who has taught yoga for several years. She is a retired elementary teacher and spends her summers on Lake Champlain. \nOffered in collaboration with the North Hero Parks and Recreation.
URL:https://www.islandarts.org/event/kundalini-yoga/2022-06-22/
LOCATION:1769 South End RD\, North Hero Camp Ingalls\, 1769 South End Road\, North Hero\, VT
CATEGORIES:Free Classes,Health & Wellness
END:VEVENT
BEGIN:VEVENT
DTSTART;TZID=America/New_York:20220620T090000
DTEND;TZID=America/New_York:20220620T220000
DTSTAMP:20260425T102049
CREATED:20220418T200853Z
LAST-MODIFIED:20220602T233208Z
UID:10000030-1655715600-1655762400@www.islandarts.org
SUMMARY:Meditation
DESCRIPTION:MeditationDate/Time: Mondays\, 9-10 am\, June 6\, 13\, 20\, 27 (4-week series)\nLocation: Camp Ingalls\, 769 South End Road\, North Hero\nCost: FREE; donations appreciated to benefit Island Arts \nThis four-part meditation series will give attendees practical tools and insights which they can utilize in their own practice. The series is for people new to meditation as well as those with an existing practice. \nInstructor Bob Muncil is a Certified Meditation Instructor (School of Positive Transformation\, Boulder\, CO). He has meditated daily for many years and has taught various meditation classes and techniques to students of all ages and meditation experience. If you have never meditated but want to give it a try\, this is the class for you. \nOffered in collaboration with the North Hero Parks and Recreation. \nBACK TO ALL CLASSES
URL:https://www.islandarts.org/event/meditation/2022-06-20/
LOCATION:1769 South End RD\, North Hero Camp Ingalls\, 1769 South End Road\, North Hero\, VT
CATEGORIES:Free Classes,Health & Wellness
ATTACH;FMTTYPE=image/jpeg:https://www.islandarts.org/wp-content/uploads/2022/04/gong-bath-stones.jpg
END:VEVENT
BEGIN:VEVENT
DTSTART;TZID=Asia/Dubai:20220615T160000
DTEND;TZID=Asia/Dubai:20220615T170000
DTSTAMP:20260425T102049
CREATED:20220131T191436Z
LAST-MODIFIED:20220602T230140Z
UID:10000064-1655308800-1655312400@www.islandarts.org
SUMMARY:Tai Chi
DESCRIPTION:Tai ChiTai Chi\nDate and Time: Every Wednesday from May 11 – September 7 (or longer)\, 4:00pm – 5:00pm\nInstructor: Rob Rousseau\nLocation: Island Arts Center\, 1127 U.S. Rte. 2\, N. Hero\nTickets: Donations to Island Arts appreciated \nJoin us in Tai Chi for health and relaxation. New students are always welcome.Tai Chi is\, literally\, the connecting of individual energy to the universe energy through a series of movements. Moving simply and letting go of our own blocks allows Chi\, or energy\, to flow. \nQiGong is a method of movement from which Tai Chi and a plethora of other movements have evolved. \nFor more information\, please call Rob at 802-373-0947. \nClasses held outside unless the weather is inclement. \nBACK TO ALL CLASSES
URL:https://www.islandarts.org/event/tai-chi/2022-06-15/
LOCATION:Isle LaMotte Town Hall Community Room\, Isle LaMotte\, VT 05463\, 67 Church St.\, Isle LaMotte\, VT\, 05463\, United States
CATEGORIES:Free Classes,Health & Wellness
ATTACH;FMTTYPE=image/jpeg:https://www.islandarts.org/wp-content/uploads/2022/01/Tai-Chi-at-Island-Arts.jpg
END:VEVENT
BEGIN:VEVENT
DTSTART;TZID=Asia/Dubai:20220615T090000
DTEND;TZID=Asia/Dubai:20220615T101500
DTSTAMP:20260425T102049
CREATED:20220201T010919Z
LAST-MODIFIED:20220808T225112Z
UID:10000078-1655283600-1655288100@www.islandarts.org
SUMMARY:Kundalini Yoga
DESCRIPTION:Kundalini Yoga \nAugust 24th class has been CANCELLED Date and time: Wednesdays\, 9am – 10:15am\, June 15 – September 15 \nInstructor: Kim Muncil\nCost: FREE; donations appreciated to benefit Island Arts \nNOTE: Classes for July 13th\, August 10th\, and August 17th will be at the North Hero Community Hall\, US RTE 2\, North Hero VT \nThis style of yoga includes poses\, movement\, breath work\, and meditation. Each class is very unique and a full experience. The practice works to move energy in the body and bring about self-awareness. No yoga experience necessary. \nThe classes will be taught by Kim Muncil\, a certified Kundalini Yoga instructor from Delmar\, NY who has taught yoga for several years. She is a retired elementary teacher and spends her summers on Lake Champlain. \nOffered in collaboration with the North Hero Parks and Recreation.
URL:https://www.islandarts.org/event/kundalini-yoga/2022-06-15/
LOCATION:1769 South End RD\, North Hero Camp Ingalls\, 1769 South End Road\, North Hero\, VT
CATEGORIES:Free Classes,Health & Wellness
END:VEVENT
BEGIN:VEVENT
DTSTART;TZID=America/New_York:20220613T090000
DTEND;TZID=America/New_York:20220613T220000
DTSTAMP:20260425T102049
CREATED:20220418T200853Z
LAST-MODIFIED:20220602T233208Z
UID:10000029-1655110800-1655157600@www.islandarts.org
SUMMARY:Meditation
DESCRIPTION:MeditationDate/Time: Mondays\, 9-10 am\, June 6\, 13\, 20\, 27 (4-week series)\nLocation: Camp Ingalls\, 769 South End Road\, North Hero\nCost: FREE; donations appreciated to benefit Island Arts \nThis four-part meditation series will give attendees practical tools and insights which they can utilize in their own practice. The series is for people new to meditation as well as those with an existing practice. \nInstructor Bob Muncil is a Certified Meditation Instructor (School of Positive Transformation\, Boulder\, CO). He has meditated daily for many years and has taught various meditation classes and techniques to students of all ages and meditation experience. If you have never meditated but want to give it a try\, this is the class for you. \nOffered in collaboration with the North Hero Parks and Recreation. \nBACK TO ALL CLASSES
URL:https://www.islandarts.org/event/meditation/2022-06-13/
LOCATION:1769 South End RD\, North Hero Camp Ingalls\, 1769 South End Road\, North Hero\, VT
CATEGORIES:Free Classes,Health & Wellness
ATTACH;FMTTYPE=image/jpeg:https://www.islandarts.org/wp-content/uploads/2022/04/gong-bath-stones.jpg
END:VEVENT
BEGIN:VEVENT
DTSTART;TZID=Asia/Dubai:20220608T160000
DTEND;TZID=Asia/Dubai:20220608T170000
DTSTAMP:20260425T102049
CREATED:20220131T191436Z
LAST-MODIFIED:20220602T230140Z
UID:10000063-1654704000-1654707600@www.islandarts.org
SUMMARY:Tai Chi
DESCRIPTION:Tai ChiTai Chi\nDate and Time: Every Wednesday from May 11 – September 7 (or longer)\, 4:00pm – 5:00pm\nInstructor: Rob Rousseau\nLocation: Island Arts Center\, 1127 U.S. Rte. 2\, N. Hero\nTickets: Donations to Island Arts appreciated \nJoin us in Tai Chi for health and relaxation. New students are always welcome.Tai Chi is\, literally\, the connecting of individual energy to the universe energy through a series of movements. Moving simply and letting go of our own blocks allows Chi\, or energy\, to flow. \nQiGong is a method of movement from which Tai Chi and a plethora of other movements have evolved. \nFor more information\, please call Rob at 802-373-0947. \nClasses held outside unless the weather is inclement. \nBACK TO ALL CLASSES
URL:https://www.islandarts.org/event/tai-chi/2022-06-08/
LOCATION:Isle LaMotte Town Hall Community Room\, Isle LaMotte\, VT 05463\, 67 Church St.\, Isle LaMotte\, VT\, 05463\, United States
CATEGORIES:Free Classes,Health & Wellness
ATTACH;FMTTYPE=image/jpeg:https://www.islandarts.org/wp-content/uploads/2022/01/Tai-Chi-at-Island-Arts.jpg
END:VEVENT
BEGIN:VEVENT
DTSTART;TZID=America/New_York:20220606T090000
DTEND;TZID=America/New_York:20220606T220000
DTSTAMP:20260425T102049
CREATED:20220418T200853Z
LAST-MODIFIED:20220602T233208Z
UID:10000028-1654506000-1654552800@www.islandarts.org
SUMMARY:Meditation
DESCRIPTION:MeditationDate/Time: Mondays\, 9-10 am\, June 6\, 13\, 20\, 27 (4-week series)\nLocation: Camp Ingalls\, 769 South End Road\, North Hero\nCost: FREE; donations appreciated to benefit Island Arts \nThis four-part meditation series will give attendees practical tools and insights which they can utilize in their own practice. The series is for people new to meditation as well as those with an existing practice. \nInstructor Bob Muncil is a Certified Meditation Instructor (School of Positive Transformation\, Boulder\, CO). He has meditated daily for many years and has taught various meditation classes and techniques to students of all ages and meditation experience. If you have never meditated but want to give it a try\, this is the class for you. \nOffered in collaboration with the North Hero Parks and Recreation. \nBACK TO ALL CLASSES
URL:https://www.islandarts.org/event/meditation/2022-06-06/
LOCATION:1769 South End RD\, North Hero Camp Ingalls\, 1769 South End Road\, North Hero\, VT
CATEGORIES:Free Classes,Health & Wellness
ATTACH;FMTTYPE=image/jpeg:https://www.islandarts.org/wp-content/uploads/2022/04/gong-bath-stones.jpg
END:VEVENT
BEGIN:VEVENT
DTSTART;TZID=Asia/Dubai:20220601T160000
DTEND;TZID=Asia/Dubai:20220601T170000
DTSTAMP:20260425T102049
CREATED:20220131T191436Z
LAST-MODIFIED:20220602T230140Z
UID:10000062-1654099200-1654102800@www.islandarts.org
SUMMARY:Tai Chi
DESCRIPTION:Tai ChiTai Chi\nDate and Time: Every Wednesday from May 11 – September 7 (or longer)\, 4:00pm – 5:00pm\nInstructor: Rob Rousseau\nLocation: Island Arts Center\, 1127 U.S. Rte. 2\, N. Hero\nTickets: Donations to Island Arts appreciated \nJoin us in Tai Chi for health and relaxation. New students are always welcome.Tai Chi is\, literally\, the connecting of individual energy to the universe energy through a series of movements. Moving simply and letting go of our own blocks allows Chi\, or energy\, to flow. \nQiGong is a method of movement from which Tai Chi and a plethora of other movements have evolved. \nFor more information\, please call Rob at 802-373-0947. \nClasses held outside unless the weather is inclement. \nBACK TO ALL CLASSES
URL:https://www.islandarts.org/event/tai-chi/2022-06-01/
LOCATION:Isle LaMotte Town Hall Community Room\, Isle LaMotte\, VT 05463\, 67 Church St.\, Isle LaMotte\, VT\, 05463\, United States
CATEGORIES:Free Classes,Health & Wellness
ATTACH;FMTTYPE=image/jpeg:https://www.islandarts.org/wp-content/uploads/2022/01/Tai-Chi-at-Island-Arts.jpg
END:VEVENT
BEGIN:VEVENT
DTSTART;TZID=Asia/Dubai:20220525T160000
DTEND;TZID=Asia/Dubai:20220525T170000
DTSTAMP:20260425T102049
CREATED:20220131T191436Z
LAST-MODIFIED:20220602T230140Z
UID:10000061-1653494400-1653498000@www.islandarts.org
SUMMARY:Tai Chi
DESCRIPTION:Tai ChiTai Chi\nDate and Time: Every Wednesday from May 11 – September 7 (or longer)\, 4:00pm – 5:00pm\nInstructor: Rob Rousseau\nLocation: Island Arts Center\, 1127 U.S. Rte. 2\, N. Hero\nTickets: Donations to Island Arts appreciated \nJoin us in Tai Chi for health and relaxation. New students are always welcome.Tai Chi is\, literally\, the connecting of individual energy to the universe energy through a series of movements. Moving simply and letting go of our own blocks allows Chi\, or energy\, to flow. \nQiGong is a method of movement from which Tai Chi and a plethora of other movements have evolved. \nFor more information\, please call Rob at 802-373-0947. \nClasses held outside unless the weather is inclement. \nBACK TO ALL CLASSES
URL:https://www.islandarts.org/event/tai-chi/2022-05-25/
LOCATION:Isle LaMotte Town Hall Community Room\, Isle LaMotte\, VT 05463\, 67 Church St.\, Isle LaMotte\, VT\, 05463\, United States
CATEGORIES:Free Classes,Health & Wellness
ATTACH;FMTTYPE=image/jpeg:https://www.islandarts.org/wp-content/uploads/2022/01/Tai-Chi-at-Island-Arts.jpg
END:VEVENT
BEGIN:VEVENT
DTSTART;TZID=Asia/Dubai:20220518T160000
DTEND;TZID=Asia/Dubai:20220518T170000
DTSTAMP:20260425T102049
CREATED:20220131T191436Z
LAST-MODIFIED:20220602T230140Z
UID:10000060-1652889600-1652893200@www.islandarts.org
SUMMARY:Tai Chi
DESCRIPTION:Tai ChiTai Chi\nDate and Time: Every Wednesday from May 11 – September 7 (or longer)\, 4:00pm – 5:00pm\nInstructor: Rob Rousseau\nLocation: Island Arts Center\, 1127 U.S. Rte. 2\, N. Hero\nTickets: Donations to Island Arts appreciated \nJoin us in Tai Chi for health and relaxation. New students are always welcome.Tai Chi is\, literally\, the connecting of individual energy to the universe energy through a series of movements. Moving simply and letting go of our own blocks allows Chi\, or energy\, to flow. \nQiGong is a method of movement from which Tai Chi and a plethora of other movements have evolved. \nFor more information\, please call Rob at 802-373-0947. \nClasses held outside unless the weather is inclement. \nBACK TO ALL CLASSES
URL:https://www.islandarts.org/event/tai-chi/2022-05-18/
LOCATION:Isle LaMotte Town Hall Community Room\, Isle LaMotte\, VT 05463\, 67 Church St.\, Isle LaMotte\, VT\, 05463\, United States
CATEGORIES:Free Classes,Health & Wellness
ATTACH;FMTTYPE=image/jpeg:https://www.islandarts.org/wp-content/uploads/2022/01/Tai-Chi-at-Island-Arts.jpg
END:VEVENT
BEGIN:VEVENT
DTSTART;TZID=Asia/Dubai:20220511T160000
DTEND;TZID=Asia/Dubai:20220511T170000
DTSTAMP:20260425T102049
CREATED:20220131T191436Z
LAST-MODIFIED:20220602T230140Z
UID:10000059-1652284800-1652288400@www.islandarts.org
SUMMARY:Tai Chi
DESCRIPTION:Tai ChiTai Chi\nDate and Time: Every Wednesday from May 11 – September 7 (or longer)\, 4:00pm – 5:00pm\nInstructor: Rob Rousseau\nLocation: Island Arts Center\, 1127 U.S. Rte. 2\, N. Hero\nTickets: Donations to Island Arts appreciated \nJoin us in Tai Chi for health and relaxation. New students are always welcome.Tai Chi is\, literally\, the connecting of individual energy to the universe energy through a series of movements. Moving simply and letting go of our own blocks allows Chi\, or energy\, to flow. \nQiGong is a method of movement from which Tai Chi and a plethora of other movements have evolved. \nFor more information\, please call Rob at 802-373-0947. \nClasses held outside unless the weather is inclement. \nBACK TO ALL CLASSES
URL:https://www.islandarts.org/event/tai-chi/2022-05-11/
LOCATION:Isle LaMotte Town Hall Community Room\, Isle LaMotte\, VT 05463\, 67 Church St.\, Isle LaMotte\, VT\, 05463\, United States
CATEGORIES:Free Classes,Health & Wellness
ATTACH;FMTTYPE=image/jpeg:https://www.islandarts.org/wp-content/uploads/2022/01/Tai-Chi-at-Island-Arts.jpg
END:VEVENT
END:VCALENDAR