BEGIN:VCALENDAR
VERSION:2.0
PRODID:-//Island Arts - ECPv6.15.20//NONSGML v1.0//EN
CALSCALE:GREGORIAN
METHOD:PUBLISH
X-WR-CALNAME:Island Arts
X-ORIGINAL-URL:https://www.islandarts.org
X-WR-CALDESC:Events for Island Arts
REFRESH-INTERVAL;VALUE=DURATION:PT1H
X-Robots-Tag:noindex
X-PUBLISHED-TTL:PT1H
BEGIN:VTIMEZONE
TZID:America/New_York
BEGIN:DAYLIGHT
TZOFFSETFROM:-0500
TZOFFSETTO:-0400
TZNAME:EDT
DTSTART:20250309T070000
END:DAYLIGHT
BEGIN:STANDARD
TZOFFSETFROM:-0400
TZOFFSETTO:-0500
TZNAME:EST
DTSTART:20251102T060000
END:STANDARD
BEGIN:DAYLIGHT
TZOFFSETFROM:-0500
TZOFFSETTO:-0400
TZNAME:EDT
DTSTART:20260308T070000
END:DAYLIGHT
BEGIN:STANDARD
TZOFFSETFROM:-0400
TZOFFSETTO:-0500
TZNAME:EST
DTSTART:20261101T060000
END:STANDARD
BEGIN:DAYLIGHT
TZOFFSETFROM:-0500
TZOFFSETTO:-0400
TZNAME:EDT
DTSTART:20270314T070000
END:DAYLIGHT
BEGIN:STANDARD
TZOFFSETFROM:-0400
TZOFFSETTO:-0500
TZNAME:EST
DTSTART:20271107T060000
END:STANDARD
END:VTIMEZONE
BEGIN:VEVENT
DTSTART;TZID=America/New_York:20260812T090000
DTEND;TZID=America/New_York:20260812T103000
DTSTAMP:20260425T113038
CREATED:20260325T153152Z
LAST-MODIFIED:20260331T153550Z
UID:10001404-1786525200-1786530600@www.islandarts.org
SUMMARY:Kundalini Yoga with Kim Muncil
DESCRIPTION:Kundalini Yoga with Kim Muncil\nIsland Arts Barn\nJune 24\, 2026 – Sept 2\, 2026 (No class July 8 and Aug 5)\nWednesday mornings 9:00-10:30\n$15 donation (cash\, check\, venmo at the door)\n\nKundalini Yoga is an ancient  practice that includes movement\, breathwork\, meditation\, and chanting. Each class has a theme and so each class is very different.  Classes are designed yoga sets (kriyas) that work on specific physical\, emotional\, and mental aspects of the body. It is a beautiful practice that will raise your energy and touch your heart.  Kim’s classes include live music and end with a gong relaxation.  Kim is a 500 hr Kundalini and meditation instructor as well as a certified breath coach. No experience is necessary. No registration required. Just drop in.  A limited number of yoga mats are available to use.
URL:https://www.islandarts.org/event/kundalini-yoga-with-kim-muncil/2026-08-12/
LOCATION:Island Arts Center\, 1127 US Rte 2\, North Hero\, 05474\, United States
CATEGORIES:Classes,Free Classes,Health & Wellness
ATTACH;FMTTYPE=image/jpeg:https://www.islandarts.org/wp-content/uploads/2026/03/IMG_0099.jpg
END:VEVENT
BEGIN:VEVENT
DTSTART;TZID=America/New_York:20260813T180000
DTEND;TZID=America/New_York:20260813T193000
DTSTAMP:20260425T113038
CREATED:20260325T161716Z
LAST-MODIFIED:20260409T142025Z
UID:10001380-1786644000-1786649400@www.islandarts.org
SUMMARY:A Shared Talk
DESCRIPTION:A Shared Talk:  A Journey of Spiritual and Personal Growth \nIsland Arts Barn\nAugust 13 \n6-7:30 PM\nFree (Donations to Island Arts gratefully accepted) \nJoin two friends\, Bob Muncil and Tim Carney\, as they share their heartfelt stories of addiction\, recovery\, and their paths toward spiritual and personal transformation. Through honesty\, humility\, and lived experience\, they reflect on the struggles and the practices that helped them move forward from addiction and all that goes with it\, to greater awareness\, compassion\, purpose and joy. \nTogether\, they will speak about the power of connection\, the role of spirituality in recovery\, and the daily choices that support a life of balance and growth. Their message is one of hope\, resilience\, and the possibility of change. Whether you struggle with addiction or not\, this shared talk will inspire you.  All are welcome.
URL:https://www.islandarts.org/event/a-shared-talk/
LOCATION:Island Arts Center\, 1127 US Rte 2\, North Hero\, 05474\, United States
CATEGORIES:Classes,Events,Health & Wellness
ATTACH;FMTTYPE=image/jpeg:https://www.islandarts.org/wp-content/uploads/2026/04/Shared-Talk.jpg
END:VEVENT
BEGIN:VEVENT
DTSTART;TZID=America/New_York:20260817T090000
DTEND;TZID=America/New_York:20260817T100000
DTSTAMP:20260425T113038
CREATED:20260325T155537Z
LAST-MODIFIED:20260331T154820Z
UID:10001378-1786957200-1786960800@www.islandarts.org
SUMMARY:Yin Yoga for All
DESCRIPTION:Yin Yoga for All (Beginner\, Aging\, Active\, and Athletic) with Bob Muncil\nIsland Arts Barn\nJune 22- Aug 31 (No class July 6 and Aug 3)\nMonday mornings 9-10\n$10 donation (cash\, check\, venmo at the door) \nYin Yoga is a contemplative practice that targets the connective tissues of the body such as tendons\, ligaments\, and the deep fascia network. This practice consists of going into a pose\, finding stillness\, and then connecting to the breath while holding the pose for 3-4 minutes.  Most poses are seated poses similar to stretching poses. This is a great practice for people with an active mind as well as an active body.  If you are new to yoga this is a wonderful place to start. \nBob is a certified Yin Yoga and meditation instructor. No experience necessary.  No registration required. Just drop in. A limited number of mats will be available for use.
URL:https://www.islandarts.org/event/yin-yoga-for-all-4/2026-08-17/
LOCATION:Island Arts Center\, 1127 US Rte 2\, North Hero\, 05474\, United States
CATEGORIES:Classes,Free Classes,Health & Wellness
ATTACH;FMTTYPE=image/jpeg:https://www.islandarts.org/wp-content/uploads/2025/05/2-pic-of-only-Bob.jpg
END:VEVENT
BEGIN:VEVENT
DTSTART;TZID=America/New_York:20260819T090000
DTEND;TZID=America/New_York:20260819T103000
DTSTAMP:20260425T113038
CREATED:20260325T153152Z
LAST-MODIFIED:20260331T153550Z
UID:10001405-1787130000-1787135400@www.islandarts.org
SUMMARY:Kundalini Yoga with Kim Muncil
DESCRIPTION:Kundalini Yoga with Kim Muncil\nIsland Arts Barn\nJune 24\, 2026 – Sept 2\, 2026 (No class July 8 and Aug 5)\nWednesday mornings 9:00-10:30\n$15 donation (cash\, check\, venmo at the door)\n\nKundalini Yoga is an ancient  practice that includes movement\, breathwork\, meditation\, and chanting. Each class has a theme and so each class is very different.  Classes are designed yoga sets (kriyas) that work on specific physical\, emotional\, and mental aspects of the body. It is a beautiful practice that will raise your energy and touch your heart.  Kim’s classes include live music and end with a gong relaxation.  Kim is a 500 hr Kundalini and meditation instructor as well as a certified breath coach. No experience is necessary. No registration required. Just drop in.  A limited number of yoga mats are available to use.
URL:https://www.islandarts.org/event/kundalini-yoga-with-kim-muncil/2026-08-19/
LOCATION:Island Arts Center\, 1127 US Rte 2\, North Hero\, 05474\, United States
CATEGORIES:Classes,Free Classes,Health & Wellness
ATTACH;FMTTYPE=image/jpeg:https://www.islandarts.org/wp-content/uploads/2026/03/IMG_0099.jpg
END:VEVENT
BEGIN:VEVENT
DTSTART;TZID=America/New_York:20260824T090000
DTEND;TZID=America/New_York:20260824T100000
DTSTAMP:20260425T113038
CREATED:20260325T155537Z
LAST-MODIFIED:20260331T154820Z
UID:10001379-1787562000-1787565600@www.islandarts.org
SUMMARY:Yin Yoga for All
DESCRIPTION:Yin Yoga for All (Beginner\, Aging\, Active\, and Athletic) with Bob Muncil\nIsland Arts Barn\nJune 22- Aug 31 (No class July 6 and Aug 3)\nMonday mornings 9-10\n$10 donation (cash\, check\, venmo at the door) \nYin Yoga is a contemplative practice that targets the connective tissues of the body such as tendons\, ligaments\, and the deep fascia network. This practice consists of going into a pose\, finding stillness\, and then connecting to the breath while holding the pose for 3-4 minutes.  Most poses are seated poses similar to stretching poses. This is a great practice for people with an active mind as well as an active body.  If you are new to yoga this is a wonderful place to start. \nBob is a certified Yin Yoga and meditation instructor. No experience necessary.  No registration required. Just drop in. A limited number of mats will be available for use.
URL:https://www.islandarts.org/event/yin-yoga-for-all-4/2026-08-24/
LOCATION:Island Arts Center\, 1127 US Rte 2\, North Hero\, 05474\, United States
CATEGORIES:Classes,Free Classes,Health & Wellness
ATTACH;FMTTYPE=image/jpeg:https://www.islandarts.org/wp-content/uploads/2025/05/2-pic-of-only-Bob.jpg
END:VEVENT
BEGIN:VEVENT
DTSTART;TZID=America/New_York:20260826T090000
DTEND;TZID=America/New_York:20260826T103000
DTSTAMP:20260425T113038
CREATED:20260325T153152Z
LAST-MODIFIED:20260331T153550Z
UID:10001406-1787734800-1787740200@www.islandarts.org
SUMMARY:Kundalini Yoga with Kim Muncil
DESCRIPTION:Kundalini Yoga with Kim Muncil\nIsland Arts Barn\nJune 24\, 2026 – Sept 2\, 2026 (No class July 8 and Aug 5)\nWednesday mornings 9:00-10:30\n$15 donation (cash\, check\, venmo at the door)\n\nKundalini Yoga is an ancient  practice that includes movement\, breathwork\, meditation\, and chanting. Each class has a theme and so each class is very different.  Classes are designed yoga sets (kriyas) that work on specific physical\, emotional\, and mental aspects of the body. It is a beautiful practice that will raise your energy and touch your heart.  Kim’s classes include live music and end with a gong relaxation.  Kim is a 500 hr Kundalini and meditation instructor as well as a certified breath coach. No experience is necessary. No registration required. Just drop in.  A limited number of yoga mats are available to use.
URL:https://www.islandarts.org/event/kundalini-yoga-with-kim-muncil/2026-08-26/
LOCATION:Island Arts Center\, 1127 US Rte 2\, North Hero\, 05474\, United States
CATEGORIES:Classes,Free Classes,Health & Wellness
ATTACH;FMTTYPE=image/jpeg:https://www.islandarts.org/wp-content/uploads/2026/03/IMG_0099.jpg
END:VEVENT
BEGIN:VEVENT
DTSTART;TZID=America/New_York:20260831T090000
DTEND;TZID=America/New_York:20260831T100000
DTSTAMP:20260425T113038
CREATED:20260325T155537Z
LAST-MODIFIED:20260331T154820Z
UID:10001372-1788166800-1788170400@www.islandarts.org
SUMMARY:Yin Yoga for All
DESCRIPTION:Yin Yoga for All (Beginner\, Aging\, Active\, and Athletic) with Bob Muncil\nIsland Arts Barn\nJune 22- Aug 31 (No class July 6 and Aug 3)\nMonday mornings 9-10\n$10 donation (cash\, check\, venmo at the door) \nYin Yoga is a contemplative practice that targets the connective tissues of the body such as tendons\, ligaments\, and the deep fascia network. This practice consists of going into a pose\, finding stillness\, and then connecting to the breath while holding the pose for 3-4 minutes.  Most poses are seated poses similar to stretching poses. This is a great practice for people with an active mind as well as an active body.  If you are new to yoga this is a wonderful place to start. \nBob is a certified Yin Yoga and meditation instructor. No experience necessary.  No registration required. Just drop in. A limited number of mats will be available for use.
URL:https://www.islandarts.org/event/yin-yoga-for-all-4/2026-08-31/
LOCATION:Island Arts Center\, 1127 US Rte 2\, North Hero\, 05474\, United States
CATEGORIES:Classes,Free Classes,Health & Wellness
ATTACH;FMTTYPE=image/jpeg:https://www.islandarts.org/wp-content/uploads/2025/05/2-pic-of-only-Bob.jpg
END:VEVENT
BEGIN:VEVENT
DTSTART;TZID=America/New_York:20260902T090000
DTEND;TZID=America/New_York:20260902T103000
DTSTAMP:20260425T113038
CREATED:20260325T153152Z
LAST-MODIFIED:20260331T153550Z
UID:10001407-1788339600-1788345000@www.islandarts.org
SUMMARY:Kundalini Yoga with Kim Muncil
DESCRIPTION:Kundalini Yoga with Kim Muncil\nIsland Arts Barn\nJune 24\, 2026 – Sept 2\, 2026 (No class July 8 and Aug 5)\nWednesday mornings 9:00-10:30\n$15 donation (cash\, check\, venmo at the door)\n\nKundalini Yoga is an ancient  practice that includes movement\, breathwork\, meditation\, and chanting. Each class has a theme and so each class is very different.  Classes are designed yoga sets (kriyas) that work on specific physical\, emotional\, and mental aspects of the body. It is a beautiful practice that will raise your energy and touch your heart.  Kim’s classes include live music and end with a gong relaxation.  Kim is a 500 hr Kundalini and meditation instructor as well as a certified breath coach. No experience is necessary. No registration required. Just drop in.  A limited number of yoga mats are available to use.
URL:https://www.islandarts.org/event/kundalini-yoga-with-kim-muncil/2026-09-02/
LOCATION:Island Arts Center\, 1127 US Rte 2\, North Hero\, 05474\, United States
CATEGORIES:Classes,Free Classes,Health & Wellness
ATTACH;FMTTYPE=image/jpeg:https://www.islandarts.org/wp-content/uploads/2026/03/IMG_0099.jpg
END:VEVENT
END:VCALENDAR