BEGIN:VCALENDAR
VERSION:2.0
PRODID:-//Island Arts - ECPv6.15.20//NONSGML v1.0//EN
CALSCALE:GREGORIAN
METHOD:PUBLISH
X-WR-CALNAME:Island Arts
X-ORIGINAL-URL:https://www.islandarts.org
X-WR-CALDESC:Events for Island Arts
REFRESH-INTERVAL;VALUE=DURATION:PT1H
X-Robots-Tag:noindex
X-PUBLISHED-TTL:PT1H
BEGIN:VTIMEZONE
TZID:UTC
BEGIN:STANDARD
TZOFFSETFROM:+0000
TZOFFSETTO:+0000
TZNAME:UTC
DTSTART:20210101T000000
END:STANDARD
END:VTIMEZONE
BEGIN:VTIMEZONE
TZID:America/New_York
BEGIN:DAYLIGHT
TZOFFSETFROM:-0500
TZOFFSETTO:-0400
TZNAME:EDT
DTSTART:20200308T070000
END:DAYLIGHT
BEGIN:STANDARD
TZOFFSETFROM:-0400
TZOFFSETTO:-0500
TZNAME:EST
DTSTART:20201101T060000
END:STANDARD
BEGIN:DAYLIGHT
TZOFFSETFROM:-0500
TZOFFSETTO:-0400
TZNAME:EDT
DTSTART:20210314T070000
END:DAYLIGHT
BEGIN:STANDARD
TZOFFSETFROM:-0400
TZOFFSETTO:-0500
TZNAME:EST
DTSTART:20211107T060000
END:STANDARD
BEGIN:DAYLIGHT
TZOFFSETFROM:-0500
TZOFFSETTO:-0400
TZNAME:EDT
DTSTART:20220313T070000
END:DAYLIGHT
BEGIN:STANDARD
TZOFFSETFROM:-0400
TZOFFSETTO:-0500
TZNAME:EST
DTSTART:20221106T060000
END:STANDARD
END:VTIMEZONE
BEGIN:VEVENT
DTSTART;TZID=UTC:20250622T110000
DTEND;TZID=UTC:20250622T150000
DTSTAMP:20260423T145250
CREATED:20250325T174505Z
LAST-MODIFIED:20250520T191349Z
UID:10000688-1750590000-1750604400@www.islandarts.org
SUMMARY:Book Sale
DESCRIPTION:Book Sale & Silent AuctionDate & Time: Saturday & Sunday\, June 21-22\, 2025; 11 AM to 3 PM\nLocation: Island Arts Center (barn)\, 1127 U.S. Rte. 2\, North Hero\, VT 05474\nTickets: Free admission. Books by donation. \nThe book sale will feature more than 3\,000 books to cater to every taste. All books are organized by subject for your easy discovery. There are paperbacks\, hard-covers\, and some beautiful books to display. The subjects are varied and include Fiction\, Mysteries\, History\, Travel\, Cooking\, Psychology\, True Stories\, Biographies\, and more. Browse at your leisure in the airy space that is the Island Arts Center barn. \nSilent Auction\nCome and bid to win multiple gift certificates for local restaurants\, pubs\, and other attractions locally and in surrounding towns. Other items are to be announced. \nBACK TO ALL EVENTS
URL:https://www.islandarts.org/event/book-sale-3/
LOCATION:Isle LaMotte Town Hall Community Room\, Isle LaMotte\, VT 05463\, 67 Church St.\, Isle LaMotte\, VT\, 05463\, United States
CATEGORIES:Benefit,Events,Literary
ATTACH;FMTTYPE=image/jpeg:https://www.islandarts.org/wp-content/uploads/2025/03/Book-sale-image-used-in-2025-brochure.jpg
END:VEVENT
BEGIN:VEVENT
DTSTART;TZID=UTC:20250621T110000
DTEND;TZID=UTC:20250621T150000
DTSTAMP:20260423T145250
CREATED:20250325T174249Z
LAST-MODIFIED:20250529T234251Z
UID:10000687-1750503600-1750518000@www.islandarts.org
SUMMARY:Book Sale & Silent Auction
DESCRIPTION:Book Sale & Silent AuctionDate & Time: Saturday & Sunday\, June 21-22\, 2025; 11 AM to 3 PM\, Evan Alsop performs 1 PM to 3 PM June 21Location: Island Arts Center (barn)\, 1127 U.S. Rte. 2\, North Hero\, VT 05474Tickets: Free admission. Books by donation. \nThe book sale will feature more than 3\,000 books to cater to every taste. All books are organized by subject for your easy discovery. There are paperbacks\, hard-covers\, and some beautiful books to display. The subjects are varied and include Fiction\, Mysteries\, History\, Travel\, Cooking\, Psychology\, True Stories\, Biographies\, and more. Browse at your leisure in the airy space that is the Island Arts Center barn. \nBe sure to join us from  1PM to 3PM as we are entertained by singer/songwriter Evan Alsop. \nSilent AuctionCome and bid to win multiple gift certificates for local restaurants\, pubs\, and other attractions locally and in surrounding towns. Other items are to be announced. \nBACK TO ALL EVENTS
URL:https://www.islandarts.org/event/book-sale-spring-2025/
LOCATION:Isle LaMotte Town Hall Community Room\, Isle LaMotte\, VT 05463\, 67 Church St.\, Isle LaMotte\, VT\, 05463\, United States
CATEGORIES:Benefit,Events,Literary
ATTACH;FMTTYPE=image/jpeg:https://www.islandarts.org/wp-content/uploads/2025/03/Book-sale-image-used-in-2025-brochure.jpg
END:VEVENT
BEGIN:VEVENT
DTSTART;TZID=UTC:20240623T110000
DTEND;TZID=UTC:20240623T150000
DTSTAMP:20260423T145250
CREATED:20240430T160014Z
LAST-MODIFIED:20240608T214146Z
UID:10000364-1719140400-1719154800@www.islandarts.org
SUMMARY:Book Sale 2024
DESCRIPTION:Book SaleDate & Time: Saturday & Sunday June 22-23\, 2024; 11 AM – 3 PM\nLocation: Island Arts Center (barn)\, 1127 U.S. Rte. 2\, North Hero\nTickets: Free admission. Books by donation. \nThe book sale will feature more than 3\,000 books to cater to every taste. All books are organized by subject for your easy discovery. There are paperbacks\, hard-covers\, and some beautiful books to display. The subjects are varied and include Fiction\, Mysteries\, History\, Travel\, Cooking\, Psychology\, True Stories\, Biographies\, and more. Browse at your leisure in the airy space that is the Island Arts Center barn. \nOn Sunday from 12-2:00\, a special treat will be entertainment from Evan Alsop\, who is a singer songwriter from the Lake Champlain Islands of Vermont. He released his debut EP titled “Little Barn Songs” in 2018. Currently he is finishing up his first full length album to be released in 2023. Evan’s songs contain time worn journeys of faith\, fortitude\, strife\, wonder and always love sheltered between the notes. \n  \nBACK TO ALL EVENTS
URL:https://www.islandarts.org/event/book-sale-2024-2/
LOCATION:Isle LaMotte Town Hall Community Room\, Isle LaMotte\, VT 05463\, 67 Church St.\, Isle LaMotte\, VT\, 05463\, United States
CATEGORIES:Benefit,Events,Literary,Music
ATTACH;FMTTYPE=image/jpeg:https://www.islandarts.org/wp-content/uploads/2022/02/Silent-Auction-and-Book-Sale_Photo-by-Island-Arts.jpg
END:VEVENT
BEGIN:VEVENT
DTSTART;TZID=UTC:20240622T110000
DTEND;TZID=UTC:20240622T150000
DTSTAMP:20260423T145250
CREATED:20240430T155329Z
LAST-MODIFIED:20240608T214343Z
UID:10000363-1719054000-1719068400@www.islandarts.org
SUMMARY:Book Sale 2024
DESCRIPTION:Book SaleDate & Time: Saturday & Sunday June 22-23\, 2024; 11 AM – 3 PMLocation: Island Arts Center (barn)\, 1127 U.S. Rte. 2\, North HeroTickets: Free admission. Books by donation. \nThe book sale will feature more than 3\,000 books to cater to every taste. All books are organized by subject for your easy discovery. There are paperbacks\, hard-covers\, and some beautiful books to display. The subjects are varied and include Fiction\, Mysteries\, History\, Travel\, Cooking\, Psychology\, True Stories\, Biographies\, and more. Browse at your leisure in the airy space that is the Island Arts Center barn. \nOn Sunday from 12-2:00\, a special treat will be entertainment from Evan Alsop\, who is a singer songwriter from the Lake Champlain Islands of Vermont. He released his debut EP titled “Little Barn Songs” in 2018. Currently he is finishing up his first full length album to be released in 2023. Evan’s songs contain time worn journeys of faith\, fortitude\, strife\, wonder and always love sheltered between the notes. \n  \nBACK TO ALL EVENTS
URL:https://www.islandarts.org/event/book-sale-2024/
LOCATION:Isle LaMotte Town Hall Community Room\, Isle LaMotte\, VT 05463\, 67 Church St.\, Isle LaMotte\, VT\, 05463\, United States
CATEGORIES:Benefit,Events,Literary,Music
ATTACH;FMTTYPE=image/jpeg:https://www.islandarts.org/wp-content/uploads/2022/02/Silent-Auction-and-Book-Sale_Photo-by-Island-Arts.jpg
END:VEVENT
BEGIN:VEVENT
DTSTART;TZID=UTC:20230618T110000
DTEND;TZID=UTC:20230618T150000
DTSTAMP:20260423T145250
CREATED:20230323T002200Z
LAST-MODIFIED:20230524T131056Z
UID:10000094-1687086000-1687100400@www.islandarts.org
SUMMARY:Book Sale 2023
DESCRIPTION:Book SaleDate & Time: Saturday & Sunday June 17 -18\, 2023; 11 AM – 3 PM\nLocation: Island Arts Center (barn)\, 1127 U.S. Rte. 2\, North Hero\nTickets: Free admission. Books by donation. \nThe book sale will feature more than 5\,000 books to cater to every taste. All books are organized by subject for your easy\nThere are paperbacks\, hard-covers\, and some beautiful books to display. The subjects are varied and include Fiction\, My\nHistory\, Travel\, Cooking\, Psychology\, True Stories\, Biographies\, and more. Browse at your leisure in the airy space that is the Island Arts Center barn. \nBACK TO ALL EVENTS
URL:https://www.islandarts.org/event/book-sale/2023-06-18/
LOCATION:Isle LaMotte Town Hall Community Room\, Isle LaMotte\, VT 05463\, 67 Church St.\, Isle LaMotte\, VT\, 05463\, United States
CATEGORIES:Benefit,Events,Literary,Music
ATTACH;FMTTYPE=image/jpeg:https://www.islandarts.org/wp-content/uploads/2022/02/Silent-Auction-and-Book-Sale_Photo-by-Island-Arts.jpg
END:VEVENT
BEGIN:VEVENT
DTSTART;TZID=UTC:20230617T110000
DTEND;TZID=UTC:20230617T150000
DTSTAMP:20260423T145250
CREATED:20230523T200711Z
LAST-MODIFIED:20230529T213117Z
UID:10000091-1686999600-1687014000@www.islandarts.org
SUMMARY:Book Sale 2023
DESCRIPTION:Book SaleDate & Time: Saturday & Sunday June 17 -18\, 2023; 11 AM – 3 PM\nLocation: Island Arts Center (barn)\, 1127 U.S. Rte. 2\, North Hero\nTickets: Free admission. Books by donation. \nThe book sale will feature more than 5\,000 books to cater to every taste. All books are organized by subject for your easy discovery. There are paperbacks\, hard-covers\, and some beautiful books to display. The subjects are varied and include Fiction\, Mysteries\, History\, Travel\, Cooking\, Psychology\, True Stories\, Biographies\, and more. Browse at your leisure in the airy space that is the Island Arts Center barn. \nPlease join us on Saturday June 17\, 2023 at 11AM as we welcome Vermont novelist and master storyteller\, Stephen Russell Payne as he presents his newest novel “You Were Always There”.\n \nSigned copies of his books\, which make great gifts\, will be available for sale:\nYou Were Always There – A novel   (set in Vermont)\n Cliff Walking – A Novel (set on the Coast of Maine)\nLife on a Cliff – A Novel (the sequel set on the Coast of Maine)\nRiding My Guitar – The Rick Norcross Story  (biography of a fascinating Vermont musician)\nTies That Bind Us – A Collection of Vermont Short Stories. \nFor more information regarding Mr. Payne\, please visit his website at stephenrussellpayne.com  \nBACK TO ALL EVENTS
URL:https://www.islandarts.org/event/book-sale-2/
LOCATION:Isle LaMotte Town Hall Community Room\, Isle LaMotte\, VT 05463\, 67 Church St.\, Isle LaMotte\, VT\, 05463\, United States
CATEGORIES:Benefit,Events,Literary,Music
ATTACH;FMTTYPE=image/jpeg:https://www.islandarts.org/wp-content/uploads/2022/02/Silent-Auction-and-Book-Sale_Photo-by-Island-Arts.jpg
END:VEVENT
BEGIN:VEVENT
DTSTART;TZID=UTC:20220604T110000
DTEND;TZID=UTC:20220604T150000
DTSTAMP:20260423T145250
CREATED:20220228T005926Z
LAST-MODIFIED:20230323T004526Z
UID:10000021-1654340400-1654354800@www.islandarts.org
SUMMARY:Book Sale & 50/50 Raffle 2022
DESCRIPTION:Book Sale & 50/50 RaffleDate & Time: Saturday June 4\, 2022; 11 AM to 3 PM\nLocation: Island Arts Center (barn)\, 1127 U.S. Rte. 2\, North Hero\nTickets: Free admission. Books by donation. \nIsland Arts book sale event this year honors our veterans. The winner of a 50/50 raffle to benefit North Country Honor Flight for veterans and Island Arts youth scholarships will be announced\, and country singer Larry Lee Ebere will offer entertainment from 1-3 PM. Raffle tickets at $10 are available from outlets  (click here) starting in May and at wrap up at the book sale. \n \nThe book sale will feature more than 800 books to cater to every taste.  All books are organized by subject for your easy discovery. There are paperbacks\, hard-covers\, and some beautiful books to display. The subjects are varied and include Fiction\, Mysteries\, History\, Travel\, Cooking\, Psychology\, True Stories\, Biographies\, and more. There are also some books in French and even a few in German. Browse at your leisure in the airy space that is the Island Arts Center barn. \nBACK TO ALL EVENTS
URL:https://www.islandarts.org/event/book-sale-raffle/
LOCATION:Isle LaMotte Town Hall Community Room\, Isle LaMotte\, VT 05463\, 67 Church St.\, Isle LaMotte\, VT\, 05463\, United States
CATEGORIES:Benefit,Events,Literary,Music
ATTACH;FMTTYPE=image/jpeg:https://www.islandarts.org/wp-content/uploads/2022/02/Silent-Auction-and-Book-Sale_Photo-by-Island-Arts.jpg
END:VEVENT
BEGIN:VEVENT
DTSTART;TZID=America/New_York:20211004T140000
DTEND;TZID=America/New_York:20211004T153000
DTSTAMP:20260423T145251
CREATED:20210912T120112Z
LAST-MODIFIED:20220420T134213Z
UID:10000040-1633356000-1633361400@www.islandarts.org
SUMMARY:Storytelling Workshop with Ferene Paris Meyer
DESCRIPTION:This fall (2021)\, Island Arts in tandem with Full Circle Theater join hands to present an exciting theater program at the Island Arts Center\, the former Homer Knight Barn. Both workshops and shows are planned for this fall. \nStorytelling with Ferene Paris Meyer will be offered on Oct. 4 and 11 from 2 p.m. to 3:30 p.m. Through guided prompts\, activities\, and creative approaches you will raise your artistic voice\, crafting and developing your own stories and monologues to be a force for change and human connection. This workshop requires some outside preparation and includes 2\, 15 minute private coaching sessions. Optional performance opportunity in our virtual Fall showcase. This workshop is offered for children ages 11 to 20. The cost is $150. Island Arts Scholarships available. \nMeyers developed All Heart Inspirations – as a space for heart-centered storytelling in Vermont. As a storyteller\, Ferene aims to make a collective difference in our community through love\, gratitude\, affirmation and one story at a time. \nTo register for workshops or more detailed information regarding Full Circle Theater Collaborative please visit their website at www.fullcircletheater.com
URL:https://www.islandarts.org/event/storytelling-workshop-with-ferene-paris-meyer/
LOCATION:Z Course Proposal
CATEGORIES:Classes,Literary
ATTACH;FMTTYPE=image/jpeg:https://www.islandarts.org/wp-content/uploads/2022/04/ferene-paris-meyers.jpg
END:VEVENT
END:VCALENDAR