BEGIN:VCALENDAR
VERSION:2.0
PRODID:-//Island Arts - ECPv6.15.20//NONSGML v1.0//EN
CALSCALE:GREGORIAN
METHOD:PUBLISH
X-ORIGINAL-URL:https://www.islandarts.org
X-WR-CALDESC:Events for Island Arts
REFRESH-INTERVAL;VALUE=DURATION:PT1H
X-Robots-Tag:noindex
X-PUBLISHED-TTL:PT1H
BEGIN:VTIMEZONE
TZID:UTC
BEGIN:STANDARD
TZOFFSETFROM:+0000
TZOFFSETTO:+0000
TZNAME:UTC
DTSTART:20240101T000000
END:STANDARD
END:VTIMEZONE
BEGIN:VEVENT
DTSTART;TZID=UTC:20250808T133000
DTEND;TZID=UTC:20250808T143000
DTSTAMP:20260424T075044
CREATED:20250325T194902Z
LAST-MODIFIED:20250808T131812Z
UID:10000692-1754659800-1754663400@www.islandarts.org
SUMMARY:"Alice in Wonderland\," A Very Merry Theatre Youth Camp
DESCRIPTION:“Alice in Wonderland\,” A Very Merry Theatre Youth Camp“Alice in Wonderland” – VMT Musical Youth Performance \nPerformance Date: Aug 8\, 1:30pm \nLocation: Island Arts Center\, 1127 US Rt 2\, North Hero\, VT\nTickets: Free. \nEnjoy a musical production of “Alice in Wonderland” by the Very Merry Theatre Youth Camp inside Island Arts Center’s iconic Homer Knight Barn. The Aug 8 performance is free to the public and is the culmination of a week-long camp held daily Aug 4-8. \nThe show has lots of fun roles for everyone in this VMT original musical! Alice goes into a dream adventure in Wonderland where she meets many whimsical and magical characters such as the Cheshire Cat\, the Queen of Hearts\, the Caterpillar\, and the Mad Hatter. \nThe VMT Camp is free to youth thanks to a generous grant from Senator Bernie Sanders. \nSign UpBACK TO ALL EVENTS
URL:https://www.islandarts.org/event/alice-in-wonderland-a-very-merry-theatre-youth-camp/
LOCATION:Island Arts Center\, 1127 US Rte 2\, North Hero\, 05474\, United States
CATEGORIES:Concerts,Events,Music
ATTACH;FMTTYPE=image/jpeg:https://www.islandarts.org/wp-content/uploads/2025/03/VeryMerryTheatre_1_publicity-photo-from-website.jpg
END:VEVENT
END:VCALENDAR