BEGIN:VCALENDAR
VERSION:2.0
PRODID:-//Island Arts - ECPv6.15.20//NONSGML v1.0//EN
CALSCALE:GREGORIAN
METHOD:PUBLISH
X-WR-CALNAME:Island Arts
X-ORIGINAL-URL:https://www.islandarts.org
X-WR-CALDESC:Events for Island Arts
REFRESH-INTERVAL;VALUE=DURATION:PT1H
X-Robots-Tag:noindex
X-PUBLISHED-TTL:PT1H
BEGIN:VTIMEZONE
TZID:America/New_York
BEGIN:DAYLIGHT
TZOFFSETFROM:-0500
TZOFFSETTO:-0400
TZNAME:EDT
DTSTART:20240310T070000
END:DAYLIGHT
BEGIN:STANDARD
TZOFFSETFROM:-0400
TZOFFSETTO:-0500
TZNAME:EST
DTSTART:20241103T060000
END:STANDARD
BEGIN:DAYLIGHT
TZOFFSETFROM:-0500
TZOFFSETTO:-0400
TZNAME:EDT
DTSTART:20250309T070000
END:DAYLIGHT
BEGIN:STANDARD
TZOFFSETFROM:-0400
TZOFFSETTO:-0500
TZNAME:EST
DTSTART:20251102T060000
END:STANDARD
BEGIN:DAYLIGHT
TZOFFSETFROM:-0500
TZOFFSETTO:-0400
TZNAME:EDT
DTSTART:20260308T070000
END:DAYLIGHT
BEGIN:STANDARD
TZOFFSETFROM:-0400
TZOFFSETTO:-0500
TZNAME:EST
DTSTART:20261101T060000
END:STANDARD
END:VTIMEZONE
BEGIN:VEVENT
DTSTART;TZID=America/New_York:20250818T170000
DTEND;TZID=America/New_York:20250818T180000
DTSTAMP:20260424T075024
CREATED:20240502T180540Z
LAST-MODIFIED:20250507T171022Z
UID:10000558-1755536400-1755540000@www.islandarts.org
SUMMARY:Group Singing Lessons with Sarah Cullins - 2
DESCRIPTION:Date and Time: Monday Aug 18\, 2025; 5 pm to 6 pm\nInstructor: Sarah Cullins\, soprano\nLocation: South Hero Congregational Church\, 24 South St.\, South Hero\, VT 05486\nTickets: $40 for the set of three classes; $15 for one class \nThese vocal technique classes will focus on body and breathing coordination\,\nenabling singers of any level to enhance their projection\, clarity of tone\,\nand efficiency of breath control while minimizing common tensions. \nBack by popular demand from previous seasons\, the well-attended classes\nreceived rave reviews from the students. \nBuy Class Ticket
URL:https://www.islandarts.org/event/group-singing-lessons-with-sarah-cullins-2-2/
LOCATION:South Hero Congregational Church\, 24 South St.\, South Hero\, VT
CATEGORIES:Classes,Music
ATTACH;FMTTYPE=image/jpeg:https://www.islandarts.org/wp-content/uploads/2022/04/sarah-cullins-SQ.jpg
END:VEVENT
END:VCALENDAR