BEGIN:VCALENDAR
VERSION:2.0
PRODID:-//Island Arts - ECPv6.15.20//NONSGML v1.0//EN
CALSCALE:GREGORIAN
METHOD:PUBLISH
X-WR-CALNAME:Island Arts
X-ORIGINAL-URL:https://www.islandarts.org
X-WR-CALDESC:Events for Island Arts
REFRESH-INTERVAL;VALUE=DURATION:PT1H
X-Robots-Tag:noindex
X-PUBLISHED-TTL:PT1H
BEGIN:VTIMEZONE
TZID:America/New_York
BEGIN:DAYLIGHT
TZOFFSETFROM:-0500
TZOFFSETTO:-0400
TZNAME:EDT
DTSTART:20210314T070000
END:DAYLIGHT
BEGIN:STANDARD
TZOFFSETFROM:-0400
TZOFFSETTO:-0500
TZNAME:EST
DTSTART:20211107T060000
END:STANDARD
BEGIN:DAYLIGHT
TZOFFSETFROM:-0500
TZOFFSETTO:-0400
TZNAME:EDT
DTSTART:20220313T070000
END:DAYLIGHT
BEGIN:STANDARD
TZOFFSETFROM:-0400
TZOFFSETTO:-0500
TZNAME:EST
DTSTART:20221106T060000
END:STANDARD
BEGIN:DAYLIGHT
TZOFFSETFROM:-0500
TZOFFSETTO:-0400
TZNAME:EDT
DTSTART:20230312T070000
END:DAYLIGHT
BEGIN:STANDARD
TZOFFSETFROM:-0400
TZOFFSETTO:-0500
TZNAME:EST
DTSTART:20231105T060000
END:STANDARD
END:VTIMEZONE
BEGIN:VTIMEZONE
TZID:Asia/Dubai
BEGIN:STANDARD
TZOFFSETFROM:+0400
TZOFFSETTO:+0400
TZNAME:+04
DTSTART:20210101T000000
END:STANDARD
END:VTIMEZONE
BEGIN:VTIMEZONE
TZID:UTC
BEGIN:STANDARD
TZOFFSETFROM:+0000
TZOFFSETTO:+0000
TZNAME:UTC
DTSTART:20210101T000000
END:STANDARD
END:VTIMEZONE
BEGIN:VEVENT
DTSTART;TZID=America/New_York:20220724T190000
DTEND;TZID=America/New_York:20220724T210000
DTSTAMP:20260424T020001
CREATED:20220329T192138Z
LAST-MODIFIED:20230323T231748Z
UID:10000007-1658689200-1658696400@www.islandarts.org
SUMMARY:Jazz: The Andric Severance Trio - 2022
DESCRIPTION:Jazz: The Andric Severance TrioDate and Time: Sunday\, July 24\, 2022\, 7 PM to 9 PM\nLocation: Island Arts Center\, 1127 US Rt 2\, North Hero\, VT 05474\nTickets: $25\, with option to upgrade to a cabaret table \nFeaturing Andric Severance\, piano and vocals\, playing Charles Pratt’s  concert grand piano; Caleb Bronz\, drummer; and Art DeQuasie\, bassist. A limited number of cabaret tables are available to reserve –first come-first served– when you purchase tickets online. BYOB but NO food allowed at tables. \nAndric Severance will play the heck out of that grand piano\, and sing songs to lift your spirits\, soothe your soul\, warm your heart\, and un-get your goat. You’ll hear some familiar jazz standards\, some obscure mystical jazz songs\, and of course many delightful surprises. \nCaleb Bronz brings his beautiful dynamic range on the drums\, and also a few tunes from the repertoire he used to play with the piano’s former owner\, Charles Pratt. Art DeQuasie plays a full-sized double bass\, which you don’t hear every day in the jazz world. With Andric’s expressive playing on the outstanding 7’6” Yamaha C7 grand piano\, this is a first-class listening night. \nAbout Andric Severance: “Andric Severance is a major talent on the keyboards…” Nectar’s. “I would hire you to play kazoo\, if that’s what you wanted to do.” —Adam Woogmaster. This concert honors the musical heritage and generosity of Vermont’s Charles Pratt. \nGET TICKETSBACK TO ALL EVENTS
URL:https://www.islandarts.org/event/jazz-the-andric-severance-trio/
LOCATION:Isle LaMotte Town Hall Community Room\, Isle LaMotte\, VT 05463\, 67 Church St.\, Isle LaMotte\, VT\, 05463\, United States
CATEGORIES:Concerts,Events,Music
END:VEVENT
BEGIN:VEVENT
DTSTART;TZID=America/New_York:20220722T183000
DTEND;TZID=America/New_York:20220722T193000
DTSTAMP:20260424T020001
CREATED:20220329T192026Z
LAST-MODIFIED:20220602T232213Z
UID:10000006-1658514600-1658518200@www.islandarts.org
SUMMARY:Modern Pop
DESCRIPTION:Modern PopDate and Time: Friday\, July 22\, 2022; 6:30 PM – 7:30 PM – or whenever!\nLocation: Island Arts Center\, 1127 US Rt 2\, North Hero\, VT 05474\nTickets: $25 \nDJ Daniel Rochester plays the tracks of popular music of the last few decades along with modern hits of today. Featuring the vocal talent of singer Tracy DeCoste in songs that you love. An evening of entertainment you don’t want to miss. \nConcert outside\, weather permitting. \nPicnic on the green starting at 5:30. A chair or blanket is suggested. \nGET TICKETSBACK TO ALL EVENTS
URL:https://www.islandarts.org/event/modern-pop/
LOCATION:Isle LaMotte Town Hall Community Room\, Isle LaMotte\, VT 05463\, 67 Church St.\, Isle LaMotte\, VT\, 05463\, United States
CATEGORIES:Concerts,Events,Music
ATTACH;FMTTYPE=image/jpeg:https://www.islandarts.org/wp-content/uploads/2022/03/DJ-Daniel-Rochester-and-Tracy-DeCoste.jpg
END:VEVENT
BEGIN:VEVENT
DTSTART;TZID=America/New_York:20220716T183000
DTEND;TZID=America/New_York:20220716T193000
DTSTAMP:20260424T020002
CREATED:20220329T191842Z
LAST-MODIFIED:20220602T232348Z
UID:10000005-1657996200-1657999800@www.islandarts.org
SUMMARY:Nashville: The Twangtown Paramours
DESCRIPTION:Nashville: The Twangtown ParamoursDate and Time: Saturday\, July 16\, 2022; 6:30 PM – 7:30 PM.\nLocation: Island Arts Center\, 1127 US Rt 2\, North Hero\, VT 05474\nTickets: $25 \nThe Twangtown Paramours is an award-winning husband and wife Americana duo from Nashville. Their “songs are thoughtful\, well written and the production is faultless”\, per Rock Doctor Magazine. \nLead singer\, MaryBeth Zamer was a fixture in the Washington\, D.C. club circuit for many years. Mike Lewis is a musician\, producer\, and songwriter. He is the author of a #1 platinum pop tune in Korea. \nConcert outside\, weather permitting. \nPicnic on the green starting at 5:30. A chair or blanket is suggested. \nGET TICKETSBACK TO ALL EVENTS
URL:https://www.islandarts.org/event/twangtown-paramours/
LOCATION:Isle LaMotte Town Hall Community Room\, Isle LaMotte\, VT 05463\, 67 Church St.\, Isle LaMotte\, VT\, 05463\, United States
CATEGORIES:Concerts,Events,Music
END:VEVENT
BEGIN:VEVENT
DTSTART;TZID=America/New_York:20220716T140000
DTEND;TZID=America/New_York:20220716T160000
DTSTAMP:20260424T020002
CREATED:20220405T185449Z
LAST-MODIFIED:20220602T232447Z
UID:10000016-1657980000-1657987200@www.islandarts.org
SUMMARY:Songwriting Workshop
DESCRIPTION:Songwriting WorkshopDate and Time: Saturday July 16\, 2022; 2 PM to 4 PM\nInstructor: Mike Lewis\nLocation: Island Arts Center\, 1127 US Rt 2\, North Hero\, VT 05474\nTickets: $50 \nStraight from Nashville!\nMike Lewis will teach a two-hour workshop that covers an introduction to lyric and music composition techniques essential to writing compelling songs. The lyric exercises will focus on accessing and describing sensory memories. He will also share his approach to song structure\, melody contour development\, and harmonic accompaniment. \nOne half of the national touring duo\, the Twangtown Paramours\, Mike Lewis is a songwriter and producer. A number of his songs have been recorded by independent artists in the U.S. and U.K.\, and he had a #1 hit in Korea that sold a million copies. He also produces demos and independent records in his Nashville studio. \nTwangtown Paramours’ Mike Lewis \nSIGN UP NOWBACK TO ALL CLASSES
URL:https://www.islandarts.org/event/songwriting-workshop/
LOCATION:Isle LaMotte Town Hall Community Room\, Isle LaMotte\, VT 05463\, 67 Church St.\, Isle LaMotte\, VT\, 05463\, United States
CATEGORIES:Classes,Music
ATTACH;FMTTYPE=image/jpeg:https://www.islandarts.org/wp-content/uploads/2022/04/Twangtown-Paramours_Mike-Lewis-album.jpg
END:VEVENT
BEGIN:VEVENT
DTSTART;TZID=America/New_York:20220715T190000
DTEND;TZID=America/New_York:20220715T201500
DTSTAMP:20260424T020002
CREATED:20220407T150402Z
LAST-MODIFIED:20230323T224151Z
UID:10000017-1657911600-1657916100@www.islandarts.org
SUMMARY:Sohyun Ahn\, Piano Solo & 4 Hands 2022
DESCRIPTION:Sohyun Ahn\, Piano Solo & 4-HandsDate and Time: Friday\, July 15\, 2022; 7 PM\nLocation: Island Arts Center\, 1127 US Rt 2\, North Hero\, VT 05474\nTickets: $25 \nNew York-based Sohyun Ahn offers a program of Mozart and Debussy. Described as “an absolute master” by New York Concert Review\, and heralded as an “amazing pianist” in an “excellent and memorable performance” by the Classical New Jersey Society\, we welcome her premiere appearance in the Champlain Islands of Vermont. She will be joined by local Vermont pianist Eun Hee Park in a piano 4-hands selection. \nFrom liner notes for Dr. Ahn’s  Bach Goldberg Variations: “Her playing exhibits a crystalline clarity\, insightful nuance\, and dynamic breadth.” \nPiano Music Magazine\, Korea: “Such a gifted virtuoso\, wonderful performing the emotional storm … with the perfectly balanced elegance.” \nGet TicketsBACK TO ALL EVENTS
URL:https://www.islandarts.org/event/sohyun-ahn-piano/
LOCATION:Isle LaMotte Town Hall Community Room\, Isle LaMotte\, VT 05463\, 67 Church St.\, Isle LaMotte\, VT\, 05463\, United States
CATEGORIES:Concerts,Events,Music
ATTACH;FMTTYPE=image/jpeg:https://www.islandarts.org/wp-content/uploads/2022/04/Sohyun-Ahn-pianist.jpg
END:VEVENT
BEGIN:VEVENT
DTSTART;TZID=Asia/Dubai:20220713T183000
DTEND;TZID=Asia/Dubai:20220713T200000
DTSTAMP:20260424T020002
CREATED:20220228T003505Z
LAST-MODIFIED:20230323T230648Z
UID:10000045-1657737000-1657742400@www.islandarts.org
SUMMARY:Citizens Concert Band - 2022
DESCRIPTION:Citizens Concert BandDate: Wednesday July 13\, 2022; 6:30 PM; picnic on the green starting at 5:30 PM (weather permitting)\nLocation: Island Arts Center\, 1127 US Rt 2\, North Hero\, VT 05474\nTickets: $15 \nThe ever-popular Citizens Concert Band returns to the Islands with singer Jennifer McConnell featured. Long a favorite of Island Arts’ audiences\, Citizens Concert Band offers a mix of toe-tapping music that includes traditional band favorites\, jazzy numbers\, and show and pop tunes cleverly adapted for its mix of musicians. A community band based in St. Albans\, its 35 to 40 musicians range from high school age through adults. \nThe Band has a long history. Founded in 1946 under the American Legion umbrella by soldiers returning home from World War II\, it has been going strong ever since. A single conductor\, Edric Loomis\, led the band from 1946 when he was 28 years old until his retirement after the 2001 season. Today\, the Band is directed by Jeremy Berger. \nPhoto courtesy of Citizens Concert Band. \nGET TICKETSPhoto courtesy of Citizens Concert Band. \nBACK TO ALL EVENTS
URL:https://www.islandarts.org/event/citizens-concert-band/
LOCATION:Isle LaMotte Town Hall Community Room\, Isle LaMotte\, VT 05463\, 67 Church St.\, Isle LaMotte\, VT\, 05463\, United States
CATEGORIES:Concerts,Events,Music
ATTACH;FMTTYPE=image/jpeg:https://www.islandarts.org/wp-content/uploads/2022/02/Citizens-Concert-Band_Photo-courtesy-of-Citizens-Concert-Band.jpg
END:VEVENT
BEGIN:VEVENT
DTSTART;TZID=UTC:20220710T183000
DTEND;TZID=UTC:20220710T200000
DTSTAMP:20260424T020002
CREATED:20220228T004236Z
LAST-MODIFIED:20230323T173804Z
UID:10000013-1657477800-1657483200@www.islandarts.org
SUMMARY:A Cappella Lollapalooza 2022
DESCRIPTION:A Cappella LollapaloozaDate: Sunday July 10\, 2022; 6:30pm. Picnic on the green starting at 5:30 PM (weather permitting)\nLocation: Island Arts Center\, 1127 US Rt 2\, North Hero\, VT 05474\nTickets:  $25 \nThree ensembles of different styles will perform at this event. The Counterpoint chamber ensemble headlines\, with the Green Mountain Chorus and the Chordination barbershop quartet. \nChordination \nCounterpoint features a variety of repertory from folksongs\, African-American spirituals\, sacred music of many traditions\, and concert works by classical composers of our own age and the past. Founded by legendary Vermont choral director and arranger Robert De Cormier in 2000\, the group is now directed by Nathanial G. Lew. Counterpoint has released 11 CDs. \nMen from Vermont and Quebec have sounded the chords of Barbershop harmony together as the Green Mountain Chorus for over 70 years. A unique form of a cappella singing\, Barbershop employs close four-part harmony. This chorus livens it up with a little comedy and audience participation—to the delight of audiences of all ages. \nThe Chordination quartet of unaccompanied singers delivers tunes from pop\, folk\, and Broadway traditions\, arranged in the Barbershop Style. \nGET TICKETSPhoto credits: Adam Silverman Photography\, Green Mountain Chorus\nBACK TO ALL EVENTS
URL:https://www.islandarts.org/event/a-cappella-lollapalooza/
LOCATION:Isle LaMotte Town Hall Community Room\, Isle LaMotte\, VT 05463\, 67 Church St.\, Isle LaMotte\, VT\, 05463\, United States
CATEGORIES:Concerts,Events,Music
ATTACH;FMTTYPE=image/jpeg:https://www.islandarts.org/wp-content/uploads/2022/02/Counterpoint-chorus_Green-Mountain-Chorus.jpg
END:VEVENT
BEGIN:VEVENT
DTSTART;TZID=UTC:20220626T190000
DTEND;TZID=UTC:20220626T201500
DTSTAMP:20260424T020002
CREATED:20220329T191717Z
LAST-MODIFIED:20220629T171852Z
UID:10000050-1656270000-1656274500@www.islandarts.org
SUMMARY:Claire Black\, solo piano\, presents 'Poetic Unity'
DESCRIPTION:Claire Black\, solo piano works of the Schumanns & Beethoven’Date and Time: Sunday\, June 26\, 2022\, 7 PM to 8:15 PM. There will be no intermission.\nLocation: Island Arts Center\, 1127 US Rt 2\, North Hero\, VT 05474\nTickets: $25 \nAcclaimed Burlington-based pianist Claire Black presents a rich and lovingly curated program of solo piano works by Clara and Robert Schumann\, and Ludwig van Beethoven. Black has a virtuoso technique and performs with deep passion\, both as a solo pianist and as a chamber musician. Recent audience comments: “Pure joy! Uplifting. Intimate. Passionate. Masterful. Engaging.” \n“It’s so neat to be in a largely rural place where classical music is held in such high regard.”\n~ Claire Black \nGreat article on 7days\nGET TICKETSBACK TO ALL EVENTS
URL:https://www.islandarts.org/event/claire-black-solo-piano-presents-poetic-unity/
LOCATION:Isle LaMotte Town Hall Community Room\, Isle LaMotte\, VT 05463\, 67 Church St.\, Isle LaMotte\, VT\, 05463\, United States
CATEGORIES:Concerts,Events,Music
END:VEVENT
BEGIN:VEVENT
DTSTART;TZID=America/New_York:20220625T183000
DTEND;TZID=America/New_York:20220625T193000
DTSTAMP:20260424T020002
CREATED:20220412T114824Z
LAST-MODIFIED:20220615T220715Z
UID:10000037-1656181800-1656185400@www.islandarts.org
SUMMARY:Country Line Dancing for the Family
DESCRIPTION:Country Line Dancing for the FamilyDate and Time: Saturday\, June 25; 6:30pm – 7:30pm\nLocation: Isle LaMotte Veterans Rec Park – School St\nRain Location: Goodsell Ridge Preserve Barn 69 Pine St ILM \nTickets: FREE \nTime to Boot\, Scoot\, and Boogie! Bring your family to beautiful Isle LaMotte and learn some Country line dancing to some of Country’s greatest hits! No prior experience necessary. All are welcome. \nDance routines will be in a group setting with plenty of room to space out. There will be no touching or partner work. \nThis free event is brought to you through a collaboration of Island Arts and the Isle LaMotte Rec Department. Donations appreciated to benefit Island Arts. \nPicnic on the green starting at 5:30. \nBACK TO ALL CLASSES
URL:https://www.islandarts.org/event/country-line-dancing-for-the-family/
LOCATION:Isle LaMotte Veterans Rec Park \, School ST.\, School ST\, Isle LaMotte\, VT\, 05463
CATEGORIES:Classes,Music
ATTACH;FMTTYPE=image/jpeg:https://www.islandarts.org/wp-content/uploads/2022/04/country-line-dancing-1.jpg
END:VEVENT
BEGIN:VEVENT
DTSTART;TZID=UTC:20220604T110000
DTEND;TZID=UTC:20220604T150000
DTSTAMP:20260424T020002
CREATED:20220228T005926Z
LAST-MODIFIED:20230323T004526Z
UID:10000021-1654340400-1654354800@www.islandarts.org
SUMMARY:Book Sale & 50/50 Raffle 2022
DESCRIPTION:Book Sale & 50/50 RaffleDate & Time: Saturday June 4\, 2022; 11 AM to 3 PM\nLocation: Island Arts Center (barn)\, 1127 U.S. Rte. 2\, North Hero\nTickets: Free admission. Books by donation. \nIsland Arts book sale event this year honors our veterans. The winner of a 50/50 raffle to benefit North Country Honor Flight for veterans and Island Arts youth scholarships will be announced\, and country singer Larry Lee Ebere will offer entertainment from 1-3 PM. Raffle tickets at $10 are available from outlets  (click here) starting in May and at wrap up at the book sale. \n \nThe book sale will feature more than 800 books to cater to every taste.  All books are organized by subject for your easy discovery. There are paperbacks\, hard-covers\, and some beautiful books to display. The subjects are varied and include Fiction\, Mysteries\, History\, Travel\, Cooking\, Psychology\, True Stories\, Biographies\, and more. There are also some books in French and even a few in German. Browse at your leisure in the airy space that is the Island Arts Center barn. \nBACK TO ALL EVENTS
URL:https://www.islandarts.org/event/book-sale-raffle/
LOCATION:Isle LaMotte Town Hall Community Room\, Isle LaMotte\, VT 05463\, 67 Church St.\, Isle LaMotte\, VT\, 05463\, United States
CATEGORIES:Benefit,Events,Literary,Music
ATTACH;FMTTYPE=image/jpeg:https://www.islandarts.org/wp-content/uploads/2022/02/Silent-Auction-and-Book-Sale_Photo-by-Island-Arts.jpg
END:VEVENT
END:VCALENDAR