BEGIN:VCALENDAR
VERSION:2.0
PRODID:-//Island Arts - ECPv6.15.20//NONSGML v1.0//EN
CALSCALE:GREGORIAN
METHOD:PUBLISH
X-ORIGINAL-URL:https://www.islandarts.org
X-WR-CALDESC:Events for Island Arts
REFRESH-INTERVAL;VALUE=DURATION:PT1H
X-Robots-Tag:noindex
X-PUBLISHED-TTL:PT1H
BEGIN:VTIMEZONE
TZID:UTC
BEGIN:STANDARD
TZOFFSETFROM:+0000
TZOFFSETTO:+0000
TZNAME:UTC
DTSTART:20250101T000000
END:STANDARD
END:VTIMEZONE
BEGIN:VEVENT
DTSTART;TZID=UTC:20260814T140000
DTEND;TZID=UTC:20260814T150000
DTSTAMP:20260423T202352
CREATED:20260327T163455Z
LAST-MODIFIED:20260409T123656Z
UID:10001398-1786716000-1786719600@www.islandarts.org
SUMMARY:Cheeps\, Chirps\, Hoots and Whistles: How and Why Birds Make Noise
DESCRIPTION:Cheeps\, Chirps\, Hoots and Whistles: How and Why Birds Make NoiseDate & Time: Friday\, August 14\, 2026\, 2pm to 3pm\nLocation: Island Arts Center\nInstructor: Maeve Kim \nTickets: $10\n\nEver wonder how birds make all their various noises? Or why? Let’s spend time with bird song\, bird calls\, bird chips\, and a whole lot of sounds that don’t fit any category. We’ll also talk about how we humans can get better at recognizing\, identifying and learning bird sounds.\n\nPhoto courtesy of audubon.org \nMaeve Kim\, Instructor \nRegister NowPhoto courtesy of audubon.org\nBACK TO ALL CLASSES
URL:https://www.islandarts.org/event/talking-about-birds-maeve-kim/
LOCATION:Island Arts Center\, 1127 US Rte 2\, North Hero\, 05474\, United States
CATEGORIES:Birding,Classes,Nature
ATTACH;FMTTYPE=image/jpeg:https://www.islandarts.org/wp-content/uploads/2022/04/birding-SQ.jpg
END:VEVENT
END:VCALENDAR