BEGIN:VCALENDAR
VERSION:2.0
PRODID:-//Island Arts - ECPv6.15.20//NONSGML v1.0//EN
CALSCALE:GREGORIAN
METHOD:PUBLISH
X-WR-CALNAME:Island Arts
X-ORIGINAL-URL:https://www.islandarts.org
X-WR-CALDESC:Events for Island Arts
REFRESH-INTERVAL;VALUE=DURATION:PT1H
X-Robots-Tag:noindex
X-PUBLISHED-TTL:PT1H
BEGIN:VTIMEZONE
TZID:UTC
BEGIN:STANDARD
TZOFFSETFROM:+0000
TZOFFSETTO:+0000
TZNAME:UTC
DTSTART:20210101T000000
END:STANDARD
END:VTIMEZONE
BEGIN:VTIMEZONE
TZID:America/New_York
BEGIN:DAYLIGHT
TZOFFSETFROM:-0500
TZOFFSETTO:-0400
TZNAME:EDT
DTSTART:20210314T070000
END:DAYLIGHT
BEGIN:STANDARD
TZOFFSETFROM:-0400
TZOFFSETTO:-0500
TZNAME:EST
DTSTART:20211107T060000
END:STANDARD
BEGIN:DAYLIGHT
TZOFFSETFROM:-0500
TZOFFSETTO:-0400
TZNAME:EDT
DTSTART:20220313T070000
END:DAYLIGHT
BEGIN:STANDARD
TZOFFSETFROM:-0400
TZOFFSETTO:-0500
TZNAME:EST
DTSTART:20221106T060000
END:STANDARD
BEGIN:DAYLIGHT
TZOFFSETFROM:-0500
TZOFFSETTO:-0400
TZNAME:EDT
DTSTART:20230312T070000
END:DAYLIGHT
BEGIN:STANDARD
TZOFFSETFROM:-0400
TZOFFSETTO:-0500
TZNAME:EST
DTSTART:20231105T060000
END:STANDARD
BEGIN:DAYLIGHT
TZOFFSETFROM:-0500
TZOFFSETTO:-0400
TZNAME:EDT
DTSTART:20240310T070000
END:DAYLIGHT
BEGIN:STANDARD
TZOFFSETFROM:-0400
TZOFFSETTO:-0500
TZNAME:EST
DTSTART:20241103T060000
END:STANDARD
BEGIN:DAYLIGHT
TZOFFSETFROM:-0500
TZOFFSETTO:-0400
TZNAME:EDT
DTSTART:20250309T070000
END:DAYLIGHT
BEGIN:STANDARD
TZOFFSETFROM:-0400
TZOFFSETTO:-0500
TZNAME:EST
DTSTART:20251102T060000
END:STANDARD
BEGIN:DAYLIGHT
TZOFFSETFROM:-0500
TZOFFSETTO:-0400
TZNAME:EDT
DTSTART:20260308T070000
END:DAYLIGHT
BEGIN:STANDARD
TZOFFSETFROM:-0400
TZOFFSETTO:-0500
TZNAME:EST
DTSTART:20261101T060000
END:STANDARD
END:VTIMEZONE
BEGIN:VEVENT
DTSTART;TZID=UTC:20250828T183000
DTEND;TZID=UTC:20250828T193000
DTSTAMP:20260423T162002
CREATED:20250418T153432Z
LAST-MODIFIED:20250418T154533Z
UID:10000710-1756405800-1756409400@www.islandarts.org
SUMMARY:Wonderful Migratory Birds of the Champlain Islands with Maeve Kim
DESCRIPTION:Wonderful Migratory Birds of the Champlain Islands with Maeve Kim!Date & Time: Thusday\, Aug 28\, 2025: 6:30pm-7:30pm; Zoom\nInstructor: Maeve Kim \nTickets: $10\nThe Champlain Islands are bursting with birds in August! Year-round birds are here\, of course. Birds that nested and raised their young here but go south for the winter are still here. And birds that nested in the far north are beginning to come through our area on their way south. It’s possible to see an extraordinary number of species at this time of year\, more than at any other time of the year. We’ll enjoy wonderful photos of just some of this birding bonanza!\nTHIS IS A VIRTUAL CLASS. \nZoom link will be sent to all registrants the day prior to the class.\nPhoto courtesy of audubon.org \nMaeve Kim\, Instructor \nRegister NowPhoto courtesy of audubon.org\nBACK TO ALL CLASSES
URL:https://www.islandarts.org/event/wonderful-migratory-birds-of-the-champlain-islands-with-maeve-kim/
LOCATION:ZOOM
CATEGORIES:Birding,Classes,Nature
ATTACH;FMTTYPE=image/jpeg:https://www.islandarts.org/wp-content/uploads/2022/02/Yards-that-sing-Cardinals-Courtesy-of-audubon.jpg
END:VEVENT
BEGIN:VEVENT
DTSTART;TZID=America/New_York:20250827T200000
DTEND;TZID=America/New_York:20250827T220000
DTSTAMP:20260423T162002
CREATED:20250825T190634Z
LAST-MODIFIED:20250827T191453Z
UID:10000896-1756324800-1756332000@www.islandarts.org
SUMMARY:Spontaneous Evening Under the Stars - 2025
DESCRIPTION:Spontaneous Evening Under the StarsDate: Wednesday August 27\, 2025 starting at 8:00 PM.\nLocation: Orchard Hill Observatory\, 70 Poor Farm Rd.\, Alburgh\nTickets: Free event \nThe Sky is full of surprises\, ready for you and your family to enjoy. As stargazing is weather-dependent\, if uncertain about the weather conditions for August 26th call 802-238-1664\, or email Joe Comeau (jkcomeau@hotmail.com) with the word “Stars” in the Subject line. \nSponsored by Island Arts and the Vermont Astronomical Society. \nFREE EVENT!Photo by Greg Rakozy on Unsplash
URL:https://www.islandarts.org/event/spontaneous-evening-under-the-stars-2025/
LOCATION:Orchard Hill Observatory\, 70 Poor Farm Rd.\, Alburgh\, VT
CATEGORIES:Events,Nature
ATTACH;FMTTYPE=image/jpeg:https://www.islandarts.org/wp-content/uploads/2022/02/under-the-stars-greg-rakozy-oMpAz-DN-9I-unsplash.jpg
END:VEVENT
BEGIN:VEVENT
DTSTART;TZID=UTC:20250821T110000
DTEND;TZID=UTC:20250821T120000
DTSTAMP:20260423T162002
CREATED:20250418T152731Z
LAST-MODIFIED:20250419T181350Z
UID:10000709-1755774000-1755777600@www.islandarts.org
SUMMARY:Birding & Exploring the Champlain Islands with Maeve Kim
DESCRIPTION:Birding and Exploring the Champlain Islands with Maeve Kim!Date & Time: Thusday\, Aug 21\, 2025: 11am – noon; Zoom\nInstructor: Maeve Kim \nTickets: $10\nThe Champlain Islands abound with beautiful places to walk\, whether you’re more excited by birds\, plants or gorgeous views. Take an armchair visit to over a dozen locations – and then return there in person this summer!\nTHIS IS A VIRTUAL CLASS. \nZoom link will be sent to all registrants the day prior to the class.\nPhoto courtesy of audubon.org \nMaeve Kim\, Instructor \nRegister NowPhoto courtesy of audubon.org\nBACK TO ALL CLASSES
URL:https://www.islandarts.org/event/birding-exploring-the-champlain-islands-with-maeve-kim/
LOCATION:ZOOM
CATEGORIES:Birding,Classes,Nature
ATTACH;FMTTYPE=image/jpeg:https://www.islandarts.org/wp-content/uploads/2022/04/birding-SQ.jpg
END:VEVENT
BEGIN:VEVENT
DTSTART;TZID=UTC:20250620T193000
DTEND;TZID=UTC:20250620T210000
DTSTAMP:20260423T162002
CREATED:20250507T204717Z
LAST-MODIFIED:20250508T111418Z
UID:10000719-1750447800-1750453200@www.islandarts.org
SUMMARY:Summer Solstice Celebration!
DESCRIPTION:Summer SolsticeSummer Solstice Celebration!! With Kim and Bob Muncil\n(in partnership with North Hero Parks and Recreation and Island Arts) \nDate/Time: June 20\, 2025 7:30 pm – 9:00 pm\nLocation Camp Ingalls Longhouse\nCost: By donation (cash\, venmo\, check) \nSummer Solstice is one of the great turning points of the year\, when the sun is at its peak\, and the days abound with promise. Join Kim and Bob Muncil (and other special guests) to celebrate this year’s summer solstice. This celebration will be an experiential event that includes live music\, singing\, and sun salutations. It will conclude with a relaxing gong sound immersion where participants lie on a yoga mat and let the sounds of the gong wash over them. This is a perfect opportunity to celebrate with our wonderful community welcoming summer to the Islands! And with any luck there will be a beautiful sunset to take in at our conclusion. \nParticipants should dress in comfy clothes and bring a yoga mat. (Some mats will be available for use). \nThis event is by donation at the door; cash\, check\, or venmo. All proceeds will support Island Arts\nprogramming. \nBACK TO ALL EVENTS
URL:https://www.islandarts.org/event/summer-solstice-celebration/
LOCATION:1769 South End RD\, North Hero Camp Ingalls\, 1769 South End Road\, North Hero\, VT
CATEGORIES:Events,Nature
ATTACH;FMTTYPE=image/png:https://www.islandarts.org/wp-content/uploads/2025/05/Solstice.png
END:VEVENT
BEGIN:VEVENT
DTSTART;TZID=UTC:20250614T083000
DTEND;TZID=UTC:20250614T103000
DTSTAMP:20260423T162002
CREATED:20250418T151458Z
LAST-MODIFIED:20250419T175830Z
UID:10000708-1749889800-1749897000@www.islandarts.org
SUMMARY:Bird Walk - Landon Community Trail with Maeve Kim
DESCRIPTION:Bird walk – Landon Community Trail with Maeve KimDate & Time:  Saturday\, June 14\, 2025: 8:30am – 10:30am\nLocation: Landon Community Trail parking lot\, South Hero \nInstructor: Maeve Kim \nTickets: $10\nExplore our woodlands and working farm community trail. We might see several kinds of woodpeckers\,\nwarblers and thrushes\, as well as bobolinks in the adjacent field.  \nParticipants age 8* and above is suggested.\n* Anyone between 8 and 12 must be accompanied by a parent for the June bird walks.\nPhoto courtesy of audubon.org \nMaeve Kim\, Instructor \nRegister NowPhoto courtesy of audubon.org\nBACK TO ALL CLASSES
URL:https://www.islandarts.org/event/bird-walk-landon-community-trail-with-maeve-kim/
LOCATION:Landon Community Trail\, South Hero\, 190 West Shore Rd\, South Hero\, VT\, United States
CATEGORIES:Birding,Classes,Nature
ATTACH;FMTTYPE=image/jpeg:https://www.islandarts.org/wp-content/uploads/2024/05/humming-bird.jpg
END:VEVENT
BEGIN:VEVENT
DTSTART;TZID=UTC:20250607T083000
DTEND;TZID=UTC:20250607T103000
DTSTAMP:20260423T162002
CREATED:20240430T150200Z
LAST-MODIFIED:20250419T173253Z
UID:10000362-1749285000-1749292200@www.islandarts.org
SUMMARY:Bird Walk South Hero Marsh Trail with Maeve Kim
DESCRIPTION:Bird Walk South Hero Trail Marsh with Maeve KimDate & Time:  Sat\, June 7\, 2025: 8:30am – 10:30am\nLocation: 5 Station Road\, South Hero; Also known as the Roy Marsh Trail\nInstructor: Maeve Kim \nTickets: $10\nExplore our woodlands and marsh trails. This spring walk can be a real delight\, with water birds to the left and warblers to the right and ospreys nesting! \nParticipants age 8* and above is suggested.\n* Anyone between 8 and 12 must be accompanied by a parent for the June bird walks.\nPhoto courtesy of audubon.org \nMaeve Kim\, Instructor \nRegister NowPhoto courtesy of audubon.org\nBACK TO ALL CLASSES
URL:https://www.islandarts.org/event/bird-walk-south-hero-marsh-trail/
LOCATION:South Hero Marsh Trail\, 5 Station Rd\, South Hero\, VT\, United States
CATEGORIES:Birding,Classes,Nature
ATTACH;FMTTYPE=image/jpeg:https://www.islandarts.org/wp-content/uploads/2022/04/birding-bonanza-SQ.jpg
END:VEVENT
BEGIN:VEVENT
DTSTART;TZID=UTC:20240914T180000
DTEND;TZID=UTC:20240914T190000
DTSTAMP:20260423T162002
CREATED:20240430T143751Z
LAST-MODIFIED:20240829T163141Z
UID:10000361-1726336800-1726340400@www.islandarts.org
SUMMARY:Birding - Looking Ahead to Fall Migration
DESCRIPTION:Birding – Looking Ahead to Fall MigrationDate and Time: Saturday September 14\, 2024\, 6:00 pm to 7:00 pm \nInstructor: Maeve Kim \nLocation: Zoom \nTickets: $15.00 \nGet ready for one of the most exciting times of the year!  \nThis program will prime you for doing some hawk-watching or visiting places famous for shorebirds. \nVirtual event. Link will be sent to registrants prior to event. \nPhoto courtesy of audubon.org \nMaeve Kim\, Instructor \nRegister NowPhoto courtesy of audubon.org\nBACK TO ALL CLASSES
URL:https://www.islandarts.org/event/birding-looking-ahead-to-fall-migration/
LOCATION:ZOOM
CATEGORIES:Birding,Classes,Nature
ATTACH;FMTTYPE=image/jpeg:https://www.islandarts.org/wp-content/uploads/2022/02/Yards-that-sing-Cardinals-Courtesy-of-audubon.jpg
END:VEVENT
BEGIN:VEVENT
DTSTART;TZID=UTC:20240608T090000
DTEND;TZID=UTC:20240608T110000
DTSTAMP:20260423T162002
CREATED:20240430T141126Z
LAST-MODIFIED:20240520T233211Z
UID:10000359-1717837200-1717844400@www.islandarts.org
SUMMARY:Bird Walk Landon Community Trail
DESCRIPTION:Bird Walk Landon Community Trail\, South HeroDate and Time: Saturday June 8\, 2024; 9 am \nInstructor: Maeve Kim \nLocation: Landon Community Trail\,\n190 West Shore Rd\, South Hero VT \nTickets: $54 for the set of four classes; $15 for one class \nTake an easy stroll by meadows and through woods to a marshy area. \nThe Champlain Islands are bursting with birds in June! Year-round birds are here\, of course. Birds that nested and raised\ntheir young here have returned from their winter journey north. \nThe parking lot holds about six cars; there are no toilet facilities.  Anyone between 8 and 12 must be accompanied by a parent. \nPhoto courtesy of audubon.org \nMaeve Kim\, Instructor \nRegister NowPhoto courtesy of audubon.org\nBACK TO ALL CLASSES
URL:https://www.islandarts.org/event/bird-walk-in-south-hero-vt/
LOCATION:Landon Community Trail\, South Hero\, 190 West Shore Rd\, South Hero\, VT\, United States
CATEGORIES:Birding,Classes,Nature
ATTACH;FMTTYPE=image/jpeg:https://www.islandarts.org/wp-content/uploads/2022/02/Yards-that-sing-Cardinals-Courtesy-of-audubon.jpg
END:VEVENT
BEGIN:VEVENT
DTSTART;TZID=UTC:20240606T110000
DTEND;TZID=UTC:20240606T120000
DTSTAMP:20260423T162002
CREATED:20240430T135427Z
LAST-MODIFIED:20240510T124839Z
UID:10000358-1717671600-1717675200@www.islandarts.org
SUMMARY:Birding Champlain Islands
DESCRIPTION:Birding Champlain IslandsDate and Time: Thursday June 6\, 2024\, 11:00 AM \nInstructor: Maeve Kim \nLocation: Zoom \nTickets: $54 for the set of four classes; $15 for one class \nVisit almost two dozen places where you can enjoy birds\, walk\, sit\, or boat. Lots of pictures of the beautiful islands and their beautiful birds. \nVirtual event. Link will be sent to registrants prior to event. \nPhoto courtesy of audubon.org \nMaeve Kim\, Instructor \nRegister NowPhoto courtesy of audubon.org\nBACK TO ALL CLASSES
URL:https://www.islandarts.org/event/birding-champlain-islands/
LOCATION:ZOOM
CATEGORIES:Birding,Classes,Nature
ATTACH;FMTTYPE=image/jpeg:https://www.islandarts.org/wp-content/uploads/2022/02/Yards-that-sing-Cardinals-Courtesy-of-audubon.jpg
END:VEVENT
BEGIN:VEVENT
DTSTART;TZID=UTC:20230824T100000
DTEND;TZID=UTC:20230824T110000
DTSTAMP:20260423T162002
CREATED:20230426T201821Z
LAST-MODIFIED:20230426T204622Z
UID:10000199-1692871200-1692874800@www.islandarts.org
SUMMARY:Raptors - Large & Small
DESCRIPTION:Raptors! Large and SmallDate and Time: Thursday August 24\, 2023; 10am \nInstructor: Maeve Kim \nLocation: Zoom \nTickets:  $15\, or $40 for series of 3 if purchased by June 8\, 2023 \nRaptors\, birds that take live prey\, have fascinated humans for millennia.\nThey show up in ancient mythology and art\, poetry\, music\, and modern fiction\nfrom all over the world. Birders and photographers from all over Vermont\, and\neven a few from other states\, have generously contributed gorgeous portraits of\nVermont’s hawks\, owls and falcons for this program. \nParticipants age 8 and above is suggested. \nTHIS IS A VIRTUAL EVENT\nZoom link will be sent to all registrants prior to the class. \nPhoto courtesy of audubon.org \nMaeve Kim\, Instructor \nRegister NowPhoto courtesy of audubon.org\nBACK TO ALL CLASSES
URL:https://www.islandarts.org/event/birds-raptors/
LOCATION:ZOOM
CATEGORIES:Birding,Classes,Nature,Virtual
ATTACH;FMTTYPE=image/png:https://www.islandarts.org/wp-content/uploads/2023/04/Raptors-Birding.png
END:VEVENT
BEGIN:VEVENT
DTSTART;TZID=America/New_York:20230823T200000
DTEND;TZID=America/New_York:20230823T220000
DTSTAMP:20260423T162002
CREATED:20230428T202840Z
LAST-MODIFIED:20230821T134806Z
UID:10000254-1692820800-1692828000@www.islandarts.org
SUMMARY:Spontaneous Evening Under the Stars
DESCRIPTION:Spontaneous Evening Under the StarsDate: Wednesday\, August 23\, 2023 starting at dusk/8PM.\nLocation: Orchard Hill Observatory\, 70 Poor Farm Rd.\, Alburgh\nTickets: Free event \nThe Sky is full of surprises\, ready for you and your family to enjoy. As stargazing is weather-dependent\, if uncertain about the weather conditions for August 23rd\, call 802-238-1664\, or email Joe Comeau (jkcomeau@hotmail.com) with the word “Stars” in the Subject line. \nSponsored by Island Arts and the Vermont Astronomical Society. \nFREE EVENT!Photo by Greg Rakozy on Unsplash
URL:https://www.islandarts.org/event/spontaneous-evening-under-the-stars-2/
LOCATION:Orchard Hill Observatory\, 70 Poor Farm Rd.\, Alburgh\, VT
CATEGORIES:Events,Nature
ATTACH;FMTTYPE=image/jpeg:https://www.islandarts.org/wp-content/uploads/2022/02/under-the-stars-greg-rakozy-oMpAz-DN-9I-unsplash.jpg
END:VEVENT
BEGIN:VEVENT
DTSTART;TZID=UTC:20230706T100000
DTEND;TZID=UTC:20230706T110000
DTSTAMP:20260423T162002
CREATED:20230426T201042Z
LAST-MODIFIED:20230426T201154Z
UID:10000198-1688637600-1688641200@www.islandarts.org
SUMMARY:Birds of the Night and Almost-Night
DESCRIPTION:Birds of the Night and Almost-NightDate and Time: Thursday July 6\, 2023; 10am \nInstructor: Maeve Kim \nLocation: Zoom \nTickets:  $15\, or $40 for series of 3 if purchased by June 8\, 2023 \nWhooooooo Was That??? – Birds of the Night and Almost-Night – With photos\, sounds and stories\, spend an hour with some of the most elusive\,\nwonderful and mysterious birds in Vermont. \nParticipants age 8 and above is suggested. \nTHIS IS A VIRTUAL EVENT\nZoom link will be sent to all registrants prior to the class. \nPhoto courtesy of audubon.org \nMaeve Kim\, Instructor \nRegister NowPhoto courtesy of audubon.org\nBACK TO ALL CLASSES
URL:https://www.islandarts.org/event/birds-of-the-night-and-almost-night/
LOCATION:ZOOM
CATEGORIES:Birding,Classes,Nature,Virtual
ATTACH;FMTTYPE=image/png:https://www.islandarts.org/wp-content/uploads/2023/04/owl-birding.png
END:VEVENT
BEGIN:VEVENT
DTSTART;TZID=UTC:20230608T080000
DTEND;TZID=UTC:20230608T120000
DTSTAMP:20260423T162002
CREATED:20230426T195034Z
LAST-MODIFIED:20240502T185819Z
UID:10000197-1686211200-1686225600@www.islandarts.org
SUMMARY:Bird Walk in North Hero State Park
DESCRIPTION:Bird Walk in North Hero State ParkDate and Time: Thursday June 8\, 2023; 8am \nInstructor: Maeve Kim \nLocation: North Hero State Park\,\n3803 Lakeview Drive\, North Hero\, Vermont 05474 \nTickets:  $15 or $40 for series of 3 if purchased by June 8\, 2023 \nField trip to North Hero State Park to enjoy all the beautiful birds that are setting up housekeeping in the woods and wetlands and along the lake shore.\nWe’ll meet at the entrance\, then drive slowly to the lake and back\,\nwith many stops and several short walks. \nThe Champlain Islands are bursting with birds in June! Year-round birds are here\, of course. Birds that nested and raised\ntheir young here have returned from their winter journey north. \nParticipants age 8 and above is suggested. Anyone between 8 and 12 must\nbe accompanied by a parent. \nPhoto courtesy of audubon.org \nMaeve Kim\, Instructor \nRegister NowPhoto courtesy of audubon.org\nBACK TO ALL CLASSES
URL:https://www.islandarts.org/event/bird-walk-in-north-hero-state-park/
LOCATION:North Hero State Park\, US Rte 2\, North Hero\, VT
CATEGORIES:Birding,Classes,Nature
ATTACH;FMTTYPE=image/jpeg:https://www.islandarts.org/wp-content/uploads/2022/02/Yards-that-sing-Cardinals-Courtesy-of-audubon.jpg
END:VEVENT
BEGIN:VEVENT
DTSTART;TZID=America/New_York:20220827T200000
DTEND;TZID=America/New_York:20220827T220000
DTSTAMP:20260423T162002
CREATED:20220228T005204Z
LAST-MODIFIED:20220826T155133Z
UID:10000023-1661630400-1661637600@www.islandarts.org
SUMMARY:Spontaneous Evening Under the Stars
DESCRIPTION:Spontaneous Evening Under the StarsDate: August 27th starting at dusk/8PM. The event will take place on Aug 28th if cloudy or inclement weather.\nLocation: Orchard Hill Observatory\, 70 Poor Farm Rd.\, Alburgh\nTickets: Free event \nThe Sky is full of surprises\, ready for you and your family to enjoy. As stargazing is weather-dependent\, if uncertain about the weather conditions on Saturday Aug 27th call 802-238-1664\, or email Joe Comeau (jkcomeau@hotmail.com) with the word “Stars” in the Subject line. \nSponsored by Island Arts and the Vermont Astronomical Society. \nFREE EVENT!Photo by Greg Rakozy on Unsplash
URL:https://www.islandarts.org/event/spontaneous-evening-under-the-stars/
LOCATION:Orchard Hill Observatory\, 70 Poor Farm Rd.\, Alburgh\, VT
CATEGORIES:Events,Nature
ATTACH;FMTTYPE=image/jpeg:https://www.islandarts.org/wp-content/uploads/2022/02/under-the-stars-greg-rakozy-oMpAz-DN-9I-unsplash.jpg
END:VEVENT
BEGIN:VEVENT
DTSTART;TZID=UTC:20220714T190000
DTEND;TZID=UTC:20220714T200000
DTSTAMP:20260423T162002
CREATED:20220226T014116Z
LAST-MODIFIED:20220420T175713Z
UID:10000020-1657825200-1657828800@www.islandarts.org
SUMMARY:The Nature of Awe\, the Awe of Nature
DESCRIPTION:The Nature of Awe\, the Awe of NatureDate and Time: July 14\, 2022; 7 PM\nInstructor: Maeve Kim\nLocation: Zoom class\nTickets: $40 for the set of three classes; $15 for one class \nWhat kinds of excitement does nature\, especially birds\, bring to us? Breath-held awe! Disbelief and wonder! Amusement. Delight. Understanding! Join Maeve for photos and stories of some of her favorite birding experiences\, and the lessons those experiences have taught her. See additional birding class on August 28. \nParticipant age 16 and above is suggested. \nTHIS IS A VIRTUAL EVENT\nZoom link will be sent to all registrants prior to the class. \nPhoto courtesy of audubon.org \nMaeve Kim\, Instructor \nRegister NowBACK TO ALL CLASSES
URL:https://www.islandarts.org/event/the-nature-of-awe-the-awe-of-nature/
LOCATION:ZOOM
CATEGORIES:Birding,Classes,Nature,Virtual
ATTACH;FMTTYPE=image/jpeg:https://www.islandarts.org/wp-content/uploads/2022/02/American-Redstart-Photo-by-Tom-Warren-Audubon-Photography-Awards-Courtesy-of-audubon.jpg
END:VEVENT
BEGIN:VEVENT
DTSTART;TZID=UTC:20220616T190000
DTEND;TZID=UTC:20220616T200000
DTSTAMP:20260423T162002
CREATED:20220226T004819Z
LAST-MODIFIED:20220421T143939Z
UID:10000019-1655406000-1655409600@www.islandarts.org
SUMMARY:Yards That Sing\, And Buzz\, And Bloom!
DESCRIPTION:Yards That Sing\, And Buzz\, And Bloom! – How to Make Your Yard Part of Vermont’s Natural HabitatDate and Time: Thursday June 16\, 2022; 7 PM\nInstructor: Maeve Kim\nLocation: Zoom class\nTickets: $40 for the set of three classes; $15 for one class \nLearn many ways to brighten your back\, front and side yards so they attract more and more beautiful birds and more of our state’s all-important pollinators. Lots of beautiful photos of birds\, bugs and flowers! \nSee additional birding classes on July 14 and August 28. \nParticipant age 16 and above is suggested. \nTHIS IS A VIRTUAL EVENT\nZoom link will be sent to all registrants prior to the class. \nPhoto courtesy of audubon.org \nMaeve Kim\, Instructor \nRegister NowPhoto courtesy of audubon.org\nBACK TO ALL CLASSES
URL:https://www.islandarts.org/event/yards-that-sing-and-buzz-and-bloom/
LOCATION:ZOOM
CATEGORIES:Birding,Classes,Nature,Virtual
ATTACH;FMTTYPE=image/jpeg:https://www.islandarts.org/wp-content/uploads/2022/02/Yards-that-sing-Cardinals-Courtesy-of-audubon.jpg
END:VEVENT
END:VCALENDAR