BEGIN:VCALENDAR
VERSION:2.0
PRODID:-//Island Arts - ECPv6.15.20//NONSGML v1.0//EN
CALSCALE:GREGORIAN
METHOD:PUBLISH
X-ORIGINAL-URL:https://www.islandarts.org
X-WR-CALDESC:Events for Island Arts
REFRESH-INTERVAL;VALUE=DURATION:PT1H
X-Robots-Tag:noindex
X-PUBLISHED-TTL:PT1H
BEGIN:VTIMEZONE
TZID:UTC
BEGIN:STANDARD
TZOFFSETFROM:+0000
TZOFFSETTO:+0000
TZNAME:UTC
DTSTART:20250101T000000
END:STANDARD
END:VTIMEZONE
BEGIN:VTIMEZONE
TZID:America/New_York
BEGIN:DAYLIGHT
TZOFFSETFROM:-0500
TZOFFSETTO:-0400
TZNAME:EDT
DTSTART:20250309T070000
END:DAYLIGHT
BEGIN:STANDARD
TZOFFSETFROM:-0400
TZOFFSETTO:-0500
TZNAME:EST
DTSTART:20251102T060000
END:STANDARD
BEGIN:DAYLIGHT
TZOFFSETFROM:-0500
TZOFFSETTO:-0400
TZNAME:EDT
DTSTART:20260308T070000
END:DAYLIGHT
BEGIN:STANDARD
TZOFFSETFROM:-0400
TZOFFSETTO:-0500
TZNAME:EST
DTSTART:20261101T060000
END:STANDARD
BEGIN:DAYLIGHT
TZOFFSETFROM:-0500
TZOFFSETTO:-0400
TZNAME:EDT
DTSTART:20270314T070000
END:DAYLIGHT
BEGIN:STANDARD
TZOFFSETFROM:-0400
TZOFFSETTO:-0500
TZNAME:EST
DTSTART:20271107T060000
END:STANDARD
END:VTIMEZONE
BEGIN:VEVENT
DTSTART;TZID=UTC:20260815T090000
DTEND;TZID=UTC:20260815T110000
DTSTAMP:20260425T083751
CREATED:20260327T161302Z
LAST-MODIFIED:20260406T154845Z
UID:10001397-1786784400-1786791600@www.islandarts.org
SUMMARY:Maeve Kim Birdwalk Mud Creek
DESCRIPTION:Maeve Kim Bird Walk Mud CreekDate & Time: Saturday\, August 15\, 2026\, 9 am – 11 am\nLocation: Mud Creek Wildlife Management Area\, Alburgh\, VT\nInstructor: Maeve Kim \nTickets: $10\n\n“The Mud Creek WMA in Alburgh is one of Vermont’s premier birding spots. It might be a bit off the beaten path for many of us\, but it’s well worth the trip. Vermont eBird shows that the Mud Creek WMA “hotspot” has 173 species reported as of 2023. Some sought-after species are Virginia Rail\, Sora\, and Least Bittern.” – Bruce McPherson\, Green MT Bird Alliance\n  \nJoin Maeve Kim as she takes you through Mud Creek in search of birds inhabiting the WMA. \nPhoto courtesy of audubon.org \nMaeve Kim\, Instructor \nRegister NowPhoto courtesy of audubon.org\nBACK TO ALL CLASSES
URL:https://www.islandarts.org/event/maeve-kim-birdwalk-mud-creek/
LOCATION:Mud Creek WMA\, Mud Creek Rd\, Alburgh\, United States
CATEGORIES:Birding,Classes,Nature
ATTACH;FMTTYPE=image/jpeg:https://www.islandarts.org/wp-content/uploads/2022/04/yards-that-sing-SQ.jpg
END:VEVENT
BEGIN:VEVENT
DTSTART;TZID=America/New_York:20260828T200000
DTEND;TZID=America/New_York:20260828T220000
DTSTAMP:20260425T083751
CREATED:20260326T172211Z
LAST-MODIFIED:20260326T172211Z
UID:10001394-1787947200-1787954400@www.islandarts.org
SUMMARY:Spontaneous Evening Under the Stars - 2026
DESCRIPTION:Spontaneous Evening Under the StarsDate: Late August 2026 – announcement likely to be last minute\nWeather dependent\nLocation: Orchard Hill Observatory\, 70 Poor Farm Rd.\, Alburgh\nTickets: Free event \nThe Sky is full of surprises\, ready for you and your family to enjoy. As stargazing is weather-dependent\, if uncertain about the weather conditions for August 26th call 802-238-1664\, or email Joe Comeau (jkcomeau@hotmail.com) with the word “Stars” in the Subject line. \nSponsored by Island Arts and the Vermont Astronomical Society. \nFREE EVENT!Photo by Greg Rakozy on Unsplash
URL:https://www.islandarts.org/event/spontaneous-evening-under-the-stars-2026/
LOCATION:Orchard Hill Observatory\, 70 Poor Farm Rd.\, Alburgh\, VT
CATEGORIES:Events,Nature
ATTACH;FMTTYPE=image/jpeg:https://www.islandarts.org/wp-content/uploads/2022/02/under-the-stars-greg-rakozy-oMpAz-DN-9I-unsplash.jpg
END:VEVENT
END:VCALENDAR