BEGIN:VCALENDAR
VERSION:2.0
PRODID:-//Island Arts - ECPv6.15.20//NONSGML v1.0//EN
CALSCALE:GREGORIAN
METHOD:PUBLISH
X-ORIGINAL-URL:https://www.islandarts.org
X-WR-CALDESC:Events for Island Arts
REFRESH-INTERVAL;VALUE=DURATION:PT1H
X-Robots-Tag:noindex
X-PUBLISHED-TTL:PT1H
BEGIN:VTIMEZONE
TZID:America/New_York
BEGIN:DAYLIGHT
TZOFFSETFROM:-0500
TZOFFSETTO:-0400
TZNAME:EDT
DTSTART:20250309T070000
END:DAYLIGHT
BEGIN:STANDARD
TZOFFSETFROM:-0400
TZOFFSETTO:-0500
TZNAME:EST
DTSTART:20251102T060000
END:STANDARD
BEGIN:DAYLIGHT
TZOFFSETFROM:-0500
TZOFFSETTO:-0400
TZNAME:EDT
DTSTART:20260308T070000
END:DAYLIGHT
BEGIN:STANDARD
TZOFFSETFROM:-0400
TZOFFSETTO:-0500
TZNAME:EST
DTSTART:20261101T060000
END:STANDARD
BEGIN:DAYLIGHT
TZOFFSETFROM:-0500
TZOFFSETTO:-0400
TZNAME:EDT
DTSTART:20270314T070000
END:DAYLIGHT
BEGIN:STANDARD
TZOFFSETFROM:-0400
TZOFFSETTO:-0500
TZNAME:EST
DTSTART:20271107T060000
END:STANDARD
END:VTIMEZONE
BEGIN:VEVENT
DTSTART;TZID=America/New_York:20260805T090000
DTEND;TZID=America/New_York:20260805T150000
DTSTAMP:20260423T180026
CREATED:20251217T184417Z
LAST-MODIFIED:20260327T124325Z
UID:10000899-1785920400-1785942000@www.islandarts.org
SUMMARY:Peter Pan @ Island Arts
DESCRIPTION:THIS WEEKLONG CLASS/CAMP IS SOLD OUT\nDate: Monday August 3\, 2026 through Friday August 7\, 2026\nTime: 9 AM to 3 PM\nLocation: Island Arts US Rte. 2 North Hero VT 05474 \n\nPeter Pan\, a FREE Very Merry Theatre Camp at Island Arts in North Hero\, VT. \nLots of fun roles for everyone in this VMT original musical! Peter Pan is a live-action fairy-tale masterpiece about a mischievous young boy who can fly and never grows up. \nPeter spends his never-ending childhood having adventures on the island of Neverland as the leader of the Lost Boys\, interacting with fairies\, pirates\, mermaids\, island animals\, and sometimes ordinary children like the Darling Family and especially Wendy. \nThis is a weeklong camp from Monday August 3 – Friday August 7. \nIt will look like only one day in your Sawyer registration\, but you are enrolling for all five days\, Monday through Friday\, including the Friday performances. \n\n\n\nAugust 3-7\n9am-3pm daily\nFinal Fri performance at 1:30pm\nFREE\n\n\n\nFor more information on location\, visit https://www.islandarts.org/ \nNotes \n\n\nYou will receive a startup email from Don approximately one week before your program begins. \nPlease save and refer to your email order confirmation from Sawyer. It contains valuable information about your program\, plus a link to the full order on the Sawyer website. \nPlease refer to the order number in any related correspondence (including cancellation requests). \nSign up for the Very Merry Theatre email list at\nhttps://mailchi.mp/verymerrytheatre/very-merry-theatre-newsletter-mailing-list \nPlease explore other Very Merry Theatre programs for K-12 age children here:\nhttps://www.verymerrytheatre.org/programs\nSponsored by a generous grant from Senator Bernie Sanders. \nContact ben@verymerrytheatre.org if you have questions. \n\nSOLD OUT
URL:https://www.islandarts.org/event/peter-pan-island-arts/2026-08-05/
LOCATION:Island Arts Center\, 1127 US Rte 2\, North Hero\, 05474\, United States
CATEGORIES:Classes,Theatre
ATTACH;FMTTYPE=image/jpeg:https://www.islandarts.org/wp-content/uploads/2025/12/pp2.jpg
END:VEVENT
END:VCALENDAR