BEGIN:VCALENDAR
VERSION:2.0
PRODID:-//Island Arts - ECPv6.15.20//NONSGML v1.0//EN
CALSCALE:GREGORIAN
METHOD:PUBLISH
X-ORIGINAL-URL:https://www.islandarts.org
X-WR-CALDESC:Events for Island Arts
REFRESH-INTERVAL;VALUE=DURATION:PT1H
X-Robots-Tag:noindex
X-PUBLISHED-TTL:PT1H
BEGIN:VTIMEZONE
TZID:America/New_York
BEGIN:DAYLIGHT
TZOFFSETFROM:-0500
TZOFFSETTO:-0400
TZNAME:EDT
DTSTART:20240310T070000
END:DAYLIGHT
BEGIN:STANDARD
TZOFFSETFROM:-0400
TZOFFSETTO:-0500
TZNAME:EST
DTSTART:20241103T060000
END:STANDARD
BEGIN:DAYLIGHT
TZOFFSETFROM:-0500
TZOFFSETTO:-0400
TZNAME:EDT
DTSTART:20250309T070000
END:DAYLIGHT
BEGIN:STANDARD
TZOFFSETFROM:-0400
TZOFFSETTO:-0500
TZNAME:EST
DTSTART:20251102T060000
END:STANDARD
BEGIN:DAYLIGHT
TZOFFSETFROM:-0500
TZOFFSETTO:-0400
TZNAME:EDT
DTSTART:20260308T070000
END:DAYLIGHT
BEGIN:STANDARD
TZOFFSETFROM:-0400
TZOFFSETTO:-0500
TZNAME:EST
DTSTART:20261101T060000
END:STANDARD
END:VTIMEZONE
BEGIN:VEVENT
DTSTART;TZID=America/New_York:20250727T120000
DTEND;TZID=America/New_York:20250727T140000
DTSTAMP:20260424T053046
CREATED:20250424T204307Z
LAST-MODIFIED:20250708T181819Z
UID:10000707-1753617600-1753624800@www.islandarts.org
SUMMARY:Youthful Circle: Craft & Agriculture Day
DESCRIPTION:Youthful Circle Agricultural Craft Day\nDate & Time: Sunday\, July 27\, 2025; Noon to 2 PM\nLocation: Island Arts Center (barn)\, 1127 U.S. Rte. 2\, North Hero\, VT 05474\nTickets: Free admission. \nAn agricultural exploration and craft day for all Champlain Island Youth. Enjoy an ag-related book with hands-on activities. Instruction and supplies will be supplied for this event \nIsland Arts is excited to introduce the Youthful Circle program that begins this summer. This program consists of three free events that will take place at the Island Arts Center barn for kids of all ages and their families\, including parents and guardians that are feeling young at heart! \nSara Bullis\, a mail carrier and farmer from Grand Isle\, will be facilitating these family friendly events once a month beginning in June and if enjoyed more events will be offered next summer and throughout the year.  \nThe Youthful Circle events for this 2025 summer are two family movie nights at the barn on Friday June 27th and August 1st at 6pm\, and an Agricultural Craft Day on Sunday\, July 27th from 12-2pm with collaboration from the Grand Isle County Farm Bureau.  \nEmail Sara Bullis at saragriswold112@gmail.com if you have any questions about I.A.’s Youthful Circle program.\nThank you!  \n**These are NOT chaperoned events – adults must stay with youth during the event**
URL:https://www.islandarts.org/event/youthful-circle-agriculture-day/
LOCATION:Island Arts Center\, 1127 US Rte 2\, North Hero\, 05474\, United States
CATEGORIES:Events,Youth
ATTACH;FMTTYPE=image/jpeg:https://www.islandarts.org/wp-content/uploads/2025/04/Ag-Craft-Day.jpeg
END:VEVENT
END:VCALENDAR