BEGIN:VCALENDAR
VERSION:2.0
PRODID:-//Island Arts - ECPv6.15.20//NONSGML v1.0//EN
CALSCALE:GREGORIAN
METHOD:PUBLISH
X-ORIGINAL-URL:https://www.islandarts.org
X-WR-CALDESC:Events for Island Arts
REFRESH-INTERVAL;VALUE=DURATION:PT1H
X-Robots-Tag:noindex
X-PUBLISHED-TTL:PT1H
BEGIN:VTIMEZONE
TZID:UTC
BEGIN:STANDARD
TZOFFSETFROM:+0000
TZOFFSETTO:+0000
TZNAME:UTC
DTSTART:20250101T000000
END:STANDARD
END:VTIMEZONE
BEGIN:VEVENT
DTSTART;TZID=UTC:20260706T090000
DTEND;TZID=UTC:20260706T120000
DTSTAMP:20260423T163238
CREATED:20260115T225641Z
LAST-MODIFIED:20260416T105253Z
UID:10001267-1783328400-1783339200@www.islandarts.org
SUMMARY:Film Camp LCATV: Lights\, Camera\, Action!
DESCRIPTION:Film Camp LCATV – Lights\, Camera\, ActionDate: Monday\, July 6 through Friday\, July 10\, 2026\, 9 AM to 12 PM\nLocation: Island Arts Center\, 1127 US Rt 2\, North Hero\, VT 05474\nTickets: FREE. Registration required. For youth 10 to 16 years old. \nJoin LCATV instructors in the Island Arts Center barn for a week of film-making activities. The camp meets Monday through Friday mornings in the Island Arts Center barn from 9 AM to noon. \nLearn basic camera techniques on our HD cameras\, and how to edit your projects on Adobe Premiere Pro editing software. Campers will also have instruction on how to use a green screen and a variety of microphones during the week. To round out the week\, campers will put their new skills to use by recreating a 2–4-minute scene from a blockbuster film\, as part of the Crowdsourced Cinema VT (https://www.mediafactory.org/crowdsourcedvt)\, a statewide collaborative film project (past films have included Star Wars and Jurassic Park…what will we recreate this year? Sign up and find out!). \nThis is a collaboration brought to you by Island Arts and Lake Champlain Access Television (LCATV). For more information you can contact Island Arts at 802-372-8889 or Stephanie at LCATV. \nSpace is limited to ten students maximum\, so sign up is required. Please sign up with Island Arts by calling 802-233-1725 or 802-372-8889. \nLCATV Camp RegistrationBACK TO ALL CLASSES
URL:https://www.islandarts.org/event/film-camp-lcatv-lights-camera-action-2/
LOCATION:Island Arts Center\, 1127 US Rte 2\, North Hero\, 05474\, United States
CATEGORIES:Classes,Youth
ATTACH;FMTTYPE=image/jpeg:https://www.islandarts.org/wp-content/uploads/2024/05/LCATV-Film-Camp-scaled.jpg
END:VEVENT
END:VCALENDAR