BEGIN:VCALENDAR
VERSION:2.0
PRODID:-//Island Arts - ECPv6.15.20//NONSGML v1.0//EN
CALSCALE:GREGORIAN
METHOD:PUBLISH
X-WR-CALNAME:Island Arts
X-ORIGINAL-URL:https://www.islandarts.org
X-WR-CALDESC:Events for Island Arts
REFRESH-INTERVAL;VALUE=DURATION:PT1H
X-Robots-Tag:noindex
X-PUBLISHED-TTL:PT1H
BEGIN:VTIMEZONE
TZID:Asia/Dubai
BEGIN:STANDARD
TZOFFSETFROM:+0400
TZOFFSETTO:+0400
TZNAME:+04
DTSTART:20230101T000000
END:STANDARD
END:VTIMEZONE
BEGIN:VEVENT
DTSTART;TZID=Asia/Dubai:20240529T160000
DTEND;TZID=Asia/Dubai:20240529T170000
DTSTAMP:20260425T115753
CREATED:20240430T195525Z
LAST-MODIFIED:20240601T135242Z
UID:10000469-1716998400-1717002000@www.islandarts.org
SUMMARY:Tai Chi
DESCRIPTION:Tai ChiDate and Time: Every Wednesday from May 29 – September 4\, 2024\, 4:00pm – 5:00pm\nInstructor: Rob Rousseau\nLocation: Island Arts Center\, 1127 U.S. Rte. 2\, N. Hero\nTickets: Free\, Donations to Island Arts appreciated\nPlease call for more information and prior to joining 2023 classes by calling Rob Rousseau at 802-373-0947 \nJoin us in Tai Chi for health and relaxation. New students are always welcome.Tai Chi is\, literally\, the connecting of individual energy to the universe energy through a series of movements. Moving simply and letting go of our own blocks allows Chi\, or energy\, to flow. \nQiGong is a method of movement from which Tai Chi and a plethora of other movements have evolved. \nClasses held outside weather permitting; otherwise\, class will move inside the barn. \nClasses are also held every Monday\, Wednesday\, and Friday at 9:00 am\, and every Tuesday\, and Thursday at 4:00 pm at the South Congregational Church 24 South St. in South Hero\, VT. \nBACK TO ALL CLASSES
URL:https://www.islandarts.org/event/tai-chi-2-2/
LOCATION:Isle LaMotte Town Hall Community Room\, Isle LaMotte\, VT 05463\, 67 Church St.\, Isle LaMotte\, VT\, 05463\, United States
CATEGORIES:Classes,Free Classes,Health & Wellness
ATTACH;FMTTYPE=image/jpeg:https://www.islandarts.org/wp-content/uploads/2022/01/Tai-Chi-at-Island-Arts.jpg
END:VEVENT
END:VCALENDAR